Workbook
Name 봉: [1]Sheet5!$A$2:$C$244
Name 정봉준씨: #REF!
Name 정봉준씨: #REF!
Name 정봉준씨: #REF!
Name 제출: #REF!
Name 제출: #REF!
Name 제출: #REF!
Name 추가: #REF!
Name 추가: #REF!
Name 추가: #REF!

Sheet 전자조달규모(2022년)(제출)
A1: 2022년 전자조달규모
A3: □ 2022년 전자조달규모 (계약체결 완료 기준)
F4: (단위 : 건 / 원)
A5: 구 분 | B5: 1분기 | C5: 2분기 | D5: 3분기 | E5: 4분기 | F5: 연 간
A6: 건 수 | B6: ='2022년 전사 추가'!B5+'2022년 종합쇼핑몰 전사 추가'!B5 -> 85 | C6: =+'2022년 전사 추가'!B6+'2022년 종합쇼핑몰 전사 추가'!B6 -> 139 | D6: =+'2022년 전사 추가'!B7+'2022년 종합쇼핑몰 전사 추가'!B7 -> 85 | E6: =+'2022년 전사 추가'!B8+'2022년 종합쇼핑몰 전사 추가'!B8 -> 113 | F6: =SUM(B6:E6) -> 422
A7: 금 액 | B7: =+'2022년 전사 추가'!C5+'2022년 종합쇼핑몰 전사 추가'!C5 -> 25973988841 | C7: =+'2022년 전사 추가'!C6+'2022년 종합쇼핑몰 전사 추가'!C6 -> 39780020621 | D7: =+'2022년 전사 추가'!C7+'2022년 종합쇼핑몰 전사 추가'!C7 -> 13066223302 | E7: =+'2022년 전사 추가'!C8+'2022년 종합쇼핑몰 전사 추가'!C8 -> 34172837482 | F7: =SUM(B7:E7) -> 112993070246
A8: * 2022년 전자조달 건수는 전년 대비 소폭 감소하였으나('21년 441건 → '22년 422건, 4% ↓),
A9: 금액은 종합심사낙찰제 대상 대형공사(2건) 계약체결로 전년 대비 대폭 상승함('21년 846억원 → '22년 1,130억원, 34% ↑)
A12: □ 참고 : 연도별 전자조달 규모

Sheet 전자조달규모(2022년)(편집)
A1: 2022년 전자조달규모
A3: □ 2022년 전자조달규모 (계약체결 완료 기준)
F4: (단위 : 건 / 원)
A5: 구 분 | B5: 1분기 | C5: 2분기 | D5: 3분기 | E5: 4분기 | F5: 연 간
A6: 건 수 | B6: ='2022년 전사 추가'!B5+'2022년 종합쇼핑몰 전사 추가'!B5 -> 85 | C6: =+'2022년 전사 추가'!B6+'2022년 종합쇼핑몰 전사 추가'!B6 -> 139 | D6: =+'2022년 전사 추가'!B7+'2022년 종합쇼핑몰 전사 추가'!B7 -> 85 | E6: =+'2022년 전사 추가'!B8+'2022년 종합쇼핑몰 전사 추가'!B8 -> 113 | F6: =SUM(B6:E6) -> 422
A7: 금 액 | B7: =+'2022년 전사 추가'!C5+'2022년 종합쇼핑몰 전사 추가'!C5 -> 25973988841 | C7: =+'2022년 전사 추가'!C6+'2022년 종합쇼핑몰 전사 추가'!C6 -> 39780020621 | D7: =+'2022년 전사 추가'!C7+'2022년 종합쇼핑몰 전사 추가'!C7 -> 13066223302 | E7: =+'2022년 전사 추가'!C8+'2022년 종합쇼핑몰 전사 추가'!C8 -> 34172837482 | F7: =SUM(B7:E7) -> 112993070246
A8: * 2022년 전자조달 건수는 전년 대비 소폭 감소하였으나('21년 441건 → '22년 422건, 4% ↓),
A9: 금액은 종합심사낙찰제 대상 대형공사(2건) 진행으로 전년 대비 대폭 상승함('21년 846억원 → '22년 1,130억원, 34% ↑)
A12: □ 참고 : 연도별 전자조달 규모
G18: 년도 | H18: 2003 | I18: =H18+1 -> 2004 | J18: =I18+1 -> 2005 | K18: =J18+1 -> 2006 | L18: =K18+1 -> 2007 | M18: =L18+1 -> 2008 | N18: =M18+1 -> 2009 | O18: =N18+1 -> 2010 | P18: =O18+1 -> 2011 | ... AA18: =Z18+1 -> 2022
G19: 조달건수 | H19: 48 | I19: 49 | J19: 61 | K19: 87 | L19: 127 | M19: 269 | N19: 396 | O19: 284 | P19: 532 | Q19: 502 | R19: 501 | S19: 497 | T19: 379 | U19: 342 | V19: 460 | W19: 389 | X19: 518 | Y19: 542 | Z19: 441 | AA19: =F6 -> 422 | AC19: =(AA19-Z19)/Z19 -> -0.0430839
G20: 조달금액 | H20: 10401 | I20: 6658 | J20: 7971 | K20: 24581 | L20: 31619 | M20: 118588 | N20: 177490 | O20: 104531 | P20: 94282 | Q20: 115421 | R20: 162789 | S20: 155653 | T20: 301605 | U20: 144238 | V20: 185910 | W20: 82553 | X20: 144580 | Y20: 85067 | Z20: 84552 | AA20: =F7/1000000 -> 112993.07 | AC20: =(AA20-Z20)/Z20 -> 0.33637371

Sheet 완료된계약(전사, 210101~211231)
A1: □ 전자조달시스템 조달내역
A2: * 작성기준 1) 대상기간 : 2021.01.01. ~ 2021.12.31. (계약일자 기준) 2) 전자조달시스템을 통한 전자계약 3) 최초 계약 기준(계약변경 미반영) 4) 장기계속계약은 연차별 계약이 2021년에 체결된 것만 포함
A4: 구분 | B4: 건수 | C4: 계약금액 (원)
A5: 1분기 | B5: 84 | C5: =SUM(G12:G95) -> 30164423991
A6: 2분기 | B6: 101 | C6: =SUM(G96:G196) -> 22663659665
A7: 3분기 | B7: 62 | C7: =SUM(G197:G258) -> 6815496332
A8: 4분기 | B8: 130 | C8: =SUM(G259:G388) -> 22098615456
A9: 합계 | B9: =SUM(B5:B8) -> 377 | C9: =SUM(C5:C8) -> 81742195444
A11: 순번 | B11: 계약일자 | C11: 분기 | D11: 계약명 | E11: 공동도급 | F11: 계약상대자(대표사, 구성원) | G11: 계약금액 | H11: 계약금액(총괄분) | I11: 계약기간 | J11: 계약기간(총괄분) | K11: 담당부서 | L11: 업무구분 | M11: 계약방법 | N11: 낙찰자선정방법 | O11: 계약번호
A12: 1 | B12: 2021.01.01 | C12: 1 | D12: 2021년도 법률규정시스템 유지관리 | E12: 단독 | F12: 나라아이넷(주) | G12: 6490000 | I12: 2021.01.01 ~ 2021.12.31 | K12: 스마트데이터센터 | O12: 4100060856-001
A13: 2 | B13: 2021.01.01 | C13: 1 | D13: 2021년도 제안관리시스템 유지관리 | E13: 단독 | F13: 주식회사 다모넷 | G13: 6597800 | I13: 2021.01.01 ~ 2021.12.31 | K13: 스마트데이터센터 | O13: 4100060857-001
A14: 3 | B14: 2021.01.01 | C14: 1 | D14: 2021년도 통합검색시스템 유지관리 | E14: 단독 | F14: (주)와이즈넛 | G14: 7443700 | I14: 2021.01.01 ~ 2021.12.31 | K14: 스마트데이터센터 | O14: 4100060858-001
A15: 4 | B15: 2021.01.01 | C15: 1 | D15: 2021년도 기록관리시스템 유지관리 | E15: 단독 | F15: 네이버시스템 주식회사 | G15: 3297800 | I15: 2021.01.01 ~ 2021.12.31 | K15: 스마트데이터센터 | O15: 4100060859-001
A16: 5 | B16: 2021.01.01 | C16: 1 | D16: 업무용차량 장기임차(렌트) 용역 | E16: 단독 | F16: 롯데렌탈(주) | G16: 8940000 | I16: 2021.01.01 ~ 2021.12.31 | K16: 서산지사 | O16: 4100061120-001
A17: 6 | B17: 2021.01.01 | C17: 1 | D17: 2021년도 통합인증시스템(SSO) 유지관리 용역 | E17: 단독 | F17: 이니텍(주) | G17: 33220000 | I17: 2021.01.01 ~ 2021.12.31 | K17: 총무처 조달팀 | L17: 일반용역 | M17: 수의계약(비공개) | N17: 수의 | O17: 4100061147-001
A18: 7 | B18: 2021.01.01 | C18: 1 | D18: 2021년도 그룹웨어시스템 유지관리 용역 | E18: 단독 | F18: (주)나눔기술 | G18: 244208448 | I18: 2021.01.01 ~ 2021.12.31 | K18: 총무처 조달팀 | L18: 일반용역 | M18: 수의계약(비공개) | N18: 수의 | O18: 4100061149-001
A19: 8 | B19: 2021.01.01 | C19: 1 | D19: 2021년도 석유개발 IT자원 통합관리시스템 유지관리 | E19: 단독 | F19: (주)클루닉스 | G19: 139740000 | I19: 2021.01.01 ~ 2021.12.31 | K19: 총무처 조달팀 | L19: 일반용역 | M19: 수의계약(비공개) | N19: 수의 | O19: 4100061151-001
A20: 9 | B20: 2021.01.01 | C20: 1 | D20: 2021년도 협업시스템(COP) 유지관리 | E20: 단독 | F20: 주식회사 날리지큐브 | G20: 16500000 | I20: 2021.01.01 ~ 2021.12.31 | K20: 스마트데이터센터 | L20: 일반용역 | M20: 수의계약(비공개) | N20: 수의 | O20: 4100061008-001
A21: 10 | B21: 2021.01.01 | C21: 1 | D21: 2021년도 통합커뮤니케이션(UC) 유지관리 | E21: 단독 | F21: 주식회사 이지닉스 | G21: 25700400 | I21: 2021.01.01 ~ 2021.12.31 | K21: 스마트데이터센터 | L21: 일반용역 | M21: 수의계약(비공개) | N21: 수의 | O21: 4100061018-001
A22: 11 | B22: 2021.01.01 | C22: 1 | D22: 2021년 비축지사 경비용역 | E22: 단독 | F22: (주)케이비에스시큐리티 | G22: 16639746043 | I22: 2021.01.01 ~ 2021.12.31 | K22: 총무처 조달팀 | L22: 일반용역 | M22: 일반경쟁 | N22: 적격심사 | O22: 4100061042-001
A23: 12 | B23: 2021.01.01 | C23: 1 | D23: 2021년도 전자조달시스템 유지관리 용역 | E23: 단독 | F23: (주)이노가드 | G23: 133753872 | I23: 2021.01.01 ~ 2021.12.31 | K23: 총무처 조달팀 | L23: 일반용역 | M23: 수의계약(비공개) | N23: 수의 | O23: 4100061082-001
A24: 13 | B24: 2021.01.01 | C24: 1 | D24: 2021년 거제지사 승강기점검 및 유지보수용역 | E24: 단독 | F24: 주식회사 타워엘리베이터 | G24: 7081800 | I24: 2021.01.01 ~ 2021.12.31 | K24: 거제지사 | L24: 기술용역 | M24: 수의계약(비공개) | N24: 수의 | O24: 4100061227-001
A25: 14 | B25: 2021.01.01 | C25: 1 | D25: 2021년도 거제지사 CCTV 유지보수용역 | E25: 단독 | F25: 주식회사 중부보안 | G25: 10670000 | I25: 2021.01.01 ~ 2021.12.31 | K25: 거제지사 | L25: 기술용역 | M25: 수의계약(비공개) | N25: 수의 | O25: 4100061195-001
A26: 15 | B26: 2021.01.01 | C26: 1 | D26: 2021년도 TLG 모니터링 시스템 유지관리 | E26: 단독 | F26: 이지소프트주식회사 | G26: 24987600 | I26: 2021.01.01 ~ 2021.12.31 | K26: 스마트데이터센터 | L26: 일반용역 | M26: 수의계약(비공개) | N26: 수의 | O26: 4100061204-001
A27: 16 | B27: 2021.01.01 | C27: 1 | D27: 2021년도 XPLATFORM 및 UBI REPORT 유지관리 | E27: 단독 | F27: (주)유비디시전 | G27: 13700000 | I27: 2021.01.01 ~ 2021.12.31 | K27: 스마트데이터센터 | L27: 일반용역 | M27: 수의계약(비공개) | N27: 수의 | O27: 4100061205-001
A28: 17 | B28: 2021.01.01 | C28: 1 | D28: 울산 BUOY 이설공사 사후환경영향조사용역(2021년도) | E28: 공동이행 | F28: 주식회사 서영엔지니어링 | G28: 178780000 | H28: 893900000 | I28: 2021.01.01 ~ 2021.12.31 | J28: 2018.12.10 ~ 2023.12.10 | K28: 총무처 조달팀 | O28: 4100061288-001
A29: 18 | B29: 2021.01.01 | C29: 1 | D29: 2021년도 서산지사 보건관리 위탁 용역 | E29: 단독 | F29: 주식회사미래보건환경연구소 | G29: 5760000 | I29: 2021.01.01 ~ 2021.12.31 | K29: 서산지사 | O29: 4100061298-001
A30: 19 | B30: 2021.01.04 | C30: 1 | D30: 2021년도 GPFS 시스템 유지관리 | E30: 단독 | F30: 모아시스 주식회사 | G30: 15700000 | I30: 2021.01.01 ~ 2021.12.31 | K30: 스마트데이터센터 | L30: 일반용역 | M30: 수의계약(비공개) | N30: 수의 | O30: 4100061113-001
A31: 20 | B31: 2021.01.04 | C31: 1 | D31: 2021년 DB접근제어 솔루션 유지관리 | E31: 단독 | F31: 주식회사우경정보기술 | G31: 2208360 | I31: 2021.01.01 ~ 2021.12.31 | K31: 스마트데이터센터 | O31: 4100061124-001
A32: 21 | B32: 2021.01.05 | C32: 1 | D32: 지정악취 측정 용역 | E32: 단독 | F32: (주)한국종합공해시험연구소 | G32: 8800000 | I32: 2021.01.05 ~ 2021.02.03 | K32: 서산지사 | O32: 4100061119-001
A33: 22 | B33: 2021.01.06 | C33: 1 | D33: 2021년 방재창고 및 전기실 보안서비스 용역 | E33: 단독 | F33: 주식회사 에스원 | G33: 2400000 | I33: 2021.01.01 ~ 2021.12.31 | K33: 울산지사 | O33: 4100061132-001
A34: 23 | B34: 2021.01.11 | C34: 1 | D34: 2021년 CCTV 시스템 유지보수 용역 | E34: 단독 | F34: 주식회사 중부보안 | G34: 9900000 | I34: 2021.01.11 ~ 2021.12.31 | K34: 구리지사 | L34: 일반용역 | M34: 수의계약(비공개) | N34: 수의 | O34: 4100061183-001
A35: 24 | B35: 2021.01.14 | C35: 1 | D35: 2020년도 성과지표 운영방안 수립 용역 | E35: 단독 | F35: 삼정회계법인 | G35: 148500000 | I35: 2021.01.14 ~ 2021.05.13 | K35: 총무처 조달팀 | L35: 일반용역 | M35: 일반경쟁 | N35: 협상(종합평가) | O35: 4100061207-001
A36: 25 | B36: 2021.01.18 | C36: 1 | D36: 연구위원 근무공간(중회의실) 바닥 개선공사 | E36: 단독 | F36: 옥성건영(주) | G36: 6690000 | I36: 2021.01.18 ~ 2021.02.14 | K36: 구리지사 | L36: 시설공사 | M36: 수의계약(비공개) | N36: 수의 | O36: 4100061244-001
A37: 26 | B37: 2021.01.18 | C37: 1 | D37: 2021년 배출수 수질분석 용역 | E37: 단독 | F37: (주)한국종합공해시험연구소 | G37: 7018704 | I37: 2021.01.18 ~ 2021.12.31 | K37: 구리지사 | L37: 일반용역 | M37: 수의계약(비공개) | N37: 수의 | O37: 4100061245-001
A38: 27 | B38: 2021.01.18 | C38: 1 | D38: 2021년 오수처리시설 관리용역 | E38: 단독 | F38: (주)동산환경 | G38: 6600000 | I38: 2021.01.18 ~ 2021.12.31 | K38: 평택지사 | L38: 일반용역 | M38: 수의계약(비공개) | N38: 수의 | O38: 4100061249-001
A39: 28 | B39: 2021.01.22 | C39: 1 | D39: 평택지사 건축물 내진보강공사 건축 실시설계 용역 | E39: 단독 | F39: 플랜지 건축사 사무소 | G39: 10450000 | I39: 2021.01.22 ~ 2021.02.26 | K39: 평택지사 | L39: 기술용역 | M39: 수의계약(비공개) | N39: 수의 | O39: 4100061330-001
A40: 29 | B40: 2021.01.22 | C40: 1 | D40: 2021년 방호과학화장비 유지보수용역 | E40: 단독 | F40: 광주경보시스템 | G40: 10967000 | I40: 2021.02.01 ~ 2021.12.31 | K40: 곡성지사 | O40: 4100061336-001
A41: 30 | B41: 2021.01.25 | C41: 1 | D41: 무정전 전원장치(UPS) 축전지 구매(설치포함) | E41: 단독 | F41: (주)세방산전 | G41: 10538000 | I41: 2021.01.25 ~ 2021.02.23 | K41: 구리지사 | L41: 물품구매 | M41: 수의계약(비공개) | N41: 수의 | O41: 4100061328-001
A42: 31 | B42: 2021.01.25 | C42: 1 | D42: 품질관리실 GC장비용 캐리어 가스 구매 | E42: 단독 | F42: 주식회사 모던 | G42: 13455570 | I42: 2021.01.27 ~ 2021.12.31 | K42: 가스전관리사무소 | L42: 물품구매 | M42: 소액수의(견적입찰) | N42: 최저가(낙찰하한율) | O42: 4100061354-001
A43: 32 | B43: 2021.01.27 | C43: 1 | D43: PROCESS지역 B/F VALVE(20,24인치) 보수공사 | E43: 단독 | F43: (주)유성 | G43: 10670000 | I43: 2021.01.27 ~ 2021.02.20 | K43: 서산지사 | O43: 4100061385-001
A44: 33 | B44: 2021.01.27 | C44: 1 | D44: 휘발유탱크(T-103, T-104) 내부압력감시 압력트랜스미터 설치공사 | E44: 단독 | F44: 케이에프시스템주식회사 | G44: 6775494 | I44: 2021.01.27 ~ 2021.03.12 | K44: 곡성지사 | O44: 4100061374-001
A45: 34 | B45: 2021.01.28 | C45: 1 | D45: 자력식 감지장치 모니터링 설비(E-MAP) 보수공사 | E45: 단독 | F45: (주)한신테크 | G45: 7524000 | I45: 2021.01.29 ~ 2021.02.27 | K45: 여수지사 | L45: 시설공사 | M45: 수의계약(비공개) | N45: 수의 | O45: 4100061396-001
A46: 35 | B46: 2021.01.28 | C46: 1 | D46: 해상플랫폼 노후배관(MEG PKG/경유배관) 긴급교체 작업 | E46: 단독 | F46: 동일산업(주) | G46: 31200000 | I46: 2021.01.29 ~ 2021.02.19 | K46: 가스전관리사무소 | L46: 시설공사 | M46: 수의계약(비공개) | N46: 수의 | O46: 4100061398-001
A47: 36 | B47: 2021.01.29 | C47: 1 | D47: 2021년 거제지사 통근버스 임차용역 | E47: 단독 | F47: 거제시티투어 (주) | G47: 76777000 | I47: 2021.02.01 ~ 2022.01.31 | K47: 총무처 조달팀 | L47: 일반용역 | M47: 제한경쟁 | N47: 적격심사 | O47: 4100061390-001
A48: 37 | B48: 2021.01.29 | C48: 1 | D48: 거제비축기지 원유배관 교체공사 | E48: 단독 | F48: 삼환기업(주) | G48: 5364700000 | H48: 9338076110 | I48: 2021.01.29 ~ 2021.12.31 | J48: 2021.01.29 ~ 2022.07.28 | K48: 총무처 조달팀 | L48: 시설공사 | M48: 제한경쟁 | N48: 적격심사 | O48: 4100061333-001
A49: 38 | B49: 2021.02.01 | C49: 1 | D49: 2021년도 대기오염물질 자가측정 용역 | E49: 단독 | F49: (주)한국종합공해시험연구소 | G49: 202946700 | I49: 2021.02.01 ~ 2021.12.31 | K49: 총무처 조달팀 | L49: 기술용역 | M49: 제한경쟁 | N49: 적격심사 | O49: 4100061433-001
A50: 39 | B50: 2021.02.01 | C50: 1 | D50: 2021년 비축지사 예방점검시스템 시각화 기능구현 | E50: 단독 | F50: 주식회사이수시스템 | G50: 9800000 | I50: 2021.02.01 ~ 2021.03.08 | K50: 1_전자조달시스템 관리 | O50: 4100061381-001
A51: 40 | B51: 2021.02.02 | C51: 1 | D51: 단신부임 직원숙소 벽지.장판 교체 등 시설 보수작업 | E51: 단독 | F51: 수인테리어 | G51: 9801000 | I51: 2021.02.02 ~ 2021.02.21 | K51: 울산지사 | O51: 4100061434-001
A52: 41 | B52: 2021.02.02 | C52: 1 | D52: [재입찰]유압 FLANGE SPREADER KIT 구매 | E52: 단독 | F52: 이루시스 | G52: 8525000 | I52: 2021.02.02 ~ 2021.03.03 | K52: 거제지사 | L52: 물품구매 | M52: 수의계약(비공개) | N52: 수의 | O52: 4100061408-001
A53: 42 | B53: 2021.02.02 | C53: 1 | D53: 2021년 방호과학화장비 유지보수용역 | E53: 단독 | F53: 두영정보통신 | G53: 9790000 | I53: 2021.02.02 ~ 2021.12.31 | K53: 평택지사 | L53: 일반용역 | M53: 수의계약(비공개) | N53: 수의 | O53: 4100061427-001
A54: 43 | B54: 2021.02.04 | C54: 1 | D54: 2021년 육상 PROCESS BACK-UP용 액체질소 구매 | E54: 단독 | F54: 에어프로덕츠코리아 주식회사 | G54: 15642000 | I54: 2021.02.08 ~ 2021.12.31 | K54: 가스전관리사무소 | L54: 물품구매 | M54: 수의계약(비공개) | N54: 수의 | O54: 4100061460-001
A55: 44 | B55: 2021.02.08 | C55: 1 | D55: 2021년 개방형 계약직 공개채용 대행용역 | E55: 단독 | F55: 비에스상사 | G55: 16849440 | I55: 2021.02.08 ~ 2021.06.07 | K55: 총무처 조달팀 | L55: 일반용역 | M55: 제한경쟁 | N55: 적격심사 | O55: 4100061447-001
A56: 45 | B56: 2021.02.09 | C56: 1 | D56: 폐수처리설비 활성탄 및 안트라사이트 등 여재(B라인) 교체 | E56: 단독 | F56: 하나그린(주) | G56: 13700000 | I56: 2021.02.09 ~ 2021.03.20 | K56: 울산지사 | L56: 시설공사 | M56: 소액수의(견적입찰) | N56: 최저가(낙찰하한율) | O56: 4100061461-001
A57: 46 | B57: 2021.02.09 | C57: 1 | D57: 2차 소방펌프실 폼탱크 BLADDER BAG 교체공사 | E57: 단독 | F57: 신라파이어 주식회사 | G57: 10725000 | I57: 2021.02.09 ~ 2021.03.20 | K57: 거제지사 | L57: 시설공사 | M57: 수의계약(비공개) | N57: 수의 | O57: 4100061477-001
A58: 47 | B58: 2021.02.10 | C58: 1 | D58: 2021년 유튜브 영상콘텐츠 제작용역 | E58: 단독 | F58: 한그루필름 주식회사 | G58: 39600000 | I58: 2021.02.10 ~ 2021.12.31 | K58: 총무처 조달팀 | L58: 일반용역 | M58: 수의계약(비공개) | N58: 수의 | O58: 4100061503-001
A59: 48 | B59: 2021.02.15 | C59: 1 | D59: 2021년 상반기 MTN프로그램 업데이트 관련 회계용역 | E59: 단독 | F59: 한영회계법인 | G59: 187990000 | I59: 2021.02.15 ~ 2021.05.15 | K59: 총무처 조달팀 | L59: 일반용역 | M59: 수의계약(비공개) | N59: 수의 | O59: 4100061521-001
A60: 49 | B60: 2021.02.17 | C60: 1 | D60: 2021년 소방시설 종합정밀점검 | E60: 단독 | F60: 주식회사 스마트방재 | G60: 6138000 | I60: 2021.02.17 ~ 2021.03.18 | K60: 평택지사 | L60: 일반용역 | M60: 수의계약(비공개) | N60: 수의 | O60: 4100061563-001
A61: 50 | B61: 2021.02.17 | C61: 1 | D61: 주변전실 이산화탄소 감지기 설치공사 | E61: 단독 | F61: 주식회사 가스트론 | G61: 10582000 | I61: 2021.02.17 ~ 2021.04.07 | K61: 거제지사 | L61: 시설공사 | M61: 수의계약(비공개) | N61: 수의 | O61: 4100061528-001
A62: 51 | B62: 2021.02.17 | C62: 1 | D62: [재입찰]2021년 방호과학화설비 점검 및 보수용역 | E62: 단독 | F62: (주)퓨처아이스 | G62: 10340000 | I62: 2021.03.01 ~ 2021.12.31 | K62: 여수지사 | L62: 기술용역 | M62: 수의계약(비공개) | N62: 수의 | O62: 4100061558-001
A63: 52 | B63: 2021.02.19 | C63: 1 | D63: 2021년도 소방시설 종합정밀점검 용역 | E63: 단독 | F63: (주)에이스방재 | G63: 6995000 | I63: 2021.02.19 ~ 2021.03.10 | K63: 거제지사 | L63: 기술용역 | M63: 수의계약(비공개) | N63: 수의 | O63: 4100061564-001
... A67: 56 | B67: 2021.02.24 | C67: 1 | D67: 방호용 CCTV NVR 구매 설치 | E67: 단독 | F67: 두영정보통신 | G67: 10340000 | I67: 2021.02.24 ~ 2021.03.17 | K67: 평택지사 | L67: 물품구매 | M67: 수의계약(비공개) | N67: 수의 | O67: 4100061627-001
A68: 57 | B68: 2021.02.24 | C68: 1 | D68: 2021년 정수기 및 비데 렌탈.멤버쉽 유지보수 | E68: 단독 | F68: 코웨이 주식회사 | G68: 3280270 | I68: 2021.03.01 ~ 2022.02.28 | K68: 울산지사 | O68: 4100061638-001
A69: 58 | B69: 2021.02.25 | C69: 1 | D69: 곡성지사 전기동 외벽보수 및 도장공사 | E69: 단독 | F69: 대영개발(주) | G69: 12980000 | I69: 2021.02.25 ~ 2021.03.11 | K69: 곡성지사 | L69: 시설공사 | M69: 수의계약(비공개) | N69: 수의 | O69: 4100061650-001
A70: 59 | B70: 2021.02.25 | C70: 1 | D70: 방유제(내부, 법면 및 도로 옆 평지) 제초제 살포작업 | E70: 단독 | F70: 시민종합조경 주식회사 | G70: 10871520 | I70: 2021.03.02 ~ 2021.03.19 | K70: 서산지사 | O70: 4100061658-001
A71: 60 | B71: 2021.02.26 | C71: 1 | D71: 2021년도 평택지사 안전밸브 정기검사 용역 | E71: 단독 | F71: 주식회사 에스앰 (SM Co.,LTD) | G71: 34680000 | I71: 2021.02.26 ~ 2021.05.17 | K71: 평택지사 | L71: 일반용역 | M71: 제한경쟁 | N71: 적격심사 | O71: 4100061617-001
A72: 61 | B72: 2021.02.26 | C72: 1 | D72: 2021년 가스전운영사무소 경비용역 | E72: 단독 | F72: 주식회사 맨투맨써비스 | G72: 923503741 | I72: 2021.03.01 ~ 2022.02.28 | K72: 총무처 조달팀 | L72: 일반용역 | M72: 제한경쟁 | N72: 적격심사 | O72: 4100061646-001
A73: 62 | B73: 2021.03.11 | C73: 1 | D73: 스마트워크 시범층(20층) 인테리어 개선공사 | E73: 단독 | F73: 월드씨앤알(주) | G73: 86853000 | I73: 2021.03.11 ~ 2021.04.08 | K73: 총무처 조달팀 | L73: 시설공사 | M73: 소액수의(견적입찰) | N73: 최저가(낙찰하한율) | O73: 4100061714-001
A74: 63 | B74: 2021.03.15 | C74: 1 | D74: 2021년 평택지사 제품탱크 보수공사 | E74: 단독 | F74: 동일산업(주) | G74: 315520539 | I74: 2021.03.15 ~ 2021.12.30 | K74: 총무처 조달팀 | O74: 4100061781-001
A75: 64 | B75: 2021.03.15 | C75: 1 | D75: 스마트워크 시범층(20층) 가구(비품) 및 OA 부자재 구매 | E75: 단독 | F75: 주식회사 제이퍼스 | G75: 42000000 | I75: 2021.03.15 ~ 2021.04.30 | K75: 총무처 조달팀 | L75: 물품구매 | M75: 수의계약(비공개) | N75: 수의 | O75: 4100061796-001
A76: 65 | B76: 2021.03.15 | C76: 1 | D76: VRU시설 주변 옥외소화전설비 설치 실시설계 용역 | E76: 단독 | F76: 주식회사 토탈방재 | G76: 7700000 | I76: 2021.03.15 ~ 2021.04.05 | K76: 평택지사 | L76: 기술용역 | M76: 수의계약(비공개) | N76: 수의 | O76: 4100061756-001
A77: 66 | B77: 2021.03.16 | C77: 1 | D77: 산지소화전 주배관 밸브 개선관련 전동구동장치 구매 | E77: 단독 | F77: 주식회사 에너토크 | G77: 8213700 | I77: 2021.03.16 ~ 2021.06.30 | K77: 평택지사 | L77: 물품구매 | M77: 수의계약(비공개) | N77: 수의 | O77: 4100061772-001
A78: 67 | B78: 2021.03.17 | C78: 1 | D78: 2021년도 평택지사 제품탱크 도장공사 | E78: 단독 | F78: 소명건설 | G78: 246048950 | I78: 2021.03.17 ~ 2021.12.31 | K78: 총무처 조달팀 | O78: 4100061809-001
A79: 68 | B79: 2021.03.18 | C79: 1 | D79: 여수지사 T-103공동 삼출수 펌프 및 배관 교체공사 | E79: 단독 | F79: (주)신우이엔지 | G79: 54969540 | I79: 2021.03.19 ~ 2021.07.19 | K79: 여수지사 | L79: 시설공사 | M79: 제한경쟁 | N79: 적격심사 | O79: 4100061820-001
A80: 69 | B80: 2021.03.22 | C80: 1 | D80: 곡성지사 밀도계 구매 | E80: 단독 | F80: 리테크상사 | G80: 16720000 | I80: 2021.03.22 ~ 2021.08.08 | K80: 곡성지사 | L80: 물품구매 | M80: 수의계약(비공개) | N80: 수의 | O80: 4100061804-001
A81: 70 | B81: 2021.03.22 | C81: 1 | D81: 해상플랫폼 디젤비상발전기 엔진 보수용 자재 구매 | E81: 단독 | F81: 주식회사 혜인 | G81: 17729000 | I81: 2021.03.22 ~ 2021.04.30 | K81: 가스전관리사무소 | L81: 물품구매 | M81: 수의계약(비공개) | N81: 수의 | O81: 4100061805-001
A82: 71 | B82: 2021.03.23 | C82: 1 | D82: 2021년도 평택지사 제품탱크 비파괴검사용역 | E82: 단독 | F82: 주식회사 금가 | G82: 106377700 | I82: 2021.03.23 ~ 2021.12.27 | K82: 총무처 조달팀 | L82: 기술용역 | M82: 일반경쟁 | N82: 적격심사 | O82: 4100061828-001
A83: 72 | B83: 2021.03.24 | C83: 1 | D83: 여수지사 지하공동 레벨게이지 예비품 구매 | E83: 단독 | F83: 월드 트래이딩 | G83: 28930000 | I83: 2021.03.25 ~ 2021.07.26 | K83: 여수지사 | L83: 물품구매 | M83: 수의계약(비공개) | N83: 수의 | O83: 4100061889-001
A84: 73 | B84: 2021.03.24 | C84: 1 | D84: 2021년도 ESRI사 석유개발 SW 유지보수 | E84: 단독 | F84: 주식회사 한국에스리 | G84: 6864000 | I84: 2021.01.01 ~ 2021.12.31 | K84: 기술개발실 | O84: 4100061890-001
A85: 74 | B85: 2021.03.24 | C85: 1 | D85: 2021년도 UIT사 석유개발 SW 유지보수 | E85: 단독 | F85: (주)유아이티 | G85: 5500000 | I85: 2021.04.01 ~ 2022.03.31 | K85: 기술개발실 | O85: 4100061892-001
A86: 75 | B86: 2021.03.25 | C86: 1 | D86: 2021년 공사창립 기념품 구매 대행 용역 | E86: 단독 | F86: 주식회사 제이코스 | G86: 129310000 | I86: 2021.03.25 ~ 2021.05.23 | K86: 총무처 조달팀 | L86: 일반용역 | M86: 수의계약(비공개) | N86: 수의 | O86: 4100061859-001
A87: 76 | B87: 2021.03.25 | C87: 1 | D87: [재입찰]곡성지사 지진가속도계 시스템용 기록계 구매 | E87: 단독 | F87: 주식회사 비앤피인터내셔널 | G87: 11800000 | I87: 2021.03.25 ~ 2021.04.28 | K87: 곡성지사 | L87: 물품구매 | M87: 수의계약(비공개) | N87: 수의 | O87: 4100061867-001
A88: 77 | B88: 2021.03.25 | C88: 1 | D88: 곡성지사 출하배관 밸브 설치공사 | E88: 단독 | F88: (주)우리플랜트 | G88: 10670000 | I88: 2021.03.25 ~ 2021.04.21 | K88: 곡성지사 | O88: 4100061869-001
A89: 78 | B89: 2021.03.26 | C89: 1 | D89: 2021년 예방점검시스템(EMAS) 플랫폼 유지관리 용역 | E89: 단독 | F89: (주)비에이치컨설팅 | G89: 51000000 | I89: 2021.04.01 ~ 2022.03.31 | K89: 총무처 조달팀 | L89: 일반용역 | M89: 수의계약(비공개) | N89: 수의 | O89: 4100061877-001
A90: 79 | B90: 2021.03.30 | C90: 1 | D90: 거제비축기지 원유배관 교체공사 비파괴검사용역 | E90: 단독 | F90: (주)아이텍기술 | G90: 63349000 | I90: 2021.03.30 ~ 2022.07.28 | K90: 총무처 조달팀 | L90: 기술용역 | M90: 일반경쟁 | N90: 적격심사 | O90: 4100061895-001
A91: 80 | B91: 2021.03.30 | C91: 1 | D91: 1차 지하공동(펌프룸 200) 광파측량기 구매(설치포함) | E91: 단독 | F91: (주)코세코 | G91: 21560000 | I91: 2021.03.30 ~ 2021.04.28 | K91: 거제지사 | L91: 물품구매 | M91: 수의계약(비공개) | N91: 수의 | O91: 4100061902-001
A92: 81 | B92: 2021.03.31 | C92: 1 | D92: 부탄지역 매설배관 절연플랜지용 직류전류 차단장치 구매 설치 | E92: 단독 | F92: 삼성파워텍 | G92: 10175000 | I92: 2021.03.31 ~ 2021.05.17 | K92: 평택지사 | L92: 물품구매 | M92: 수의계약(비공개) | N92: 수의 | O92: 4100061923-001
A93: 82 | B93: 2021.03.31 | C93: 1 | D93: 여수지사 폼 저장탱크 증설 설계용역 | E93: 단독 | F93: 우리소방 ENG | G93: 9515000 | I93: 2021.04.01 ~ 2021.05.20 | K93: 여수지사 | L93: 기술용역 | M93: 수의계약(비공개) | N93: 수의 | O93: 4100061947-001
A94: 83 | B94: 2021.03.31 | C94: 1 | D94: ERP 운영 및 유지보수(2021년도) | E94: 단독 | F94: (주)비에이치컨설팅 | G94: 2550000000 | H94: 7650000000 | I94: 2021.04.01 ~ 2022.03.31 | J94: 2019.04.01 ~ 2022.03.24 | K94: 총무처 조달팀 | L94: 일반용역 | M94: 제한경쟁 | N94: 협상(종합평가) | O94: 4100061847-001
A95: 84 | B95: 2021.03.31 | C95: 1 | D95: 거제 비축기지 방폭등기구 교체공사 | E95: 단독 | F95: 주식회사 파워엠엔씨 | G95: 64892300 | I95: 2021.03.31 ~ 2021.05.29 | K95: 거제지사 | L95: 시설공사 | M95: 제한경쟁 | N95: 적격심사 | O95: 4100061880-001
A96: 85 | B96: 2021.04.02 | C96: 2 | D96: 전사 디지털 복합기(클라우드 프린팅 포함) 임차용역(2021년도) | E96: 단독 | F96: (주)유에스엠 | G96: 60624000 | H96: 948426000 | I96: 2021.05.04 ~ 2026.01.31 | J96: 2021.05.04 ~ 2026.01.31 | K96: 총무처 조달팀 | L96: 일반용역 | M96: 수의계약(비공개) | N96: 수의 | O96: 4100061950-001
A97: 86 | B97: 2021.04.02 | C97: 2 | D97: 외부기관 방문 관련 기념품 구매 | E97: 단독 | F97: 주식회사 하나원비즈마켓 | G97: 3170000 | I97: 2021.04.02 ~ 2021.04.09 | K97: 유통사업처 | O97: 4100062009-001
A98: 87 | B98: 2021.04.05 | C98: 2 | D98: 출하펌프(P-101A) 보수공사 | E98: 단독 | F98: (주)신창중공업 | G98: 10560000 | I98: 2021.04.05 ~ 2021.05.24 | K98: 구리지사 | L98: 시설공사 | M98: 수의계약(비공개) | N98: 수의 | O98: 4100061995-001
A99: 88 | B99: 2021.04.05 | C99: 2 | D99: 2020~2022년 전산장비 운영 및 유지관리 용역(2021년도) | E99: 공동이행 | F99: 주식회사 콤텍정보통신 | G99: 2465764323 | H99: 7508168044 | I99: 2021.04.06 ~ 2022.04.05 | J99: 2020.04.06 ~ 2023.04.05 | K99: 총무처 조달팀 | L99: 일반용역 | M99: 제한경쟁 | N99: 협상(종합평가) | O99: 4100062036-001
A100: 89 | B100: 2021.04.05 | C100: 2 | D100: 산지소화전 주배관밸브 개선관련 케이블 포설 공사 | E100: 단독 | F100: 모아이엔지 | G100: 9405000 | I100: 2021.04.05 ~ 2021.05.03 | K100: 평택지사 | L100: 시설공사 | M100: 수의계약(비공개) | N100: 수의 | O100: 4100061952-001
A101: 90 | B101: 2021.04.06 | C101: 2 | D101: 단신부임 직원숙소(무거캐슬) 바닥 오염물제거 및 폐기물처리 | E101: 단독 | F101: 대성환경개발 | G101: 1430000 | I101: 2021.04.06 ~ 2021.04.12 | K101: 울산지사 | O101: 4100062029-001
A102: 91 | B102: 2021.04.06 | C102: 2 | D102: 평택지사 부탄히터 및 기화기 버너 교체공사 | E102: 단독 | F102: 상무공영 주식회사 | G102: 190137820 | I102: 2021.04.06 ~ 2021.07.24 | K102: 총무처 조달팀 | L102: 시설공사 | M102: 제한경쟁 | N102: 적격심사 | O102: 4100061960-001
A103: 92 | B103: 2021.04.07 | C103: 2 | D103: 2021년도 석유정보시스템 유지관리 용역 | E103: 단독 | F103: (주)비에이치컨설팅 | G103: 379000000 | I103: 2021.04.08 ~ 2022.04.07 | K103: 총무처 조달팀 | O103: 4100062052-001
A104: 93 | B104: 2021.04.07 | C104: 2 | D104: 거제지사 지상탱크 스프링클러 설치공사 | E104: 단독 | F104: (주)삼성엔지니어링 | G104: 91198200 | I104: 2021.04.07 ~ 2021.07.05 | K104: 거제지사 | L104: 시설공사 | M104: 제한경쟁 | N104: 적격심사 | O104: 4100061933-001
A105: 94 | B105: 2021.04.08 | C105: 2 | D105: 외부기관 방문 관련 기념품 구매품의 | E105: 단독 | F105: (주)제이씨엘코리아 | G105: 1980000 | I105: 2021.04.08 ~ 2021.04.15 | K105: 유통사업처 | O105: 4100062076-001
...

Sheet 2022년 전사 추가
A1: □ 전자조달시스템 조달내역
A2: * 작성기준 1) 대상기간 : 2022.01.01. ~ 2022.12.31. (계약일자 기준) 2) 전자조달시스템을 통한 전자계약 3) 최초 계약 기준(계약변경 미반영) 4) 장기계속계약은 연차별 계약이 2022년에 체결된 것만 포함
A4: 구분 | B4: 건수 | C4: 계약금액 (원)
A5: 1분기 | B5: 75 | C5: 25477597341
A6: 2분기 | B6: 113 | C6: 39191948041
A7: 3분기 | B7: 71 | C7: 12355771042
A8: 4분기 | B8: 92 | C8: 33693302752
A9: 합계 | B9: =SUM(B5:B8) -> 351 | C9: =SUM(C5:C8) -> 110718619176
B11: 계약번호 | C11: 계약명 | D11: 공동도급 | E11: 계약상대자(대표사, 구성원) | F11: 사업자번호 | G11: 대표자 | H11: 출자비율 | I11: (분담내용) | J11: 계약금액 | K11: 계약금액(총괄분) | L11: 화폐단위 | M11: 계약일자 | N11: 계약기간 | O11: 계약기간(총괄분) | P11: 보증방법 | Q11: 계약보증금율 | R11: 보증기관 | S11: 계약보증금 | T11: 지체상금율 | U11: 하자보증책임기간 | V11: 하자보증금율 | W11: 중기간경쟁제품여부 | X11: 변경계약사유 | Y11: 담당부서 | Z11: 근거법률 | AA11: 조 | AB11: 항 | AC11: 호 | AD11: 목 | AE11: 근거내역 | AF11: 공고번호 | AG11: 정정 | AH11: 긴급 | AI11: 재공고 | AJ11: 업무구분 | AK11: 계약방법 | AL11: 소기업 | AM11: 중소기업 | AN11: 실적 | AO11: 지역 | AP11: 기타 | AQ11: PQ | AR11: 낙찰자선정방법 | AS11: 공고일시 | AT11: 입찰등록마감일시 | AU11: 입찰마감일시 | AV11: 개찰일시 | AW11: 추정가격 | AX11: 설계금액 | AY11: 기초금액 | AZ11: 공사예정금액 | BA11: 예정가격 | BB11: 도급형태 | BC11: 낙찰업체(대표사) | BD11: 낙찰금액 | BE11: 투찰율 | BF11: 입찰참여수
A12: 1 | B12: 4100064868-001 | C12: 2022년도 그룹웨어시스템 유지관리 용역 | D12: 단독 | E12: (주)나눔기술 | F12: 107-81-51022 | G12: 서 흥 대 | H12: 1 | J12: 252384000 | L12: KRW | M12: 2022.01.01 | N12: 2022.01.01 ~ 2022.12.31 | P12: 현금or증권 | Q12: 0.075 | R12: 기타 | S12: 18928800 | T12: 0.0012 | W12: 81111899 | Y12: 총무처 조달팀 | Z12: 국가계약법 | AA12: 26 | AB12: 1 | AC12: 2 | AD12: 바 | AE12: 제조공급자가 설치 조립시 | AF12: KNOC2022010121 | AJ12: 일반용역 | AK12: 수의계약(비공개) | AR12: 수의 | AS12: 2022.01.18 11:45 | AU12: 2022.01.18 14:20 | AV12: 2022.01.18 14:22 | AW12: 239000000 | AX12: 262900000 | AZ12: 0 | BA12: 254620000 | BB12: 단독 | BC12: (주)나눔기술 | BD12: 252384000 | BE12: 0.9912 | BF12: 1
A13: =1+A12 -> 2 | B13: 4100064893-001 | C13: 2022년도 통합인증시스템(SSO) 유지관리 용역 | D13: 단독 | E13: 이니텍(주) | F13: 314-81-19071 | G13: 강석모 | H13: 1 | J13: 34832809 | L13: KRW | M13: 2022.01.01 | N13: 2022.01.01 ~ 2022.12.31 | P13: 현금or증권 | Q13: 0.075 | R13: 서울보증보험 | S13: 2612470 | T13: 0.0012 | W13: 81111899 | Y13: 총무처 조달팀 | Z13: 국가계약법 | AA13: 26 | AB13: 1 | AC13: 2 | AD13: 바 | AE13: 제조공급자가 설치 조립시 | AF13: KNOC2022010163 | AJ13: 일반용역 | AK13: 수의계약(비공개) | AR13: 수의 | AS13: 2022.01.19 14:37 | AU13: 2022.01.20 17:30 | AV13: 2022.01.20 17:37 | AW13: 32780000 | AX13: 36058000 | AZ13: 0 | BA13: 34870000 | BB13: 단독 | BC13: 이니텍(주) | BD13: 34832809 | BE13: 0.9989 | BF13: 1
A14: =1+A13 -> 3 | B14: 4100064692-001 | C14: 2022년도 SAP DB 암호화 유지관리 | D14: 단독 | E14: 인스피언(주) | F14: 120-87-41140 | G14: 최정규 | H14: 1 | J14: 15471060 | L14: KRW | M14: 2022.01.01 | N14: 2022.01.01 ~ 2022.12.31 | P14: 지급각서 | Q14: 0.075 | S14: 1160330 | T14: 0.0012 | W14: 81111899 | Y14: 스마트데이터센터 | Z14: 국가계약법 | AA14: 26 | AB14: 1 | AC14: 2 | AD14: 바 | AE14: 제조공급자가 설치 조립시 | AF14: KNOC2021120421 | AJ14: 일반용역 | AK14: 수의계약(비공개) | AR14: 수의 | AS14: 2021.12.30 10:23 | AU14: 2021.12.30 15:50 | AV14: 2021.12.30 16:04 | AW14: 14500000 | AX14: 15950000 | AZ14: 0 | BA14: 15471500 | BB14: 단독 | BC14: 인스피언(주) | BD14: 15471060 | BE14: 1 | BF14: 1
A15: =1+A14 -> 4 | B15: 4100064718-001 | C15: 2022년도 GPFS 시스템 유지관리 | D15: 단독 | E15: 모아시스 주식회사 | F15: 211-86-47496 | G15: 김종수 | H15: 1 | J15: 15800000 | L15: KRW | M15: 2022.01.01 | N15: 2022.01.01 ~ 2022.12.31 | P15: 지급각서 | Q15: 0.15 | S15: 2370000 | W15: 81111899 | Y15: 스마트데이터센터 | Z15: 국가계약법 | AA15: 26 | AB15: 1 | AC15: 2 | AD15: 바 | AE15: 제조공급자가 설치 조립시 | AF15: KNOC2021120430 | AJ15: 일반용역 | AK15: 수의계약(비공개) | AR15: 수의 | AS15: 2021.12.30 11:08 | AU15: 2021.12.30 14:00 | AV15: 2021.12.30 14:14 | AW15: 14812000 | AX15: 16293200 | AZ15: 0 | BA15: 15804404 | BB15: 단독 | BC15: 모아시스 주식회사 | BD15: 15800000 | BE15: 0.9997 | BF15: 1
A16: =1+A15 -> 5 | B16: 4100064710-001 | C16: 2022년도 통합커뮤니케이션(UC) 유지관리 용역 | D16: 단독 | E16: 주식회사 이지닉스 | F16: 513-81-18285 | G16: 전종대 | H16: 1 | J16: 26175000 | L16: KRW | M16: 2022.01.01 | N16: 2022.01.01 ~ 2022.12.31 | P16: 지급각서 | Q16: 0.075 | S16: 1963130 | T16: 0.0012 | W16: 81111899 | Y16: 전자조달시스템 관리 | Z16: 국가계약법 | AA16: 26 | AB16: 1 | AC16: 2 | AD16: 바 | AE16: 제조공급자가 설치 조립시 | AF16: KNOC2021120370 | AJ16: 일반용역 | AK16: 수의계약(비공개) | AR16: 수의 | AS16: 2021.12.28 17:21 | AU16: 2021.12.29 11:00 | AV16: 2021.12.29 11:12 | AW16: 25092000 | AX16: 27601200 | AZ16: 0 | BA16: 26221140 | BB16: 단독 | BC16: 주식회사 이지닉스 | BD16: 26175000 | BE16: 0.9982 | BF16: 1
A17: =1+A16 -> 6 | B17: 4100064711-001 | C17: 2022년도 협업시스템(COP) 유지관리 용역 | D17: 단독 | E17: 주식회사 날리지큐브 | F17: 110-81-44925 | G17: 김학훈 | H17: 1 | J17: 16500000 | L17: KRW | M17: 2022.01.01 | N17: 2022.01.01 ~ 2022.12.31 | P17: 지급각서 | Q17: 0.075 | S17: 1237500 | T17: 0.0012 | W17: 81111899 | Y17: 전자조달시스템 관리 | Z17: 국가계약법 | AA17: 26 | AB17: 1 | AC17: 2 | AD17: 바 | AE17: 제조공급자가 설치 조립시 | AF17: KNOC2021120380 | AJ17: 일반용역 | AK17: 수의계약(비공개) | AR17: 수의 | AS17: 2021.12.28 17:24 | AU17: 2021.12.29 11:00 | AV17: 2021.12.29 11:10 | AW17: 16200000 | AX17: 17820000 | AZ17: 0 | BA17: 16929000 | BB17: 단독 | BC17: 주식회사 날리지큐브 | BD17: 16500000 | BE17: 0.9747 | BF17: 1
A18: =1+A17 -> 7 | B18: 4100064647-001 | C18: 2022년도 대기오염물질 자가측정 용역 | D18: 단독 | E18: 신안환경연구소 | F18: 177-15-00658 | G18: 신종민 | H18: 1 | J18: 143439394 | L18: KRW | M18: 2022.01.01 | N18: 2022.01.01 ~ 2022.12.27 | P18: 현금or증권 | Q18: 0.075 | R18: 서울보증보험 | S18: 10757960 | T18: 0.0012 | W18: 77121504 | Y18: 총무처 조달팀 | AF18: KNOC2021120220 | AJ18: 기술용역 | AK18: 제한경쟁 | AM18: √ | AR18: 적격심사 | AS18: 2021.12.13 17:08 | AT18: 2021.12.20 14:00 | AU18: 2021.12.21 14:00 | AV18: 2021.12.21 14:24 | AW18: 148400000 | AX18: 163240000 | AY18: 163240000 | AZ18: 0 | BA18: 163155644 | BB18: 단독 | BC18: 신안환경연구소 | BD18: 143439394 | BE18: 0.8792 | BF18: 3
A19: =1+A18 -> 8 | B19: 4100064695-001 | C19: 2022년 석유비축기지 특수경비용역 | D19: 단독 | E19: 주식회사 경암 | F19: 234-88-02195 | G19: 김기정 | H19: 1 | J19: 16384000000 | L19: KRW | M19: 2022.01.01 | N19: 2022.01.01 ~ 2022.12.31 | P19: 현금or증권 | Q19: 0.075 | R19: 서울보증보험 | S19: 1228800000 | T19: 0.0012 | W19: 92121599 | Y19: 총무처 조달팀 | AF19: KNOC2021120110 | AJ19: 일반용역 | AK19: 일반경쟁 | AR19: 적격심사 | AS19: 2021.12.06 17:34 | AU19: 2021.12.14 14:00 | AV19: 2021.12.14 14:19 | AW19: 17022620000 | AX19: 18724882000 | AY19: 18724882000 | AZ19: 0 | BA19: 18572314011 | BB19: 단독 | BC19: 주식회사 경암 | BD19: 16384000000 | BE19: 0.8822 | BF19: 46
A20: =1+A19 -> 9 | B20: 4100064807-001 | C20: 울산 BUOY 이설공사 사후환경영향조사용역(2022년도) | D20: 공동이행 | E20: 주식회사 서영엔지니어링 | F20: 138-81-04348 | G20: 김종흔 | H20: 0.9 | J20: 178780000 | K20: 893900000 | L20: KRW | M20: 2022.01.01 | N20: 2022.01.01 ~ 2022.12.31 | O20: 2018.12.10 ~ 2023.12.10 | P20: 해당없음 | Q20: 0.15 | S20: 134085000 | T20: 0.0025 | W20: 77101504 | Y20: 총무처 조달팀 | AZ20: 0
A21: =1+A20 -> 10 | B21: 4100064716-001 | C21: 2022년 DB접근제어 솔루션 유지관리 | D21: 단독 | E21: 주식회사우경정보기술 | F21: 502-81-98620 | G21: 박윤하 | H21: 1 | J21: 2208360 | L21: KRW | M21: 2022.01.01 | N21: 2022.01.01 ~ 2022.12.31 | P21: 지급각서 | Q21: 0.075 | S21: 165630 | T21: 0.0012 | W21: 81111899 | Y21: 전자조달시스템 관리 | Z21: 국가계약법 | AA21: 26 | AB21: 1 | AC21: 2 | AD21: 바 | AE21: 제조공급자가 설치 조립시 | AZ21: 0
A22: =1+A21 -> 11 | B22: 4100064612-001 | C22: 2022년도 법률규정시스템 유지관리 | D22: 단독 | E22: 나라아이넷(주) | F22: 214-86-12318 | G22: 김찬훈 | H22: 1 | J22: 7398600 | L22: KRW | M22: 2022.01.01 | N22: 2022.01.01 ~ 2022.12.31 | P22: 지급각서 | Q22: 0.075 | S22: 554900 | T22: 0.0012 | W22: 81111899 | Y22: 전자조달시스템 관리 | Z22: 국가계약법 | AA22: 26 | AB22: 1 | AC22: 2 | AD22: 바 | AE22: 제조공급자가 설치 조립시 | AZ22: 0
A23: =1+A22 -> 12 | B23: 4100064613-001 | C23: 2022년도 제안관리시스템 유지관리 | D23: 단독 | E23: 주식회사 다모넷 | F23: 220-81-81552 | G23: 천윤영 | H23: 1 | J23: 6600000 | L23: KRW | M23: 2022.01.01 | N23: 2022.01.01 ~ 2022.12.31 | P23: 지급각서 | Q23: 0.075 | S23: 495000 | T23: 0.0012 | W23: 81111899 | Y23: 전자조달시스템 관리 | Z23: 국가계약법 | AA23: 26 | AB23: 1 | AC23: 2 | AD23: 바 | AE23: 제조공급자가 설치 조립시 | AZ23: 0
A24: =1+A23 -> 13 | B24: 4100064614-001 | C24: 2022년도 통합검색시스템 유지관리 | D24: 단독 | E24: (주)와이즈넛 | F24: 211-86-98485 | G24: 강용성 | H24: 1 | J24: 7480000 | L24: KRW | M24: 2022.01.01 | N24: 2022.01.01 ~ 2022.12.31 | P24: 지급각서 | Q24: 0.075 | S24: 561000 | T24: 0.0012 | W24: 81111899 | Y24: 전자조달시스템 관리 | Z24: 국가계약법 | AA24: 26 | AB24: 1 | AC24: 2 | AD24: 바 | AE24: 제조공급자가 설치 조립시 | AZ24: 0
A25: =1+A24 -> 14 | B25: 4100064615-001 | C25: 2022년도 기록관리시스템 유지관리 | D25: 단독 | E25: 네이버시스템 주식회사 | F25: 215-81-69556 | G25: 임병조 | H25: 1 | J25: 3791700 | L25: KRW | M25: 2022.01.01 | N25: 2022.01.01 ~ 2022.12.31 | P25: 지급각서 | Q25: 0.075 | S25: 284380 | T25: 0.0012 | W25: 81111899 | Y25: 전자조달시스템 관리 | Z25: 국가계약법 | AA25: 26 | AB25: 1 | AC25: 2 | AD25: 바 | AE25: 제조공급자가 설치 조립시 | AZ25: 0
A26: =1+A25 -> 15 | B26: 4100064879-001 | C26: 업무용차량 장기임차(렌트) 용역 | D26: 단독 | E26: 롯데렌탈(주) | F26: 214-87-79183 | G26: 김현수 | H26: 1 | J26: 8940000 | L26: KRW | M26: 2022.01.01 | N26: 2022.01.01 ~ 2022.12.31 | P26: 현금or증권 | Q26: 0.075 | R26: 서울보증보험 | S26: 670500 | T26: 0.0012 | W26: 72101507 | Y26: 서산지사 | Z26: 국가계약법 | AA26: 26 | AB26: 1 | AC26: 5 | AD26: 가 | AE26: 추정가격이 건설공사 2억원, 전문공사 1억원, 기타공사 8천만원, 물품·용역 등 5천만원 이하의 계약 | AZ26: 0
A27: =1+A26 -> 16 | B27: 4100064770-001 | C27: 2022년도 TLG 모니터링 유지관리 용역 | D27: 단독 | E27: 이지소프트주식회사 | F27: 229-81-10559 | G27: 황택현 | H27: 1 | J27: 25697760 | L27: KRW | M27: 2022.01.03 | N27: 2022.01.01 ~ 2022.12.31 | P27: 지급각서 | Q27: 0.075 | S27: 1927340 | T27: 0.0012 | W27: 81111899 | Y27: 전자조달시스템 관리 | Z27: 국가계약법 | AA27: 26 | AB27: 1 | AC27: 2 | AD27: 바 | AE27: 제조공급자가 설치 조립시 | AF27: KNOC2021120410 | AJ27: 일반용역 | AK27: 수의계약(비공개) | AR27: 수의 | AS27: 2021.12.28 17:58 | AU27: 2022.01.03 11:00 | AV27: 2022.01.03 11:05 | AW27: 24800000 | AX27: 27280000 | AZ27: 0 | BA27: 26188000 | BB27: 단독 | BC27: 이지소프트주식회사 | BD27: 25697760 | BE27: 0.9813 | BF27: 1
A28: =1+A27 -> 17 | B28: 4100064773-001 | C28: 2022년도 XPLATFORM 및 UBI REPORT 유지관리 용역 | D28: 단독 | E28: (주)유비디시전 | F28: 120-87-35901 | G28: 신동우 | H28: 1 | J28: 14300000 | L28: KRW | M28: 2022.01.03 | N28: 2022.01.01 ~ 2022.12.31 | P28: 지급각서 | Q28: 0.075 | S28: 1072500 | T28: 0.0012 | W28: 81111899 | Y28: 전자조달시스템 관리 | Z28: 국가계약법 | AA28: 26 | AB28: 1 | AC28: 2 | AD28: 바 | AE28: 제조공급자가 설치 조립시 | AF28: KNOC2022010030 | AI28: √ | AJ28: 일반용역 | AK28: 수의계약(비공개) | AR28: 수의 | AS28: 2022.01.07 08:22 | AU28: 2022.01.07 11:15 | AV28: 2022.01.07 11:26 | AW28: 13634000 | AX28: 14997400 | AZ28: 0 | BA28: 14397504 | BB28: 단독 | BC28: (주)유비디시전 | BD28: 14300000 | BE28: 0.9932 | BF28: 1
A29: =1+A28 -> 18 | B29: 4100064728-001 | C29: 입출하부두 방충재(TR FENDER) 정밀 점검(수중부 포함) | D29: 단독 | E29: 두용건설 주식회사 | F29: 613-81-44384 | G29: 이재봉 | H29: 1 | J29: 9460000 | L29: KRW | M29: 2022.01.04 | N29: 2022.01.04 ~ 2022.01.28 | P29: 현금or증권 | Q29: 0.075 | R29: 전문건설공제조합 | S29: 709500 | T29: 0.0012 | W29: 72101507 | Y29: 서산지사 | Z29: 국가계약법 | AA29: 26 | AB29: 1 | AC29: 5 | AD29: 가 | AE29: 추정가격이 건설공사 2억원, 전문공사 1억원, 기타공사 8천만원, 물품·용역 등 5천만원 이하의 계약 | AZ29: 0
A30: =1+A29 -> 19 | B30: 4100064741-001 | C30: 2022년 방재창고 및 전기실 보안서비스 용역 | D30: 단독 | E30: 주식회사 에스원 | F30: 208-81-13302 | G30: 노희찬 | H30: 1 | J30: 2400000 | L30: KRW | M30: 2022.01.06 | N30: 2022.01.01 ~ 2022.12.31 | P30: 지급각서 | Q30: 0.1 | S30: 240000 | W30: 81111809 | Y30: 울산지사 | Z30: 국가계약법 | AA30: 26 | AB30: 1 | AC30: 5 | AD30: 가 | AE30: 추정가격이 건설공사 2억원, 전문공사 1억원, 기타공사 8천만원, 물품·용역 등 5천만원 이하의 계약 | AZ30: 0
A31: =1+A30 -> 20 | B31: 4100064782-001 | C31: 해상 PSV POPPING TEST 및 REPAIR 용역 | D31: 단독 | E31: 한국산업기계기술 주식회사 | F31: 447-87-00928 | G31: 서효진 | H31: 1 | J31: 42539260 | L31: KRW | M31: 2022.01.12 | N31: 2022.01.12 ~ 2022.01.31 | P31: 지급각서 | Q31: 0.075 | S31: 3190450 | T31: 0.0012 | W31: 72101597 | Y31: 총무처 조달팀 | AF31: KNOC2021120080 | AG31: √ | AJ31: 기술용역 | AK31: 제한경쟁 | AL31: √ | AO31: √ | AR31: 적격심사 | AS31: 2021.12.02 17:56 | AT31: 2021.12.09 10:30 | AU31: 2021.12.10 10:30 | AV31: 2021.12.10 10:41 | AW31: 43800000 | AX31: 48180000 | AY31: 48180000 | AZ31: 0 | BA31: 48318672 | BB31: 단독 | BC31: 한국산업기계기술 주식회사 | BD31: 42539260 | BE31: 0.8804 | BF31: 3
A32: =1+A31 -> 21 | B32: 4100064780-001 | C32: 2022년도 동해가스전 육·해상 소방시설 점검용역 | D32: 단독 | E32: 주식회사 삼일소방 | F32: 610-86-15376 | G32: 조경희 | H32: 1 | J32: 27337700 | L32: KRW | M32: 2022.01.12 | N32: 2022.01.12 ~ 2022.12.31 | P32: 해당없음 | Q32: 0.1 | S32: 2733770 | T32: 0.0012 | W32: 72101509 | Y32: 가스전관리사무소 | AF32: KNOC2021120280 | AJ32: 일반용역 | AK32: 일반경쟁 | AR32: 적격심사 | AS32: 2021.12.20 09:11 | AT32: 2021.12.28 13:00 | AU32: 2021.12.29 13:00 | AV32: 2021.12.29 13:12 | AW32: 28153000 | AX32: 30968300 | AY32: 30968300 | AZ32: 0 | BA32: 30967244 | BB32: 단독 | BC32: 주식회사 삼일소방 | BD32: 27337700 | BE32: 0.8828 | BF32: 11
A33: =1+A32 -> 22 | B33: 4100064799-001 | C33: 2022년 음식물류 폐기물 위,수탁 처리 용역 | D33: 단독 | E33: 창조대성 주식회사 | F33: 146-87-00869 | G33: 송지호 | H33: 1 | J33: 1980000 | L33: KRW | M33: 2022.01.12 | N33: 2022.01.01 ~ 2022.12.31 | P33: 지급각서 | Q33: 0.1 | S33: 198000 | W33: 76121599 | Y33: 울산지사 | Z33: 국가계약법 | AA33: 26 | AB33: 1 | AC33: 5 | AD33: 가 | AE33: 추정가격이 건설공사 2억원, 전문공사 1억원, 기타공사 8천만원, 물품·용역 등 5천만원 이하의 계약 | AZ33: 0
A34: =1+A33 -> 23 | B34: 4100064818-001 | C34: 2022년도 방호과학화장비 유지보수 용역 | D34: 단독 | E34: 두영정보통신 | F34: 661-33-00778 | G34: 김대환 | H34: 1 | J34: 10241000 | L34: KRW | M34: 2022.01.13 | N34: 2022.01.13 ~ 2022.12.31 | P34: 지급각서 | Q34: 0.1 | S34: 1024100 | T34: 0.0012 | W34: 72151699 | Y34: 평택지사 | Z34: 국가계약법 | AA34: 26 | AB34: 1 | AC34: 5 | AD34: 가 | AE34: 추정가격이 건설공사 2억원, 전문공사 1억원, 기타공사 8천만원, 물품·용역 등 5천만원 이하의 계약 | AF34: KNOC2022010050 | AJ34: 일반용역 | AK34: 수의계약(비공개) | AR34: 수의 | AS34: 2022.01.12 11:16 | AU34: 2022.01.12 16:00 | AV34: 2022.01.12 16:13 | AW34: 9900000 | AX34: 10890000 | AZ34: 0 | BA34: 10890000 | BB34: 단독 | BC34: 두영정보통신 | BD34: 10241000 | BE34: 0.9404 | BF34: 1
A35: =1+A34 -> 24 | B35: 4100064768-001 | C35: 2022년도 한국석유공사 전자사보(웹진) 제작 용역 | D35: 단독 | E35: (주)홍커뮤니케이션즈 | F35: 305-81-70579 | G35: 민귀홍 | H35: 1 | J35: 108000000 | L35: KRW | M35: 2022.01.14 | N35: 2022.01.14 ~ 2022.12.31 | P35: 현금or증권 | Q35: 0.075 | R35: 서울보증보험 | S35: 8100000 | T35: 0.0012 | W35: 82141502 | Y35: 총무처 조달팀 | AF35: KNOC2021110320 | AJ35: 일반용역 | AK35: 제한경쟁 | AM35: √ | AR35: 협상(종합평가) | AS35: 2021.11.24 15:36 | AT35: 2021.12.08 14:00 | AU35: 2021.12.09 17:00 | AV35: 2022.01.07 11:47 | AW35: 105000000 | AX35: 115500000 | AY35: 115500000 | AZ35: 0 | BA35: 116547260 | BB35: 단독 | BC35: (주)홍커뮤니케이션즈 | BD35: 108000000 | BE35: 0.9267 | BF35: 3
A36: =1+A35 -> 25 | B36: 4100064846-001 | C36: 울산비축기지 지하화 건설공사 사후환경영향조사(운영시)용역(2022년도) | D36: 공동이행 | E36: 주식회사 도화엔지니어링 | F36: 211-81-08009 | G36: 김덕구 | H36: 0.9 | J36: 192400000 | K36: 572720000 | L36: KRW | M36: 2022.01.17 | N36: 2022.01.01 ~ 2022.12.31 | O36: 2021.07.02 ~ 2024.07.01 | P36: 해당없음 | Q36: 0.075 | S36: 42954000 | T36: 0.0012 | W36: 77101504 | Y36: 총무처 조달팀 | AF36: KNOC2021050230 | AJ36: 기술용역 | AK36: 일반경쟁 | AQ36: √ | AR36: 적격심사 | AS36: 2021.05.18 15:21 | AT36: 2021.06.22 14:00 | AU36: 2021.06.23 14:00 | AV36: 2021.06.23 14:15 | AW36: 600000000 | AX36: 660000000 | AY36: 660000000 | AZ36: 0 | BA36: 661092971 | BB36: 공동이행 | BC36: 주식회사 도화엔지니어링 | BD36: 572720000 | BE36: 0.8663 | BF36: 18
A37: =1+A36 -> 26 | B37: 4100064851-001 | C37: 2022년 배출수 수질분석 용역 | D37: 단독 | E37: (주)청명기연환경 | F37: 219-81-00729 | G37: 김상우 | H37: 1 | J37: 8603760 | L37: KRW | M37: 2022.01.18 | N37: 2022.01.18 ~ 2022.12.31 | P37: 현금or증권 | Q37: 0.075 | R37: 서울보증보험 | S37: 645290 | T37: 0.0012 | W37: 70171602 | Y37: 구리지사 | Z37: 국가계약법 | AA37: 26 | AB37: 1 | AC37: 5 | AD37: 가 | AE37: 추정가격이 건설공사 2억원, 전문공사 1억원, 기타공사 8천만원, 물품·용역 등 5천만원 이하의 계약 | AZ37: 0
A38: =1+A37 -> 27 | B38: 4100064850-001 | C38: 2022년도 전자조달시스템 유지관리 용역 | D38: 단독 | E38: (주)이노가드 | F38: 113-86-14764 | G38: 최용기 | H38: 1 | J38: 130270000 | L38: KRW | M38: 2022.01.19 | N38: 2022.01.01 ~ 2022.12.31 | P38: 현금or증권 | Q38: 0.075 | R38: 서울보증보험 | S38: 9770250 | T38: 0.0012 | W38: 81111899 | Y38: 총무처 조달팀 | Z38: 국가계약법 | AA38: 26 | AB38: 1 | AC38: 2 | AD38: 바 | AE38: 제조공급자가 설치 조립시 | AF38: KNOC2022010092 | AJ38: 일반용역 | AK38: 수의계약(비공개) | AR38: 수의 | AS38: 2022.01.17 09:59 | AU38: 2022.01.17 15:40 | AV38: 2022.01.17 15:47 | AW38: 124600000 | AX38: 137060000 | AZ38: 0 | BA38: 131620000 | BB38: 단독 | BC38: (주)이노가드 | BD38: 130270000 | BE38: 0.9897 | BF38: 1
A39: =1+A38 -> 28 | B39: 4100064867-001 | C39: 2022년도 석유개발 IT자원 통합관리시스템 유지관리 용역 | D39: 단독 | E39: (주)클루닉스 | F39: 119-81-35272 | G39: 권대석 | H39: 1 | J39: 148368000 | L39: KRW | M39: 2022.01.20 | N39: 2022.01.01 ~ 2022.12.31 | P39: 현금or증권 | Q39: 0.075 | R39: 서울보증보험 | S39: 11127600 | T39: 0.0012 | W39: 81112399 | Y39: 총무처 조달팀 | Z39: 국가계약법 | AA39: 26 | AB39: 1 | AC39: 2 | AD39: 바 | AE39: 제조공급자가 설치 조립시 | AF39: KNOC2022010111 | AJ39: 일반용역 | AK39: 수의계약(비공개) | AR39: 수의 | AS39: 2022.01.17 09:57 | AU39: 2022.01.18 11:20 | AV39: 2022.01.18 11:32 | AW39: 139667000 | AX39: 153633700 | AZ39: 0 | BA39: 148550000 | BB39: 단독 | BC39: (주)클루닉스 | BD39: 148368000 | BE39: 0.9988 | BF39: 1
A40: =1+A39 -> 29 | B40: 4100064898-001 | C40: 여수지사 소방자재창고 통신시스템 및 광선로 구축공사 | D40: 단독 | E40: (주)한신테크 | F40: 417-81-31826 | G40: 심태원 | H40: 1 | J40: 10230000 | L40: KRW | M40: 2022.01.24 | N40: 2022.01.24 ~ 2022.02.07 | P40: 지급각서 | Q40: 0.075 | S40: 767250 | T40: 0.0007 | W40: 72151597 | Y40: 여수지사 | Z40: 국가계약법 | AA40: 26 | AB40: 1 | AC40: 5 | AD40: 가 | AE40: 추정가격이 건설공사 2억원, 전문공사 1억원, 기타공사 8천만원, 물품·용역 등 5천만원 이하의 계약 | AF40: KNOC2022010140 | AJ40: 시설공사 | AK40: 수의계약(비공개) | AR40: 수의 | AS40: 2022.01.18 15:54 | AU40: 2022.01.19 14:00 | AV40: 2022.01.19 14:15 | AW40: 9900000 | AX40: 10890000 | AZ40: 10890000 | BA40: 10500000 | BB40: 단독 | BC40: (주)한신테크 | BD40: 10230000 | BE40: 0.9743 | BF40: 1
A41: =1+A40 -> 30 | B41: 4100064919-001 | C41: 2022년 방호과학화장비 유지보수용역 | D41: 단독 | E41: 광주경보시스템 | F41: 408-05-94750 | G41: 김경근 | H41: 1 | J41: 10967000 | L41: KRW | M41: 2022.01.26 | N41: 2022.02.01 ~ 2022.12.31 | P41: 지급각서 | Q41: 0.075 | S41: 822530 | T41: 0.0012 | U41: 준공일로부터 1 | V41: 0.02 | W41: 72101597 | Y41: 곡성지사 | Z41: 국가계약법 | AA41: 26 | AB41: 1 | AC41: 5 | AD41: 가 | AE41: 추정가격이 건설공사 2억원, 전문공사 1억원, 기타공사 8천만원, 물품·용역 등 5천만원 이하의 계약 | AZ41: 0
A42: =1+A41 -> 31 | B42: 4100065215-001 | C42: 전사 디지털 복합기(클라우드 프린팅 포함) 임차 용역(2022년도분) | D42: 단독 | E42: (주)유에스엠 | F42: 314-81-82555 | G42: 김은희 | H42: 1 | J42: 218176000 | K42: 941578000 | L42: KRW | M42: 2022.01.26 | N42: 2022.02.01 ~ 2023.01.31 | O42: 2021.05.04 ~ 2026.01.31 | P42: 해당없음 | Q42: 0.075 | S42: 70618350 | T42: 0.0012 | W42: 73169002 | Y42: 총무처 조달팀 | Z42: 국가계약법 | AA42: 27 | AB42: 3 | AC42: 0 | AD42: 0 | AE42: 기재부장관 고시기간 내 입찰자가 1인뿐일 경우 재공고 없이 수의계약 | AF42: KNOC2021030321 | AJ42: 일반용역 | AK42: 수의계약(비공개) | AR42: 수의 | AS42: 2021.03.29 14:36 | AU42: 2021.03.29 17:00 | AV42: 2021.03.29 17:10 | AW42: 931083078 | AX42: 1024191386 | AZ42: 0 | BA42: 963550000 | BB42: 단독 | BC42: (주)유에스엠 | BD42: 948426000 | BE42: 0.9843 | BF42: 1
A43: =1+A42 -> 32 | B43: 4100064901-001 | C43: PSM 자체감사 및 안전진단 용역 | D43: 단독 | E43: 알파안전 주식회사 | F43: 242-81-00919 | G43: 조필래 | H43: 1 | J43: 6710000 | L43: KRW | M43: 2022.01.26 | N43: 2022.01.26 ~ 2022.02.25 | P43: 지급각서 | Q43: 0.075 | S43: 503250 | T43: 0.0012 | W43: 81141801 | Y43: 곡성지사 | Z43: 국가계약법 | AA43: 26 | AB43: 1 | AC43: 5 | AD43: 가 | AE43: 추정가격이 건설공사 2억원, 전문공사 1억원, 기타공사 8천만원, 물품·용역 등 5천만원 이하의 계약 | AZ43: 0
A44: =1+A43 -> 33 | B44: 4100064941-001 | C44: 단신부임숙소(무거캐슬) 수리 | D44: 단독 | E44: 수인테리어 | F44: 610-09-61563 | G44: 이미숙 | H44: 1 | J44: 4664000 | L44: KRW | M44: 2022.01.26 | N44: 2022.01.26 ~ 2022.02.04 | P44: 지급각서 | Q44: 0.1 | S44: 466400 | T44: 0.0012 | W44: 72101507 | Y44: 울산지사 | Z44: 국가계약법 | AA44: 26 | AB44: 1 | AC44: 5 | AD44: 가 | AE44: 추정가격이 건설공사 2억원, 전문공사 1억원, 기타공사 8천만원, 물품·용역 등 5천만원 이하의 계약 | AZ44: 0
A45: =1+A44 -> 34 | B45: 4100064948-001 | C45: 냉각살수설비(MOV-S162E 등 4개 밸브) 보수공사 | D45: 단독 | E45: (주)유성 | F45: 312-81-88679 | G45: 정성욱 | H45: 1 | J45: 6380000 | L45: KRW | M45: 2022.01.27 | N45: 2022.01.27 ~ 2022.03.07 | P45: 현금or증권 | Q45: 0.075 | R45: 건설공제조합 | S45: 478500 | T45: 0.0005 | U45: 준공검사 완료일로부터 1년 | V45: 0.02 | W45: 72101507 | Y45: 서산지사 | Z45: 국가계약법 | AA45: 26 | AB45: 1 | AC45: 5 | AD45: 가 | AE45: 추정가격이 건설공사 2억원, 전문공사 1억원, 기타공사 8천만원, 물품·용역 등 5천만원 이하의 계약 | AZ45: 6380000
A46: =1+A45 -> 35 | B46: 4100064963-001 | C46: 2022년도 지하수위 무선관측시스템 유지관리 용역 | D46: 단독 | E46: 주식회사 하이드로넷 | F46: 213-86-39269 | G46: 박준기 | H46: 1 | J46: 39270000 | L46: KRW | M46: 2022.01.28 | N46: 2022.01.28 ~ 2022.12.31 | P46: 현금or증권 | Q46: 0.075 | R46: 서울보증보험 | S46: 2945250 | T46: 0.0012 | W46: 99721290 | Y46: 총무처 조달팀 | Z46: 국가계약법 | AA46: 26 | AB46: 1 | AC46: 2 | AD46: 바 | AE46: 제조공급자가 설치 조립시 | AF46: KNOC2022010180 | AJ46: 기술용역 | AK46: 수의계약(비공개) | AR46: 수의 | AS46: 2022.01.26 14:06 | AU46: 2022.01.27 11:00 | AV46: 2022.01.27 11:27 | AW46: 37540000 | AX46: 41294000 | AZ46: 0 | BA46: 40150000 | BB46: 단독 | BC46: 주식회사 하이드로넷 | BD46: 39270000 | BE46: 0.9781 | BF46: 1
A47: =1+A46 -> 36 | B47: 4100065009-001 | C47: 2022년 방호과학화설비 점검 및 보수용역 | D47: 단독 | E47: (주)퓨처아이스 | F47: 417-81-24679 | G47: 나귀현 | H47: 1 | J47: 10890000 | L47: KRW | M47: 2022.02.09 | N47: 2022.03.01 ~ 2022.12.31 | P47: 지급각서 | Q47: 0.075 | S47: 816750 | T47: 0.0012 | W47: 72151597 | Y47: 여수지사 | Z47: 국가계약법 | AA47: 26 | AB47: 1 | AC47: 5 | AD47: 가 | AE47: 추정가격이 건설공사 2억원, 전문공사 1억원, 기타공사 8천만원, 물품·용역 등 5천만원 이하의 계약 | AZ47: 0
A48: =1+A47 -> 37 | B48: 4100065027-001 | C48: 2022년 육상 공정퍼지용 액체질소 구매 | D48: 단독 | E48: 에어프로덕츠코리아 주식회사 | F48: 807-88-00317 | G48: 김교영 | H48: 1 | J48: 12513600 | L48: KRW | M48: 2022.02.10 | N48: 2022.02.10 ~ 2022.12.31 | P48: 현금or증권 | Q48: 0.1 | R48: 기타 | S48: 1251360 | T48: 0.0007 | U48: 검수료일로부터 1년 | V48: 0.02 | W48: 24111816 | Y48: 가스전관리사무소 | Z48: 국가계약법 | AA48: 26 | AB48: 1 | AC48: 5 | AD48: 다 | AE48: 물품의 가공·하역·운송·보관으로 경쟁이 불리할 경우 | AF48: KNOC2022020040 | AJ48: 물품구매 | AK48: 수의계약(비공개) | AR48: 수의 | AS48: 2022.02.10 11:29 | AU48: 2022.02.10 13:00 | AV48: 2022.02.10 13:11 | AW48: 11880000 | AX48: 13068000 | AZ48: 0 | BA48: 12675000 | BB48: 단독 | BC48: 에어프로덕츠코리아 주식회사 | BD48: 12513600 | BE48: 0.9873 | BF48: 1
A49: =1+A48 -> 38 | B49: 4100065038-001 | C49: TK-S302 전단 20”BALL V/V (MOV-S302B) 보수공사 | D49: 단독 | E49: (주)유성 | F49: 312-81-88679 | G49: 정성욱 | H49: 1 | J49: 9570000 | L49: KRW | M49: 2022.02.11 | N49: 2022.02.11 ~ 2022.03.22 | P49: 현금or증권 | Q49: 0.075 | R49: 기계공제조합 | S49: 717750 | T49: 0.0005 | U49: 준공검사 완료일로부터 1년 | V49: 0.02 | W49: 72101507 | Y49: 서산지사 | Z49: 국가계약법 | AA49: 26 | AB49: 1 | AC49: 5 | AD49: 가 | AE49: 추정가격이 건설공사 2억원, 전문공사 1억원, 기타공사 8천만원, 물품·용역 등 5천만원 이하의 계약 | AZ49: 9570000
A50: =1+A49 -> 39 | B50: 4100065036-001 | C50: 2022년 거제지사 통근버스 임차용역 | D50: 단독 | E50: 주식회사코리아여행사 | F50: 612-81-12628 | G50: 유문규 | H50: 1 | J50: 74300000 | L50: KRW | M50: 2022.02.14 | N50: 2022.02.14 ~ 2023.01.31 | P50: 현금or증권 | Q50: 0.075 | R50: 서울보증보험 | S50: 5572500 | T50: 0.0012 | W50: 78111899 | Y50: 총무처 조달팀 | AF50: KNOC2022010041 | AJ50: 일반용역 | AK50: 제한경쟁 | AR50: 적격심사 | AS50: 2022.01.17 15:40 | AT50: 2022.01.24 14:00 | AU50: 2022.01.26 15:00 | AV50: 2022.01.26 15:16 | AW50: 77454545 | AX50: 85200000 | AY50: 85200000 | AZ50: 0 | BA50: 85584506 | BB50: 단독 | BC50: 주식회사코리아여행사 | BD50: 74300000 | BE50: 0.8682 | BF50: 2
A51: =1+A50 -> 40 | B51: 4100065018-001 | C51: 삼일자원비축산업단지 개발계획 실시계획변경 용역 | D51: 단독 | E51: 한동건설엔지니어링 주식회사 | F51: 408-81-31860 | G51: 채성의 | H51: 1 | J51: 94903400 | L51: KRW | M51: 2022.02.14 | N51: 2022.02.14 ~ 2022.08.12 | P51: 현금or증권 | Q51: 0.075 | R51: 엔지니어링공제조합 | S51: 7117760 | T51: 0.0012 | W51: 99729210 | Y51: 총무처 조달팀 | AF51: KNOC2022010150 | AJ51: 기술용역 | AK51: 제한경쟁 | AL51: √ | AO51: √ | AR51: 적격심사 | AS51: 2022.01.20 18:17 | AT51: 2022.01.27 14:00 | AU51: 2022.01.28 10:30 | AV51: 2022.01.28 10:43 | AW51: 98700000 | AX51: 108570000 | AY51: 108570000 | AZ51: 0 | BA51: 108152485 | BB51: 단독 | BC51: 한동건설엔지니어링 주식회사 | BD51: 94903400 | BE51: 0.8775 | BF51: 43
A52: =1+A51 -> 41 | B52: 4100065071-001 | C52: 구리지사 공정제어설비(DCS) 교체공사 | D52: 단독 | E52: 주식회사금성엔지니어링 | F52: 311-81-18262 | G52: 황윤국 | H52: 1 | J52: 414065000 | L52: KRW | M52: 2022.02.16 | N52: 2022.02.16 ~ 2022.08.15 | P52: 현금or증권 | Q52: 0.075 | R52: 전기공사공제조합 | S52: 31054880 | T52: 0.0005 | U52: 준공검사완료일로부터 1년 | V52: 0.02 | W52: 72151597 | Y52: 총무처 조달팀 | AF52: KNOC2022010080 | AJ52: 시설공사 | AK52: 제한경쟁 | AN52: √ | AR52: 적격심사 | AS52: 2022.01.14 14:58 | AT52: 2022.01.21 10:30 | AU52: 2022.01.24 15:00 | AV52: 2022.01.24 15:14 | AW52: 430140000 | AX52: 473154000 | AY52: 473154000 | AZ52: 473154000 | BA52: 474894699 | BB52: 단독 | BC52: 주식회사금성엔지니어링 | BD52: 414065000 | BE52: 0.8719 | BF52: 2
A53: =1+A52 -> 42 | B53: 4100065076-001 | C53: 동해지사 방호과학화설비 점검 및 보수용역 계약체결 | D53: 단독 | E53: 명성이앤지 | F53: 226-08-84909 | G53: 김동호 | H53: 1 | J53: 9049718 | L53: KRW | M53: 2022.02.16 | N53: 2022.02.16 ~ 2022.12.31 | P53: 지급각서 | Q53: 0.075 | S53: 678730 | T53: 0.0012 | W53: 72151597 | Y53: 동해지사 | Z53: 국가계약법 | AA53: 26 | AB53: 1 | AC53: 5 | AD53: 가 | AE53: 추정가격이 건설공사 2억원, 전문공사 1억원, 기타공사 8천만원, 물품·용역 등 5천만원 이하의 계약 | AZ53: 0
A54: =1+A53 -> 43 | B54: 4100065154-001 | C54: 동해지사 계기용변성기(MOF) 교체공사 계약체결 | D54: 단독 | E54: 주식회사 베스텍 | F54: 119-81-01544 | G54: 장세용 | H54: 1 | J54: 9130000 | L54: KRW | M54: 2022.02.24 | N54: 2022.02.24 ~ 2022.05.24 | P54: 지급각서 | Q54: 0.075 | S54: 684750 | T54: 0.0005 | U54: 준공검사 완료일로부터 1년 | V54: 0.02 | W54: 72151597 | Y54: 동해지사 | Z54: 국가계약법 | AA54: 26 | AB54: 1 | AC54: 5 | AD54: 가 | AE54: 추정가격이 건설공사 2억원, 전문공사 1억원, 기타공사 8천만원, 물품·용역 등 5천만원 이하의 계약 | AZ54: 9130000
A55: =1+A54 -> 44 | B55: 4100065157-001 | C55: 동해지사 접지변압기(GPT) 설치공사 | D55: 단독 | E55: 주식회사 베스텍 | F55: 119-81-01544 | G55: 장세용 | H55: 1 | J55: 6270000 | L55: KRW | M55: 2022.02.24 | N55: 2022.02.24 ~ 2022.05.24 | P55: 지급각서 | Q55: 0.075 | R55: 서울보증보험 | S55: 470250 | T55: 0.0005 | U55: 준공검사 완료일로부터 1년 | V55: 0.02 | W55: 72151597 | Y55: 동해지사 | Z55: 국가계약법 | AA55: 26 | AB55: 1 | AC55: 5 | AD55: 가 | AE55: 추정가격이 건설공사 2억원, 전문공사 1억원, 기타공사 8천만원, 물품·용역 등 5천만원 이하의 계약 | AZ55: 6270000
A56: =1+A55 -> 45 | B56: 4100065150-001 | C56: 정수기 및 비데 렌탈.멤버쉽 유지보수 용역 | D56: 단독 | E56: 코웨이 주식회사 | F56: 307-81-06054 | G56: 서장원 | H56: 1 | J56: 3538060 | L56: KRW | M56: 2022.02.25 | N56: 2022.03.01 ~ 2023.02.28 | P56: 지급각서 | Q56: 0.1 | S56: 353810 | W56: 72154090 | Y56: 울산지사 | Z56: 국가계약법 | AA56: 26 | AB56: 1 | AC56: 5 | AD56: 가 | AE56: 추정가격이 건설공사 2억원, 전문공사 1억원, 기타공사 8천만원, 물품·용역 등 5천만원 이하의 계약 | AZ56: 0
A57: =1+A56 -> 46 | B57: 4100065177-001 | C57: 2022년 가스전운영사무소 경비용역 | D57: 단독 | E57: 주식회사 코스 | F57: 609-81-63567 | G57: 황해진 | H57: 1 | J57: 550200500 | L57: KRW | M57: 2022.02.28 | N57: 2022.03.01 ~ 2022.12.31 | P57: 현금or증권 | Q57: 0.075 | R57: 서울보증보험 | S57: 41265040 | T57: 0.0012 | W57: 92121599 | Y57: 총무처 조달팀 | AF57: KNOC2022020080 | AH57: √ | AJ57: 일반용역 | AK57: 제한경쟁 | AM57: √ | AR57: 적격심사 | AS57: 2022.02.15 18:07 | AU57: 2022.02.21 14:00 | AV57: 2022.02.21 14:25 | AW57: 568542641 | AX57: 625396905 | AY57: 625396905 | AZ57: 0 | BA57: 625246841 | BB57: 단독 | BC57: 주식회사 코스 | BD57: 550200500 | BE57: 0.88 | BF57: 630
A58: =1+A57 -> 47 | B58: 4100065178-001 | C58: 2022년도 한국석유공사 온라인매체 운영 용역 | D58: 단독 | E58: 주식회사 스토리 | F58: 613-87-00054 | G58: 권영옥 | H58: 1 | J58: 61250000 | L58: KRW | M58: 2022.02.28 | N58: 2022.03.01 ~ 2023.02.28 | P58: 현금or증권 | Q58: 0.075 | R58: 서울보증보험 | S58: 4593750 | T58: 0.0012 | W58: 81111899 | Y58: 총무처 조달팀 | AF58: KNOC2022020110 | AH58: √ | AJ58: 일반용역 | AK58: 제한경쟁 | AM58: √ | AO58: √ | AR58: 적격심사 | AS58: 2022.02.18 10:52 | AT58: 2022.02.23 14:00 | AU58: 2022.02.24 14:00 | AV58: 2022.02.24 14:14 | AW58: 62000000 | AX58: 68200000 | AY58: 68200000 | AZ58: 0 | BA58: 68283338 | BB58: 단독 | BC58: 주식회사 스토리 | BD58: 61250000 | BE58: 0.897 | BF58: 3
A59: =1+A58 -> 48 | B59: 4100065077-001 | C59: 서산지사 CCTV 유지보수 용역 | D59: 단독 | E59: 주식회사 중부보안 | F59: 305-81-71729 | G59: 도대욱 | H59: 1 | J59: 9352000 | L59: KRW | M59: 2022.03.01 | N59: 2022.03.01 ~ 2022.12.31 | P59: 현금or증권 | Q59: 0.075 | R59: 서울보증보험 | S59: 701400 | T59: 0.0012 | W59: 72101507 | Y59: 서산지사 | Z59: 국가계약법 | AA59: 26 | AB59: 1 | AC59: 5 | AD59: 가 | AE59: 추정가격이 건설공사 2억원, 전문공사 1억원, 기타공사 8천만원, 물품·용역 등 5천만원 이하의 계약 | AZ59: 0
A60: =1+A59 -> 49 | B60: 4100065163-001 | C60: 여수지사 방호용 CCTV 추가 설치 공사 | D60: 단독 | E60: 주식회사 구성이엔씨 | F60: 411-81-05709 | G60: 유은선 | H60: 1 | J60: 388761576 | L60: KRW | M60: 2022.03.02 | N60: 2022.03.02 ~ 2022.06.29 | P60: 현금or증권 | Q60: 0.075 | R60: 정보통신공제조합 | S60: 29157120 | T60: 0.0005 | U60: 준공검사완료일로부터 1년 | V60: 0.02 | W60: 72151699 | Y60: 총무처 조달팀 | AF60: KNOC2022020020 | AJ60: 시설공사 | AK60: 제한경쟁 | AO60: √ | AR60: 적격심사 | AS60: 2022.02.09 11:23 | AU60: 2022.02.17 11:00 | AV60: 2022.02.17 11:14 | AW60: 406690000 | AX60: 447359000 | AY60: 447359000 | AZ60: 549739000 | BA60: 448151064 | BB60: 단독 | BC60: 주식회사 구성이엔씨 | BD60: 388761576 | BE60: 0.8675 | BF60: 343
A61: =1+A60 -> 50 | B61: 4100065151-001 | C61: JETTY VOC배관 밸브(BU-J701) 구매 | D61: 단독 | E61: 한국유니콤밸브 주식회사 | F61: 139-81-01437 | G61: 이석우 | H61: 1 | J61: 7689000 | L61: KRW | M61: 2022.03.02 | N61: 2022.03.02 ~ 2022.08.28 | P61: 지급각서 | Q61: 0.05 | S61: 384450 | T61: 0.0007 | U61: 1년 | V61: 0.05 | W61: 40141609 | Y61: 여수지사 | Z61: 국가계약법 | AA61: 26 | AB61: 1 | AC61: 5 | AD61: 가 | AE61: 추정가격이 건설공사 2억원, 전문공사 1억원, 기타공사 8천만원, 물품·용역 등 5천만원 이하의 계약 | AZ61: 0
A62: =1+A61 -> 51 | B62: 4100065204-001 | C62: 동해가스전 천부대수층에 대한 3차원 탄성파 자료 역산 용역 | D62: 단독 | E62: 쉴럼버저시코 주식회사 (영업소) | F62: 214-84-02591 | G62: 몬덴타카시 | H62: 1 | J62: 39339300 | L62: KRW | M62: 2022.03.07 | N62: 2022.03.07 ~ 2022.05.06 | P62: 지급각서 | Q62: 0.075 | S62: 2950450 | T62: 0.0012 | W62: 81151999 | Y62: 총무처 조달팀 | Z62: 국가계약법 | AA62: 26 | AB62: 1 | AC62: 2 | AD62: 차 | AE62: 특정인,조사,(설계)용역계약 | AF62: KNOC2022020140 | AJ62: 기술용역 | AK62: 수의계약(비공개) | AR62: 수의 | AS62: 2022.02.28 10:23 | AU62: 2022.02.28 15:30 | AV62: 2022.02.28 15:43 | AW62: 39033738 | AX62: 42937112 | AZ62: 0 | BA62: 41220000 | BB62: 단독 | BC62: 쉴럼버저시코 주식회사 (영업소) | BD62: 39339300 | BE62: 0.9544 | BF62: 1
A63: =1+A62 -> 52 | B63: 4100065208-001 | C63: 서산지사 방호용 CCTV 추가 설치공사 | D63: 단독 | E63: 아산정보통신주식회사 | F63: 312-81-89377 | G63: 손성민 | H63: 1 | J63: 366432250 | L63: KRW | M63: 2022.03.07 | N63: 2022.03.07 ~ 2022.07.04 | P63: 현금or증권 | Q63: 0.075 | R63: 서울보증보험 | S63: 27482420 | T63: 0.0005 | U63: 준공검사완료일로부터 1년 | V63: 0.02 | W63: 72151699 | Y63: 총무처 조달팀 | AF63: KNOC2022020030 | AJ63: 시설공사 | AK63: 제한경쟁 | AO63: √ | AR63: 적격심사 | AS63: 2022.02.09 18:32 | AU63: 2022.02.17 14:00 | AV63: 2022.02.17 15:34 | AW63: 381130000 | AX63: 419243000 | AY63: 419243000 | AZ63: 419243000 | BA63: 421555126 | BB63: 단독 | BC63: 아산정보통신주식회사 | BD63: 366432250 | BE63: 0.8692 | BF63: 271
A64: =1+A63 -> 53 | B64: 4100065210-001 | C64: 지사 내 건물 출입문 교체공사 | D64: 단독 | E64: 서원E.N.G | F64: 360-03-01839 | G64: 박봉진 | H64: 1 | J64: 8646000 | L64: KRW | M64: 2022.03.08 | N64: 2022.03.08 ~ 2022.04.16 | P64: 지급각서 | Q64: 0.075 | S64: 648450 | T64: 0.0005 | U64: 완공일로부터 1년 | V64: 0.02 | W64: 72101507 | Y64: 곡성지사 | Z64: 국가계약법 | AA64: 26 | AB64: 1 | AC64: 5 | AD64: 가 | AE64: 추정가격이 건설공사 2억원, 전문공사 1억원, 기타공사 8천만원, 물품·용역 등 5천만원 이하의 계약 | AZ64: 8646000
A65: =1+A64 -> 54 | B65: 4100065198-001 | C65: 고정식 가스감지기(83EA) 사외 교정 | D65: 단독 | E65: 주식회사 가스트론 | F65: 119-81-10913 | G65: 최동진 | H65: 1 | J65: 10796500 | L65: KRW | M65: 2022.03.08 | N65: 2022.03.08 ~ 2022.04.26 | P65: 현금or증권 | Q65: 0.075 | R65: 서울보증보험 | S65: 809740 | T65: 0.0012 | W65: 77111690 | Y65: 평택지사 | Z65: 국가계약법 | AA65: 26 | AB65: 1 | AC65: 5 | AD65: 가 | AE65: 추정가격이 건설공사 2억원, 전문공사 1억원, 기타공사 8천만원, 물품·용역 등 5천만원 이하의 계약 | AF65: KNOC2022020130 | AJ65: 일반용역 | AK65: 수의계약(비공개) | AR65: 수의 | AS65: 2022.02.24 09:25 | AU65: 2022.03.02 11:00 | AV65: 2022.03.02 11:12 | AW65: 9815000 | AX65: 10796500 | AZ65: 0 | BA65: 10796500 | BB65: 단독 | BC65: 주식회사 가스트론 | BD65: 10796500 | BE65: 1 | BF65: 1
A66: =1+A65 -> 55 | B66: 4100065233-001 | C66: TANK PROVER 교정 용역 | D66: 단독 | E66: (주)우진 | F66: 135-81-05713 | G66: 이재상 | H66: 1 | J66: 8855000 | L66: KRW | M66: 2022.03.10 | N66: 2022.03.10 ~ 2022.04.11 | P66: 지급각서 | Q66: 0.075 | S66: 664130 | T66: 0.0012 | W66: 72151295 | Y66: 용인지사 | Z66: 국가계약법 | AA66: 26 | AB66: 1 | AC66: 5 | AD66: 가 | AE66: 추정가격이 건설공사 2억원, 전문공사 1억원, 기타공사 8천만원, 물품·용역 등 5천만원 이하의 계약 | AZ66: 0
A67: =1+A66 -> 56 | B67: 4100065275-001 | C67: 서산지사 폼 저장탱크 증설 설계용역 | D67: 단독 | E67: 주식회사 토탈방재 | F67: 113-81-63635 | G67: 배대순 | H67: 1 | J67: 6270000 | L67: KRW | M67: 2022.03.14 | N67: 2022.03.14 ~ 2022.05.12 | P67: 현금or증권 | Q67: 0.075 | R67: 기타 | S67: 470250 | T67: 0.0012 | W67: 72101507 | Y67: 서산지사 | Z67: 국가계약법 | AA67: 26 | AB67: 1 | AC67: 5 | AD67: 가 | AE67: 추정가격이 건설공사 2억원, 전문공사 1억원, 기타공사 8천만원, 물품·용역 등 5천만원 이하의 계약 | AZ67: 0
A68: =1+A67 -> 57 | B68: 4100065256-001 | C68: UPS 및 소방 엔진펌프용 축전지 구매(교체) | D68: 단독 | E68: (주)이화테크 | F68: 126-81-64718 | G68: 김민영 | H68: 1 | J68: 29071600 | L68: KRW | M68: 2022.03.14 | N68: 2022.03.14 ~ 2022.04.04 | P68: 현금or증권 | Q68: 0.05 | R68: 서울보증보험 | S68: 1453580 | T68: 0.0007 | U68: 검수 완료일로부터 1년 | V68: 0.05 | W68: 26111704 | Y68: 서산지사 | Z68: 국가계약법 | AA68: 26 | AB68: 1 | AC68: 5 | AD68: 가 | AE68: 추정가격이 건설공사 2억원, 전문공사 1억원, 기타공사 8천만원, 물품·용역 등 5천만원 이하의 계약 | AF68: KNOC2022030060 | AI68: √ | AJ68: 물품구매 | AK68: 수의계약(비공개) | AR68: 수의 | AS68: 2022.03.10 16:04 | AU68: 2022.03.10 16:20 | AV68: 2022.03.10 16:29 | AW68: 27530000 | AX68: 30283000 | AZ68: 0 | BA68: 29374000 | BB68: 단독 | BC68: (주)이화테크 | BD68: 29071600 | BE68: 0.9897 | BF68: 1
A69: =1+A68 -> 58 | B69: 4100065283-001 | C69: VOC 처리설비 내화피복 공사 | D69: 단독 | E69: 국토디앤아이(주) | F69: 667-81-01664 | G69: 이선숙 | H69: 1 | J69: 10725000 | L69: KRW | M69: 2022.03.15 | N69: 2022.03.15 ~ 2022.04.11 | P69: 지급각서 | Q69: 0.075 | S69: 804380 | T69: 0.0005 | U69: 완공일로부터 1년 | V69: 0.02 | W69: 72101507 | Y69: 곡성지사 | Z69: 국가계약법 | AA69: 26 | AB69: 1 | AC69: 5 | AD69: 가 | AE69: 추정가격이 건설공사 2억원, 전문공사 1억원, 기타공사 8천만원, 물품·용역 등 5천만원 이하의 계약 | AZ69: 10725000
A70: =1+A69 -> 59 | B70: 4100065307-001 | C70: 서산지사 VOCS 및 액체질소 배관관로 설계용역 | D70: 단독 | E70: 주식회사 범창종합기술 | F70: 213-86-27797 | G70: 남창호 | H70: 1 | J70: 10780000 | L70: KRW | M70: 2022.03.16 | N70: 2022.03.16 ~ 2022.05.04 | P70: 현금or증권 | Q70: 0.075 | R70: 엔지니어링공제조합 | S70: 808500 | T70: 0.0012 | W70: 72101507 | Y70: 서산지사 | Z70: 국가계약법 | AA70: 26 | AB70: 1 | AC70: 5 | AD70: 가 | AE70: 추정가격이 건설공사 2억원, 전문공사 1억원, 기타공사 8천만원, 물품·용역 등 5천만원 이하의 계약 | AZ70: 0
A71: =1+A70 -> 60 | B71: 4100065311-001 | C71: 등경유탱크지역 사면 안전설비 설치공사 | D71: 단독 | E71: 경도건설(주) | F71: 132-81-21524 | G71: 이영구 | H71: 1 | J71: 8426000 | L71: KRW | M71: 2022.03.16 | N71: 2022.03.16 ~ 2022.04.05 | P71: 지급각서 | Q71: 0.075 | R71: 전문건설공제조합 | S71: 631950 | T71: 0.0005 | U71: 1년 | V71: 0.02 | W71: 72153990 | Y71: 용인지사 | Z71: 국가계약법 | AA71: 26 | AB71: 1 | AC71: 5 | AD71: 가 | AE71: 추정가격이 건설공사 2억원, 전문공사 1억원, 기타공사 8천만원, 물품·용역 등 5천만원 이하의 계약 | AZ71: 8426000
A72: =1+A71 -> 61 | B72: 4100065295-001 | C72: 여수지사 기존공동 20“ FLAME ARRESTER 구매 | D72: 단독 | E72: 주식회사 세원큐엔텍 | F72: 622-81-21008 | G72: 류유열 | H72: 1 | J72: 42000000 | L72: KRW | M72: 2022.03.16 | N72: 2022.03.16 ~ 2022.06.23 | P72: 지급각서 | Q72: 0.05 | S72: 2100000 | T72: 0.0007 | U72: 1년 | V72: 0.05 | W72: 40141609 | Y72: 여수지사 | AF72: KNOC2022030030 | AJ72: 물품구매 | AK72: 제한경쟁 | AL72: √ | AR72: 2단계(동시) | AS72: 2022.03.07 14:04 | AU72: 2022.03.15 14:00 | AV72: 2022.03.15 14:35 | AW72: 39600000 | AX72: 43560000 | AY72: 43560000 | AZ72: 0 | BA72: 43588192 | BB72: 단독 | BC72: 주식회사 세원큐엔텍 | BD72: 42000000 | BE72: 0.9636 | BF72: 2
A73: =1+A72 -> 62 | B73: 4100065336-001 | C73: 서산지사 휘발유탱크 VOCS 및 질소 배관관로 토목 설계용역 | D73: 단독 | E73: 영광측량설계사무소 | F73: 192-03-01124 | G73: 임명호 | H73: 1 | J73: 8800000 | L73: KRW | M73: 2022.03.18 | N73: 2022.03.18 ~ 2022.04.18 | P73: 현금or증권 | Q73: 0.075 | R73: 서울보증보험 | S73: 660000 | T73: 0.0012 | W73: 72101507 | Y73: 서산지사 | Z73: 국가계약법 | AA73: 26 | AB73: 1 | AC73: 5 | AD73: 가 | AE73: 추정가격이 건설공사 2억원, 전문공사 1억원, 기타공사 8천만원, 물품·용역 등 5천만원 이하의 계약 | AZ73: 0
A74: =1+A73 -> 63 | B74: 4100065355-001 | C74: 직원 안전화 구매 | D74: 단독 | E74: 주식회사 행복큐산업 | F74: 132-81-94589 | G74: 박지혜 | H74: 1 | J74: 2821500 | L74: KRW | M74: 2022.03.21 | N74: 2022.03.21 ~ 2022.04.20 | P74: 지급각서 | Q74: 0.1 | S74: 282150 | T74: 0.0007 | W74: 46181605 | Y74: 울산지사 | Z74: 국가계약법 | AA74: 26 | AB74: 1 | AC74: 5 | AD74: 가 | AE74: 추정가격이 건설공사 2억원, 전문공사 1억원, 기타공사 8천만원, 물품·용역 등 5천만원 이하의 계약 | AZ74: 0
A75: =1+A74 -> 64 | B75: 4100065349-001 | C75: 터빈엔진 취외작업 지원인력 용역 | D75: 단독 | E75: 석원기공(주) | F75: 610-81-72125 | G75: 김영제 | H75: 1 | J75: 36261500 | L75: KRW | M75: 2022.03.22 | N75: 2022.03.22 ~ 2022.06.30 | P75: 지급각서 | Q75: 0.1 | S75: 3626150 | T75: 0.0012 | W75: 72153990 | Y75: 가스전관리사무소 | Z75: 국가계약법 | AA75: 26 | AB75: 1 | AC75: 2 | AD75: 가 | AE75: 시설물하자책임불명확한 경우 현재 시공자와 계약 | AF75: KNOC2022030140 | AJ75: 일반용역 | AK75: 수의계약(비공개) | AR75: 수의 | AS75: 2022.03.18 13:12 | AU75: 2022.03.18 14:00 | AV75: 2022.03.18 14:17 | AW75: 34700000 | AX75: 38170000 | AZ75: 0 | BA75: 37020000 | BB75: 단독 | BC75: 석원기공(주) | BD75: 36261500 | BE75: 0.9795 | BF75: 1
A76: =1+A75 -> 65 | B76: 4100065376-001 | C76: 알뜰 탱크지역 비상전원설비 축전지 구매(교체포함) | D76: 단독 | E76: (주)이화테크 | F76: 126-81-64718 | G76: 김민영 | H76: 1 | J76: 10264320 | L76: KRW | M76: 2022.03.24 | N76: 2022.03.24 ~ 2022.04.12 | P76: 현금or증권 | Q76: 0.05 | R76: 서울보증보험 | S76: 513220 | T76: 0.0007 | U76: 납품검사 완료일로부터 1년 | V76: 0.05 | W76: 32131098 | Y76: 평택지사 | Z76: 국가계약법 | AA76: 26 | AB76: 1 | AC76: 5 | AD76: 가 | AE76: 추정가격이 건설공사 2억원, 전문공사 1억원, 기타공사 8천만원, 물품·용역 등 5천만원 이하의 계약 | AF76: KNOC2022030100 | AJ76: 물품구매 | AK76: 수의계약(비공개) | AR76: 수의 | AS76: 2022.03.15 15:52 | AU76: 2022.03.22 11:00 | AV76: 2022.03.22 11:11 | AW76: 9720000 | AX76: 10692000 | AZ76: 0 | BA76: 10692000 | BB76: 단독 | BC76: (주)이화테크 | BD76: 10264320 | BE76: 0.96 | BF76: 1
A77: =1+A76 -> 66 | B77: 4100065413-001 | C77: 2022년도 ESRI사 석유개발 소프트웨어 업데이트 구매 | D77: 단독 | E77: 주식회사 한국에스리 | F77: 120-87-96816 | G77: 윤리차드케이 | H77: 1 | J77: 6864000 | L77: KRW | M77: 2022.03.25 | N77: 2022.01.01 ~ 2022.03.31 | P77: 지급각서 | Q77: 0.15 | S77: 1029600 | T77: 0.0025 | W77: 81112299 | Y77: 글로벌기술센터 | Z77: 국가계약법 | AA77: 26 | AB77: 1 | AC77: 2 | AD77: 자 | AE77: 생산자가 1인인 경우 | AZ77: 0
A78: =1+A77 -> 67 | B78: 4100065414-001 | C78: 2022년도 UIT사 석유개발 소프트웨어 업데이트 구매 | D78: 단독 | E78: (주)유아이티 | F78: 105-81-90922 | G78: 김종민 | H78: 1 | J78: 17600000 | L78: KRW | M78: 2022.03.25 | N78: 2022.04.01 ~ 2023.03.31 | P78: 지급각서 | Q78: 0.15 | S78: 2640000 | T78: 0.0025 | W78: 81112299 | Y78: 글로벌기술센터 | Z78: 국가계약법 | AA78: 26 | AB78: 1 | AC78: 2 | AD78: 자 | AE78: 생산자가 1인인 경우 | AZ78: 0
A79: =1+A78 -> 68 | B79: 4100065529-001 | C79: 2020~2022년 전산장비 운영 및 유지관리 용역(2022년도분) | D79: 공동이행 | E79: 주식회사 콤텍정보통신 | F79: 229-81-12784 | G79: 김수상 | H79: 0.6 | J79: 2795357634 | K79: 7790179842 | L79: KRW | M79: 2022.03.25 | N79: 2022.04.06 ~ 2023.04.05 | O79: 2020.04.06 ~ 2023.04.05 | P79: 현금or증권 | Q79: 0.15 | R79: 서울보증보험 | S79: 1168526980 | T79: 0.0012 | W79: 81112399 | Y79: 총무처 조달팀 | AF79: KNOC2020010220 | AG79: √ | AJ79: 일반용역 | AK79: 제한경쟁 | AL79: √ | AM79: √ | AR79: 협상(종합평가) | AS79: 2020.02.25 08:36 | AT79: 2020.03.16 15:00 | AU79: 2020.03.17 15:00 | AV79: 2020.04.01 08:50 | AW79: 7328783595 | AX79: 8061661954 | AY79: 8061661954 | AZ79: 0 | BA79: 8012222680 | BB79: 공동이행 | BC79: 주식회사 콤텍정보통신 | BD79: 7715010000 | BE79: 0.9629 | BF79: 4
A80: =1+A79 -> 69 | B80: 4100065389-001 | C80: 2022년도 유튜브 영상 콘텐츠 제작 용역 | D80: 단독 | E80: 포털미디어 | F80: 208-34-95519 | G80: 배윤경 | H80: 1 | J80: 29950080 | L80: KRW | M80: 2022.03.25 | N80: 2022.03.25 ~ 2022.12.31 | P80: 현금or증권 | Q80: 0.075 | R80: 서울보증보험 | S80: 2246260 | T80: 0.0012 | U80: 준공검사완료일로부터 1년 | V80: 0.02 | W80: 82131603 | Y80: 총무처 조달팀 | AF80: KNOC2022030080 | AJ80: 일반용역 | AK80: 제한경쟁 | AM80: √ | AO80: √ | AR80: 적격심사 | AS80: 2022.03.14 13:39 | AT80: 2022.03.21 14:00 | AU80: 2022.03.22 14:00 | AV80: 2022.03.22 14:19 | AW80: 34000000 | AX80: 37400000 | AY80: 37400000 | AZ80: 0 | BA80: 37100566 | BB80: 단독 | BC80: 포털미디어 | BD80: 29950080 | BE80: 0.8073 | BF80: 4
A81: =1+A80 -> 70 | B81: 4100065412-001 | C81: TANK PROVER 교정작업 용역 | D81: 단독 | E81: (주)우진 | F81: 135-81-05713 | G81: 이재상 | H81: 1 | J81: 7308400 | L81: KRW | M81: 2022.03.28 | N81: 2022.03.28 ~ 2022.04.26 | P81: 지급각서 | Q81: 0.075 | S81: 548130 | T81: 0.0012 | W81: 73171694 | Y81: 곡성지사 | Z81: 국가계약법 | AA81: 26 | AB81: 1 | AC81: 5 | AD81: 가 | AE81: 추정가격이 건설공사 2억원, 전문공사 1억원, 기타공사 8천만원, 물품·용역 등 5천만원 이하의 계약 | AZ81: 0
A82: =1+A81 -> 71 | B82: 4100065416-001 | C82: 서산지사 폼탱크 구조물 설계용역 | D82: 단독 | E82: 영광측량설계사무소 | F82: 192-03-01124 | G82: 임명호 | H82: 1 | J82: 6600000 | L82: KRW | M82: 2022.03.28 | N82: 2022.03.28 ~ 2022.05.06 | P82: 현금or증권 | Q82: 0.075 | R82: 서울보증보험 | S82: 495000 | W82: 72101507 | Y82: 서산지사 | Z82: 국가계약법 | AA82: 26 | AB82: 1 | AC82: 5 | AD82: 가 | AE82: 추정가격이 건설공사 2억원, 전문공사 1억원, 기타공사 8천만원, 물품·용역 등 5천만원 이하의 계약 | AZ82: 0
A83: =1+A82 -> 72 | B83: 4100065424-001 | C83: 2022년 서산지사 저장탱크 침하량 측정용역 | D83: 단독 | E83: (주)세종엔지니어링 | F83: 307-81-27272 | G83: 이태희 | H83: 1 | J83: 10725000 | L83: KRW | M83: 2022.03.28 | N83: 2022.03.28 ~ 2022.04.26 | P83: 현금or증권 | Q83: 0.075 | R83: 서울보증보험 | S83: 804380 | T83: 0.0012 | W83: 72101507 | Y83: 서산지사 | Z83: 국가계약법 | AA83: 26 | AB83: 1 | AC83: 5 | AD83: 가 | AE83: 추정가격이 건설공사 2억원, 전문공사 1억원, 기타공사 8천만원, 물품·용역 등 5천만원 이하의 계약 | AZ83: 0
A84: =1+A83 -> 73 | B84: 4100065432-001 | C84: 2022년도 기념품 통합구매 대행 용역 | D84: 단독 | E84: 주식회사 현대이지웰 | F84: 101-81-90575 | G84: 장영순 | H84: 1 | J84: 618450000 | L84: KRW | M84: 2022.03.30 | N84: 2022.03.30 ~ 2022.12.31 | P84: 현금or증권 | Q84: 0.075 | R84: 서울보증보험 | S84: 46383750 | T84: 0.0012 | W84: 80141899 | Y84: 총무처 조달팀 | AF84: KNOC2022020070 | AH84: √ | AJ84: 일반용역 | AK84: 일반경쟁 | AR84: 협상(종합평가) | AS84: 2022.02.14 17:16 | AT84: 2022.02.24 14:00 | AU84: 2022.02.25 14:00 | AV84: 2022.03.28 13:17 | AW84: 591818182 | AX84: 651000000 | AY84: 651000000 | AZ84: 0 | BA84: 649557086 | BB84: 단독 | BC84: 주식회사 현대이지웰 | BD84: 618450000 | BE84: 0.9521 | BF84: 3
A85: =1+A84 -> 74 | B85: 4100065467-001 | C85: 서산지사 휘발유 탱크 20" BALL VALVE 보수공사 | D85: 단독 | E85: 주식회사 성진엔지니어링 | F85: 307-81-42439 | G85: 장인숙 | H85: 1 | J85: 41675000 | L85: KRW | M85: 2022.03.31 | N85: 2022.03.31 ~ 2022.06.28 | P85: 현금or증권 | Q85: 0.075 | R85: 대한설비공제조합 | S85: 3125630 | T85: 0.0005 | U85: 준공검사 완료일로부터 1년 | V85: 0.02 | W85: 72101507 | Y85: 서산지사 | AF85: KNOC2022030150 | AH85: √ | AJ85: 시설공사 | AK85: 제한경쟁 | AO85: √ | AR85: 적격심사 | AS85: 2022.03.18 15:52 | AU85: 2022.03.24 10:00 | AV85: 2022.03.24 10:12 | AW85: 41090000 | AX85: 45199000 | AY85: 45199000 | AZ85: 45199000 | BA85: 44779770 | BB85: 단독 | BC85: 주식회사 성진엔지니어링 | BD85: 41675000 | BE85: 0.9307 | BF85: 134
A86: =1+A85 -> 75 | B86: 4100065395-001 | C86: 울산지사 원유배관 교체공사 조사설계 용역 | D86: 분담이행 | E86: 벽산엔지니어링 주식회사 | F86: 116-81-08140 | G86: 김동운 | H86: 0 | I86: 설계분야 | J86: 1560300000 | L86: KRW | M86: 2022.03.31 | N86: 2022.03.31 ~ 2023.01.30 | P86: 현금or증권 | Q86: 0.075 | R86: 엔지니어링공제조합 | S86: 117022500 | T86: 0.0012 | W86: 81101508 | Y86: 총무처 조달팀 | AF86: KNOC2022020100 | AJ86: 기술용역 | AK86: 일반경쟁 | AQ86: √ | AR86: 적격심사 | AS86: 2022.02.17 20:50 | AT86: 2022.03.21 14:00 | AU86: 2022.03.22 14:00 | AV86: 2022.03.22 14:48 | AW86: 1804000000 | AX86: 1984400000 | AY86: 1984400000 | AZ86: 0 | BA86: 1983479910 | BB86: 분담이행 | BC86: 벽산엔지니어링 주식회사 | BD86: 1560300000 | BE86: 0.7866 | BF86: 2
A87: =1+A86 -> 76 | B87: 4100065440-001 | C87: 2022~2024년 ERP 운영 및 유지보수 용역(2022년도) | D87: 단독 | E87: (주)비에이치컨설팅 | F87: 206-86-01936 | G87: 이완재 | H87: 1 | J87: 2312400000 | K87: 6937000000 | L87: KRW | M87: 2022.04.01 | N87: 2022.04.01 ~ 2023.03.31 | O87: 2022.04.01 ~ 2025.03.31 | P87: 현금or증권 | Q87: 0.075 | R87: 서울보증보험 | S87: 520275000 | T87: 0.0012 | W87: 81112299 | Y87: 총무처 조달팀 | Z87: 국가계약법 | AA87: 27 | AB87: 3 | AC87: 0 | AD87: 0 | AE87: 기재부장관 고시기간 내 입찰자가 1인뿐일 경우 재공고 없이 수의계약 | AF87: KNOC2022030191 | AJ87: 일반용역 | AK87: 수의계약(비공개) | AR87: 수의 | AS87: 2022.03.29 11:23 | AU87: 2022.03.29 14:20 | AV87: 2022.03.29 14:22 | AW87: 6402798000 | AX87: 7043077800 | AZ87: 0 | BA87: 6955610000 | BB87: 단독 | BC87: (주)비에이치컨설팅 | BD87: 6937000000 | BE87: 0.9973 | BF87: 1
A88: =1+A87 -> 77 | B88: 4100065481-001 | C88: 2022년 예방점검시스템(EMAS) 플랫폼 유지관리 용역 | D88: 단독 | E88: (주)비에이치컨설팅 | F88: 206-86-01936 | G88: 이완재 | H88: 1 | J88: 51500000 | L88: KRW | M88: 2022.04.01 | N88: 2022.04.01 ~ 2023.03.31 | P88: 현금or증권 | Q88: 0.075 | R88: 서울보증보험 | S88: 3862500 | T88: 0.0012 | W88: 81112399 | Y88: 총무처 조달팀 | Z88: 국가계약법 | AA88: 26 | AB88: 1 | AC88: 2 | AD88: 바 | AE88: 제조공급자가 설치 조립시 | AF88: KNOC2022030202 | AJ88: 일반용역 | AK88: 수의계약(비공개) | AR88: 수의 | AS88: 2022.03.28 14:23 | AU88: 2022.03.28 16:30 | AV88: 2022.03.28 16:33 | AW88: 48682000 | AX88: 53550200 | AZ88: 0 | BA88: 51760000 | BB88: 단독 | BC88: (주)비에이치컨설팅 | BD88: 51500000 | BE88: 0.995 | BF88: 1
A89: =1+A88 -> 78 | B89: 4100065474-001 | C89: 탱크지역 공정배관 도장공사 | D89: 단독 | E89: 대영개발(주) | F89: 306-81-20543 | G89: 길춘매 | H89: 1 | J89: 29635000 | L89: KRW | M89: 2022.04.01 | N89: 2022.04.01 ~ 2022.06.19 | P89: 지급각서 | Q89: 0.075 | S89: 2222630 | T89: 0.0005 | U89: 준공검사 완료일로부터 1년 | V89: 0.02 | W89: 72101507 | Y89: 곡성지사 | Z89: 국가계약법 | AA89: 26 | AB89: 1 | AC89: 5 | AD89: 가 | AE89: 추정가격이 건설공사 2억원, 전문공사 1억원, 기타공사 8천만원, 물품·용역 등 5천만원 이하의 계약 | AF89: KNOC2022030240 | AJ89: 시설공사 | AK89: 수의계약(비공개) | AR89: 수의 | AS89: 2022.03.31 10:07 | AU89: 2022.03.31 15:00 | AV89: 2022.03.31 15:14 | AW89: 33130000 | AX89: 36443000 | AZ89: 29635000 | BA89: 36100000 | BB89: 단독 | BC89: 대영개발(주) | BD89: 29635000 | BE89: 0.8209 | BF89: 1
A90: =1+A89 -> 79 | B90: 4100065455-001 | C90: 공정지역 LPG 매설배관 심매양극 보완공사 | D90: 단독 | E90: 주식회사 재경이앤에프 | F90: 125-81-65674 | G90: 공종천 | H90: 1 | J90: 80628302 | L90: KRW | M90: 2022.04.04 | N90: 2022.04.04 ~ 2022.05.23 | P90: 현금or증권 | Q90: 0.075 | R90: 전기공사공제조합 | S90: 6047130 | T90: 0.0005 | U90: 준공검사 완료일로부터 1년 | V90: 0.02 | W90: 72151597 | Y90: 평택지사 | AF90: KNOC2022030110 | AG90: √ | AJ90: 시설공사 | AK90: 제한경쟁 | AO90: √ | AP90: √ | AR90: 적격심사 | AS90: 2022.03.17 16:48 | AT90: 2022.03.28 10:00 | AU90: 2022.03.29 11:00 | AV90: 2022.03.29 11:11 | AW90: 83530000 | AX90: 91883000 | AY90: 91883000 | AZ90: 91883000 | BA90: 91888333 | BB90: 단독 | BC90: 주식회사 재경이앤에프 | BD90: 80628302 | BE90: 0.8775 | BF90: 1042
A91: =1+A90 -> 80 | B91: 4100065475-001 | C91: 2022년 세계가스총회(WGC) 홍보관 제작·운영 용역 | D91: 단독 | E91: 주식회사 에이스페이스마케팅 | F91: 105-87-39548 | G91: 나진철 | H91: 1 | J91: 146740000 | L91: KRW | M91: 2022.04.04 | N91: 2022.04.04 ~ 2022.07.29 | P91: 현금or증권 | Q91: 0.075 | R91: 서울보증보험 | S91: 11005500 | T91: 0.0012 | W91: 80161598 | Y91: 총무처 조달팀 | AF91: KNOC2022030070 | AJ91: 일반용역 | AK91: 제한경쟁 | AM91: √ | AR91: 협상(종합평가) | AS91: 2022.03.11 16:36 | AT91: 2022.03.21 14:00 | AU91: 2022.03.22 14:00 | AV91: 2022.03.31 16:12 | AW91: 138959500 | AX91: 152855450 | AY91: 152855450 | AZ91: 0 | BA91: 154362589 | BB91: 단독 | BC91: 주식회사 에이디자인그룹 | BD91: 146740000 | BE91: 0.9506 | BF91: 4
A92: =1+A91 -> 81 | B92: 4100065470-001 | C92: 평택지사 육상입하설비 구축 계장공사 | D92: 분담이행 | E92: 케이에프시스템주식회사 | F92: 417-81-50255 | G92: 조현석 | H92: 0 | I92: 기자재 공사 | J92: 342397000 | L92: KRW | M92: 2022.04.05 | N92: 2022.04.05 ~ 2022.09.02 | P92: 현금or증권 | Q92: 0.075 | R92: 전기공사공제조합 | S92: 25679780 | T92: 0.0005 | U92: 준공검사완료일로부터 1년 | V92: 0.02 | W92: 72151699 | Y92: 총무처 조달팀 | Z92: 국가계약법 | AA92: 27 | AB92: 3 | AC92: 0 | AD92: 0 | AE92: 기재부장관 고시기간 내 입찰자가 1인뿐일 경우 재공고 없이 수의계약 | AF92: KNOC2022030271 | AJ92: 시설공사 | AK92: 수의계약(비공개) | AR92: 수의 | AS92: 2022.03.31 13:09 | AT92: 2022.03.31 13:40 | AU92: 2022.03.31 14:25 | AV92: 2022.03.31 14:27 | AW92: 326250000 | AX92: 358875000 | AZ92: 358875000 | BA92: 348350000 | BB92: 분담이행 | BC92: 케이에프시스템주식회사 | BD92: 342397000 | BE92: 0.9829 | BF92: 1
A93: =1+A92 -> 82 | B93: 4100065508-001 | C93: 등경유탱크지역 사면 제초 및 잡목제거 작업 | D93: 단독 | E93: 용인시산림조합 | F93: 135-82-01164 | G93: 이대영 | H93: 1 | J93: 8306000 | L93: KRW | M93: 2022.04.05 | N93: 2022.04.05 ~ 2022.05.03 | P93: 지급각서 | Q93: 0.075 | S93: 622950 | T93: 0.0005 | W93: 72102906 | Y93: 용인지사 | Z93: 국가계약법 | AA93: 26 | AB93: 1 | AC93: 5 | AD93: 가 | AE93: 추정가격이 건설공사 2억원, 전문공사 1억원, 기타공사 8천만원, 물품·용역 등 5천만원 이하의 계약 | AZ93: 8306000
A94: =1+A93 -> 83 | B94: 4100065522-001 | C94: 서산지사 휘발유탱크 VOC 처리설비 배관 설치공사 | D94: 단독 | E94: 백산이엔씨 주식회사 | F94: 610-81-84709 | G94: 신권항 | H94: 1 | J94: 359434000 | L94: KRW | M94: 2022.04.06 | N94: 2022.04.06 ~ 2022.07.05 | P94: 현금or증권 | Q94: 0.075 | R94: 기계공제조합 | S94: 26957550 | T94: 0.0005 | U94: 준공검사완료일로부터 3년 | V94: 0.02 | W94: 72151295 | Y94: 총무처 조달팀 | AF94: KNOC2022030160 | AH94: √ | AJ94: 시설공사 | AK94: 제한경쟁 | AN94: √ | AR94: 적격심사 | AS94: 2022.03.23 17:33 | AT94: 2022.03.28 10:30 | AU94: 2022.03.29 14:00 | AV94: 2022.03.29 14:11 | AW94: 375400000 | AX94: 412940000 | AY94: 412940000 | AZ94: 412940000 | BA94: 414024170 | BB94: 단독 | BC94: 백산이엔씨 주식회사 | BD94: 359434000 | BE94: 0.8682 | BF94: 2
A95: =1+A94 -> 84 | B95: 4100065544-001 | C95: 방유제 제초제 살포작업 용역 | D95: 단독 | E95: 대산중기 | F95: 107-01-72836 | G95: 백갑현 | H95: 1 | J95: 8910000 | L95: KRW | M95: 2022.04.07 | N95: 2022.04.07 ~ 2022.04.30 | P95: 현금or증권 | Q95: 0.075 | R95: 서울보증보험 | S95: 668250 | T95: 0.0012 | W95: 72102906 | Y95: 서산지사 | Z95: 국가계약법 | AA95: 26 | AB95: 1 | AC95: 5 | AD95: 가 | AE95: 추정가격이 건설공사 2억원, 전문공사 1억원, 기타공사 8천만원, 물품·용역 등 5천만원 이하의 계약 | AZ95: 0
A96: =1+A95 -> 85 | B96: 4100065575-001 | C96: 2022년도 석유정보시스템 유지관리 용역 | D96: 단독 | E96: (주)비에이치컨설팅 | F96: 206-86-01936 | G96: 이완재 | H96: 1 | J96: 379000000 | L96: KRW | M96: 2022.04.08 | N96: 2022.04.08 ~ 2023.04.07 | P96: 현금or증권 | Q96: 0.075 | R96: 서울보증보험 | S96: 28425000 | T96: 0.0012 | W96: 81111899 | Y96: 총무처 조달팀 | Z96: 공기업계약사무규칙 | AA96: 8 | AB96: 1 | AC96: 6 | AD96: 0 | AE96: 성과공유제 확산 | AZ96: 0
A97: =1+A96 -> 86 | B97: 4100065593-001 | C97: 경유탱크(T-102)윤활성 향상제 구매 | D97: 단독 | E97: 주식회사 이맥솔루션 대전지점 | F97: 558-85-00641 | G97: 임대재 | H97: 1 | J97: 10810800 | L97: KRW | M97: 2022.04.12 | N97: 2022.04.12 ~ 2022.05.11 | P97: 현금or증권 | Q97: 0.05 | R97: 서울보증보험 | S97: 540540 | T97: 0.0007 | W97: 15121520 | Y97: 동해지사 | Z97: 국가계약법 | AA97: 26 | AB97: 1 | AC97: 5 | AD97: 가 | AE97: 추정가격이 건설공사 2억원, 전문공사 1억원, 기타공사 8천만원, 물품·용역 등 5천만원 이하의 계약 | AZ97: 0
A98: =1+A97 -> 87 | B98: 4100065559-001 | C98: 업무용 가상화PC 전용단말기 추가 구매 | D98: 단독 | E98: (주)굿센 | F98: 107-86-55213 | G98: 박연정 | H98: 1 | J98: 20593100 | L98: KRW | M98: 2022.04.12 | N98: 2022.04.12 ~ 2022.07.01 | P98: 지급각서 | Q98: 0.1 | S98: 2059310 | T98: 0.0007 | U98: 검수완료일로부터 3년 | V98: 0.05 | W98: 43211507 | Y98: 스마트데이터센터 | Z98: 국가계약법 | AA98: 26 | AB98: 1 | AC98: 2 | AD98: 사 | AE98: 부품공급 및 설비확충 시 호환성 | AF98: KNOC2022030251 | AJ98: 물품구매 | AK98: 수의계약(비공개) | AR98: 수의 | AS98: 2022.03.30 13:13 | AU98: 2022.04.08 14:00 | AV98: 2022.04.08 14:28 | AW98: 19300000 | AX98: 21230000 | AZ98: 0 | BA98: 20593100 | BB98: 단독 | BC98: (주)굿센 | BD98: 20593100 | BE98: 1 | BF98: 1
A99: =1+A98 -> 88 | B99: 4100065539-001 | C99: 2022년도 평택지사 육상입하설비 구축 기계공사 | D99: 단독 | E99: 대정개발(주) | F99: 417-81-13186 | G99: 이상우 | H99: 1 | J99: 193382000 | L99: KRW | M99: 2022.04.12 | N99: 2022.04.12 ~ 2022.11.07 | P99: 현금or증권 | Q99: 0.075 | R99: 대한설비공제조합 | S99: 14503650 | T99: 0.0005 | U99: 준공검사완료일로부터 3년 | V99: 0.02 | W99: 72151295 | Y99: 총무처 조달팀 | AF99: KNOC2022030210 | AH99: √ | AJ99: 시설공사 | AK99: 제한경쟁 | AN99: √ | AR99: 적격심사 | AS99: 2022.03.29 15:55 | AT99: 2022.04.04 14:00 | AU99: 2022.04.05 17:00 | AV99: 2022.04.05 17:17 | AW99: 198940000 | AX99: 218834000 | AY99: 218834000 | AZ99: 218834000 | BA99: 217987657 | BB99: 단독 | BC99: 대정개발(주) | BD99: 193382000 | BE99: 0.8871 | BF99: 4
A100: =1+A99 -> 89 | B100: 4100065606-001 | C100: 비축경유 윤활성 향상제 구매 | D100: 단독 | E100: 주식회사 이맥솔루션 대전지점 | F100: 558-85-00641 | G100: 임대재 | H100: 1 | J100: 14137200 | L100: KRW | M100: 2022.04.13 | N100: 2022.04.13 ~ 2022.05.13 | P100: 지급각서 | Q100: 0.05 | S100: 706860 | T100: 0.0007 | W100: 15101599 | Y100: 용인지사 | Z100: 국가계약법 | AA100: 26 | AB100: 1 | AC100: 2 | AD100: 자 | AE100: 생산자가 1인인 경우 | AZ100: 0
A101: =1+A100 -> 90 | B101: 4100065602-001 | C101: 2022년 한국석유공사 본사 기계설비 성능점검 용역 | D101: 단독 | E101: 주식회사 중앙이엠씨 | F101: 605-81-53280 | G101: 정연태 | H101: 1 | J101: 39882000 | L101: KRW | M101: 2022.04.15 | N101: 2022.04.15 ~ 2022.10.11 | P101: 지급각서 | Q101: 0.075 | S101: 2991150 | T101: 0.0012 | W101: 72151295 | Y101: 총무처 조달팀 | AF101: KNOC2022040020 | AJ101: 일반용역 | AK101: 소액수의(견적입찰) | AR101: 최저가(낙찰하한율) | AS101: 2022.04.04 17:04 | AU101: 2022.04.08 10:30 | AV101: 2022.04.08 10:42 | AW101: 41190000 | AX101: 45309000 | AY101: 45309000 | AZ101: 0 | BA101: 45236493 | BB101: 단독 | BC101: 주식회사 중앙이엠씨 | BD101: 39882000 | BE101: 0.8816 | BF101: 11
A102: =1+A101 -> 91 | B102: 4100065628-001 | C102: 여수지사 수처리실 역세수 집수정 설치공사 | D102: 단독 | E102: (주)시티건설 | F102: 410-86-91323 | G102: 홍중철 | H102: 1 | J102: 10890000 | L102: KRW | M102: 2022.04.15 | N102: 2022.04.15 ~ 2022.05.09 | P102: 지급각서 | Q102: 0.075 | S102: 816750 | T102: 0.0005 | W102: 72149001 | Y102: 여수지사 | Z102: 국가계약법 | AA102: 26 | AB102: 1 | AC102: 5 | AD102: 가 | AE102: 추정가격이 건설공사 2억원, 전문공사 1억원, 기타공사 8천만원, 물품·용역 등 5천만원 이하의 계약 | AZ102: 10890000
...

Sheet 종합쇼핑몰 납품요구내역(2021년)
A1: □ 종합쇼핑몰 납품요구 내역(조달청 조달정보개방포털)
A2: ㅇ 작성기준 - 납품요구접수일자가 2021년도인 경우만 기재
A4: 구분 | B4: 건수 | C4: 계약금액 (원)
A5: 1분기 | B5: 18 | C5: =SUM(H13:H30) -> 1703725800
A6: 2분기 | B6: 14 | C6: =SUM(H31:H44) -> 352218400
A7: 3분기 | B7: 11 | C7: =SUM(H45:H55) -> 79588900
A8: 4분기 | B8: 21 | C8: =SUM(H56:H76) -> 674283570
A9: 합계 | B9: =SUM(B5:B8) -> 64 | C9: =SUM(C5:C8) -> 2809816670
A12: 순번 | B12: 납품요구접수일자 | C12: 분기 | D12: 납품요구번호 | E12: 수요기관명 | F12: 납품요구건명 | G12: 업체명 | H12: 납품요구금액 | I12: 대표물품분류번호 | J12: 대표품명 | K12: 대표세부물품분류번호 | L12: 대표세부품명 | M12: 납품요구수량 | N12: 최대납품기한 | O12: 계약구분 | P12: 계약번호 | Q12: 최초납품요구접수일자 | R12: 최초납품요구금액 | S12: 업체사업자등록번호 | T12: 업체기업구분명 | U12: 업체소재지명 | V12: 납품요구지청명
A13: 1 | B13: 20210119 | C13: 1 | D13: 2221307773 | E13: 한국석유공사 평택지사 | F13: 업무용 차량(다목적승용차) 구매 | G13: 기아 주식회사 | H13: 41320000 | I13: 25101507 | J13: 스포츠유틸리티차량 | K13: 2510150701 | L13: 다목적승용차 | M13: 4 | N13: 20210330 | O13: 제3자단가 | P13: 001950125 | Q13: 20210119 | R13: 41320000 | S13: 1198102316 | T13: 대기업 | U13: 서울특별시 서초구 | V13: 인천지방조달청
A14: 2 | B14: 20210121 | C14: 1 | D14: 2121304845 | E14: 한국석유공사 | F14: 재택근무자 등의 지원을 위한 망연계 장비 구매 | G14: (주)유니디아 | H14: 147015000 | I14: 43233205 | J14: 트랜잭션보안및바이러스보호소프트웨어 | K14: 4323320501 | L14: 보안소프트웨어 | M14: 3 | N14: 20210220 | O14: 제3자단가 | P14: 001851163 | Q14: 20210121 | R14: 147015000 | S14: 1108146807 | T14: 중소기업 | U14: 서울특별시 영등포구 | V14: 부산지방조달청
A15: 3 | B15: 20210125 | C15: 1 | D15: 3821305747 | E15: 한국석유공사 거제지사 | F15: 업무용 의자 구매 | G15: 유한회사 애니체 | H15: 816000 | I15: 56112102 | J15: 작업용의자 | K15: 5611210201 | L15: 작업용의자 | M15: 3 | N15: 20210224 | O15: 제3자단가 | P15: 242031121 | Q15: 20210125 | R15: 816000 | S15: 4108668763 | T15: 중소기업 | U15: 광주광역시 광산구 | V15: 경남지방조달청
A16: 4 | B16: 20210127 | C16: 1 | D16: 2121306744 | E16: 한국석유공사 | F16: 울산지사 지하화 건설공사 지급자재(파고라) 구매 | G16: 주식회사 무한랜드 | H16: 80640000 | I16: 49241511 | J16: 퍼걸러 | K16: 4924151101 | L16: 퍼걸러 | M16: 8 | N16: 20210630 | O16: 제3자단가 | P16: 352030242 | Q16: 20210127 | R16: 80640000 | S16: 3548800598 | T16: 중소기업 | U16: 전라북도 임실군 | V16: 부산지방조달청
A17: 5 | B17: 20210128 | C17: 1 | D17: 2121307295 | E17: 한국석유공사 | F17: 소프트웨어(캐디안) 구매 | G17: (주)가온아이 | H17: 2475000 | I17: 43232102 | J17: 그래픽소프트웨어 | K17: 4323210201 | L17: 그래픽소프트웨어 | M17: 3 | N17: 20210227 | O17: 제3자단가 | P17: 002050012 | Q17: 20210128 | R17: 2475000 | S17: 2118697088 | T17: 중소기업 | U17: 서울특별시 강남구 | V17: 부산지방조달청
A18: 6 | B18: 20210223 | C18: 1 | D18: 2121315454 | E18: 한국석유공사 | F18: 울산지사 지하화 건설공사 지급자재(체력단련시설) 구매 | G18: 주식회사 디자인파크개발 | H18: 55090000 | I18: 49201697 | J18: 야외운동기구 | K18: 4920169701 | L18: 야외운동기구 | M18: 24 | N18: 20210530 | O18: 제3자단가 | P18: 121820314 | Q18: 20210223 | R18: 55090000 | S18: 2208615514 | T18: 중소기업 | U18: 서울특별시 강서구 | V18: 부산지방조달청
A19: 7 | B19: 20210223 | C19: 1 | D19: 2521319403 | E19: 한국석유공사 서산지사 | F19: 카니발 2.2디젤 시그니처 구매(옵션포함) | G19: 기아 주식회사 | H19: 41690000 | I19: 78180299 | J19: 차량도장서비스 | K19: 7818029901 | L19: 차량도장서비스 | M19: 5 | N19: 20210623 | O19: 제3자단가 | P19: 001760111 | Q19: 20210223 | R19: 41690000 | S19: 1198102316 | T19: 대기업 | U19: 서울특별시 서초구 | V19: 대전지방조달청
A20: 8 | B20: 20210224 | C20: 1 | D20: 2221332075 | E20: 한국석유공사 용인지사 | F20: 적외선 체온계 구매 | G20: 주식회사 테크엔 | H20: 58000 | I20: 42182299 | J20: 적외선체온계 | K20: 4218229901 | L20: 적외선체온계 | M20: 1 | N20: 20210306 | O20: 제3자단가 | P20: 002160020 | Q20: 20210224 | R20: 58000 | S20: 5148168599 | T20: 중소기업 | U20: 대구광역시 달성군 | V20: 인천지방조달청
A21: 9 | B21: 20210225 | C21: 1 | D21: 2521321310 | E21: 한국석유공사 서산지사 | F21: 사물함 구매 | G21: 주식회사 오넥트 | H21: 1862000 | I21: 56101520 | J21: 로커 | K21: 5610152001 | L21: 사물함 | M21: 3 | N21: 20210327 | O21: 제3자단가 | P21: 001970087 | Q21: 20210225 | R21: 1862000 | S21: 1378189252 | T21: 중소기업 | U21: 인천광역시 서구 | V21: 대전지방조달청
A22: 10 | B22: 20210226 | C22: 1 | D22: 2521321943 | E22: 한국석유공사 서산지사 | F22: 비디오프로젝터 구매 | G22: 주식회사 트리엠 | H22: 3920000 | I22: 45111616 | J22: 비디오프로젝터 | K22: 4511161601 | L22: 비디오프로젝터 | M22: 2 | N22: 20210328 | O22: 제3자단가 | P22: 002062152 | Q22: 20210226 | R22: 3920000 | S22: 2208605262 | T22: 중소기업 | U22: 서울특별시 성동구 | V22: 대전지방조달청
A23: 11 | B23: 20210311 | C23: 1 | D23: 2121320092 | E23: 한국석유공사 | F23: 스마트워크 시범층(20층) 사무용 가구 구매 | G23: 주식회사 코아스 | H23: 48650000 | I23: 56111601 | J23: 패널시스템용칸막이 | K23: 5611160101 | L23: 사무실칸막이 | M23: 127 | N23: 20210410 | O23: 제3자단가 | P23: 122010936 | Q23: 20210311 | R23: 48650000 | S23: 1178109929 | T23: 중소기업 | U23: 서울특별시 영등포구 | V23: 부산지방조달청
A24: 12 | B24: 20210311 | C24: 1 | D24: 2121320094 | E24: 한국석유공사 | F24: 스마트워크 시범층(20층) 사무용 가구 구매 | G24: 주식회사 제이퍼스 | H24: 17226000 | I24: 56101520 | J24: 로커 | K24: 5610152001 | L24: 사물함 | M24: 29 | N24: 20210410 | O24: 제3자단가 | P24: 211731523 | Q24: 20210311 | R24: 17226000 | S24: 3698100382 | T24: 중소기업 | U24: 부산광역시 기장군 | V24: 부산지방조달청
... A76: 64 | B76: 20211224 | C76: 4 | D76: 2221478940 | E76: 한국석유공사 평택지사 | F76: 공기청정기 구매(5대) | G76: (주)위닉스 | H76: 2750000 | I76: 40161602 | J76: 공기청정기 | K76: 4016160201 | L76: 공기청정기 | M76: 5 | N76: 20220123 | O76: 제3자단가 | P76: 001781646 | Q76: 20211224 | R76: 2750000 | S76: 1338122434 | T76: 중견기업 | U76: 경기도 시흥시 | V76: 인천지방조달청

Sheet 2022년 종합쇼핑몰 전사 추가
A1: □ 종합쇼핑몰 납품요구 내역(조달청 조달정보개방포털)
A2: ㅇ 작성기준 - 납품요구접수일자가 2022년도인 경우만 기재
A4: 구분 | B4: 건수 | C4: 계약금액 (원)
A5: 1분기 | B5: 10 | C5: =SUM(H13:H22) -> 496391500
A6: 2분기 | B6: 26 | C6: =SUM(H23:H48) -> 588072580
A7: 3분기 | B7: 14 | C7: =SUM(H49:H62) -> 710452260
A8: 4분기 | B8: 21 | C8: =SUM(H63:H83) -> 479534730
A9: 합계 | B9: =SUM(B5:B8) -> 71 | C9: =SUM(C5:C8) -> 2274451070
B11: 0
A12: 순번 | B12: 납품요구접수일자 | C12: 분기 | D12: 납품요구번호 | E12: 수요기관명 | F12: 납품요구건명 | G12: 업체명 | H12: 납품요구금액 | I12: 대표물품분류번호 | J12: 대표품명 | K12: 대표세부물품분류번호 | L12: 대표세부품명 | M12: 납품요구수량 | N12: 최대납품기한 | O12: 계약구분 | P12: 계약번호 | Q12: 최초납품요구접수일자 | R12: 최초납품요구금액 | S12: 업체사업자등록번호 | T12: 업체기업구분명 | U12: 업체소재지명 | V12: 납품요구지청명
A13: 1 | B13: 20220117 | C13: 1 | D13: 2522305872 | E13: 한국석유공사 서산지사 | F13: 문서세단기 구매 | G13: 주식회사대진코스탈 | H13: 557000 | I13: 44101603 | J13: 문서세단기및보조용품 | K13: 4410160301 | L13: 문서세단기 | M13: 1 | N13: 20220201 | O13: 제3자단가 | P13: 001860747 | Q13: 20220117 | R13: 557000 | S13: 1228118599 | T13: 중소기업 | U13: 인천광역시 계양구 | V13: 대전지방조달청
A14: 2 | B14: 20220126 | C14: 1 | D14: 2122307933 | E14: 한국석유공사 울산지사 | F14: UPS 조달 구매 | G14: 국제통신공업 주식회사 | H14: 3029000 | I14: 39121011 | J14: 무정전전원장치 | K14: 3912101101 | L14: 무정전전원장치 | M14: 1 | N14: 20220225 | O14: 제3자단가 | P14: 002170077 | Q14: 20220126 | R14: 3029000 | S14: 1328112587 | T14: 중소기업 | U14: 경기도 남양주시 | V14: 부산지방조달청
A15: 3 | B15: 20220222 | C15: 1 | D15: 3822317241 | E15: 한국석유공사 거제지사 | F15: 자동혈압계 구입 | G15: (주)에이엠피올 | H15: 1350000 | I15: 42181602 | J15: 전자혈압계 | K15: 4218160201 | L15: 자동전자혈압계 | M15: 1 | N15: 20220324 | O15: 제3자단가 | P15: 002061528 | Q15: 20220222 | R15: 1350000 | S15: 1408105087 | T15: 중소기업 | U15: 서울특별시 금천구 | V15: 경남지방조달청
A16: 4 | B16: 20220223 | C16: 1 | D16: 2122317064 | E16: 한국석유공사 | F16: IP 자동할당 시스템(DHCP) 구매 | G16: 주식회사 아이앤아이맥스 | H16: 38020000 | I16: 43233001 | J16: 파일시스템소프트웨어 | K16: 4323300101 | L16: 시스템관리소프트웨어 | M16: 1802 | N16: 20220325 | O16: 제3자단가 | P16: 002161984 | Q16: 20220223 | R16: 38020000 | S16: 2208655082 | T16: 중소기업 | U16: 서울특별시 서초구 | V16: 부산지방조달청
A17: 5 | B17: 20220311 | C17: 1 | D17: 2122321502 | E17: 한국석유공사 | F17: 한컴오피스 2020 ILA Renewal(2년차) 구매 의뢰 | G17: (주)블루포트 | H17: 29229200 | I17: 43231513 | J17: 사무용소프트웨어 | K17: 4323151301 | L17: 사무용소프트웨어 | M17: 280 | N17: 20220410 | O17: 제3자단가 | P17: 002260265 | Q17: 20220311 | R17: 29229200 | S17: 2118655017 | T17: 중소기업 | U17: 서울특별시 서초구 | V17: 부산지방조달청
A18: 6 | B18: 20220312 | C18: 1 | D18: 2522330572 | E18: 한국석유공사 서산지사 | F18: 사무용의자 구매 | G18: 주식회사 크로바가구 | H18: 11670000 | I18: 56112102 | J18: 작업용의자 | K18: 5611210201 | L18: 작업용의자 | M18: 30 | N18: 20220411 | O18: 제3자단가 | P18: 002070194 | Q18: 20220312 | R18: 11670000 | S18: 1278639798 | T18: 중소기업 | U18: 경기도 양주시 | V18: 대전지방조달청
A19: 7 | B19: 20220318 | C19: 1 | D19: 2122323188 | E19: 한국석유공사 | F19: Microsoft사 GAS 라이선스 구매(3년ㅊ) | G19: 주식회사 에쓰피케이 | H19: 99000000 | I19: 43231513 | J19: 사무용소프트웨어 | K19: 4323151301 | L19: 사무용소프트웨어 | M19: 400 | N19: 20220531 | O19: 제3자단가 | P19: 001950513 | Q19: 20220318 | R19: 99000000 | S19: 3248701323 | T19: 중소기업 | U19: 서울특별시 강남구 | V19: 부산지방조달청
A20: 8 | B20: 20220321 | C20: 1 | D20: 2522336462 | E20: 한국석유공사 | F20: 서산지사 방호용 CCTV 추가 설치 공사 지급자재 구매 | G20: (주)영국전자 | H20: 103940100 | I20: 46171622 | J20: 영상감시장치 | K20: 4617162201 | L20: 영상감시장치 | M20: 48 | N20: 20220620 | O20: 제3자단가 | P20: 002170127 | Q20: 20220321 | R20: 103940100 | S20: 2148613923 | T20: 중소기업 | U20: 경기도 용인시 기흥구 | V20: 대전지방조달청
A21: 9 | B21: 20220322 | C21: 1 | D21: 2122323793 | E21: 한국석유공사 | F21: 여수지사 방호용 CCTV 추가 설치공사 지급자재 구매 | G21: (주)영국전자 | H21: 101356200 | I21: 46171622 | J21: 영상감시장치 | K21: 4617162201 | L21: 영상감시장치 | M21: 46 | N21: 20220620 | O21: 제3자단가 | P21: 002170127 | Q21: 20220322 | R21: 101356200 | S21: 2148613923 | T21: 중소기업 | U21: 경기도 용인시 기흥구 | V21: 부산지방조달청
A22: 10 | B22: 20220328 | C22: 1 | D22: 2122324966 | E22: 한국석유공사 | F22: 통신망 접근 제어(NAC) 시스템 구매 | G22: 지니언스 주식회사 | H22: 108240000 | I22: 43233001 | J22: 파일시스템소프트웨어 | K22: 4323300101 | L22: 시스템관리소프트웨어 | M22: 20 | N22: 20220427 | O22: 제3자단가 | P22: 002162190 | Q22: 20220328 | R22: 108240000 | S22: 1298180148 | T22: 중소기업 | U22: 경기도 안양시 동안구 | V22: 부산지방조달청
A23: 11 | B23: 20220404 | C23: 2 | D23: 2222350072 | E23: 한국석유공사 용인지사 | F23: 용인지사 식당 냉난방기 구매(설치포함) | G23: 엘지전자 주식회사 | H23: 18466250 | I23: 72151299 | J23: 냉난방공조공사 | K23: 7215129901 | L23: 냉난방공조공사 | M23: 469 | N23: 20220603 | O23: 제3자단가 | P23: 001981574 | Q23: 20220404 | R23: 17325550 | S23: 1078614075 | T23: 대기업 | U23: 서울특별시 영등포구 | V23: 인천지방조달청
A24: 12 | B24: 20220404 | C24: 2 | D24: 2122326787 | E24: 한국석유공사 | F24: 사무용 의자 구매 | G24: 주식회사 나눔세상 | H24: 28210000 | I24: 56112102 | J24: 작업용의자 | K24: 5611210201 | L24: 작업용의자 | M24: 119 | N24: 20220504 | O24: 제3자단가 | P24: 242230056 | Q24: 20220404 | R24: 28210000 | S24: 7688600473 | T24: 중소기업 | U24: 광주광역시 북구 | V24: 부산지방조달청
... A83: 71 | B83: 20221228 | C83: 4 | D83: 2122389467 | E83: 한국석유공사 | F83: 인증서버소프트웨어(OTP) 라이선스 추가 구매 | G83: 조인어스비즈 주식회사 | H83: 49989500 | I83: 43233201 | J83: 인증서버소프트웨어 | K83: 4323320101 | L83: 인증서버소프트웨어 | M83: 745 | N83: 20230127 | O83: 제3자단가 | P83: 002262083 | Q83: 20221228 | R83: 49989500 | S83: 1198178664 | T83: 중소기업 | U83: 서울특별시 마포구 | V83: 부산지방조달청
