Workbook
Name 봉: [1]Sheet5!$A$2:$C$244
Name 정봉준씨: #REF!
Name 정봉준씨: #REF!
Name 정봉준씨: #REF!
Name 제출: #REF!
Name 제출: #REF!
Name 제출: #REF!
Name 추가: #REF!
Name 추가: #REF!
Name 추가: #REF!

Sheet 전자조달규모(2022년)(제출)
A1: 2022년 전자조달규모
A3: □ 2022년 전자조달규모 (계약체결 완료 기준)
F4: (단위 : 건 / 원)
A5: 구 분 | B5: 1분기 | C5: 2분기 | D5: 3분기 | E5: 4분기 | F5: 연 간
A6: 건 수 | B6: ='2022년 전사 추가'!B5+'2022년 종합쇼핑몰 전사 추가'!B5 -> 85 | C6: =+'2022년 전사 추가'!B6+'2022년 종합쇼핑몰 전사 추가'!B6 -> 139 | D6: =+'2022년 전사 추가'!B7+'2022년 종합쇼핑몰 전사 추가'!B7 -> 85 | E6: =+'2022년 전사 추가'!B8+'2022년 종합쇼핑몰 전사 추가'!B8 -> 113 | F6: =SUM(B6:E6) -> 422
A7: 금 액 | B7: =+'2022년 전사 추가'!C5+'2022년 종합쇼핑몰 전사 추가'!C5 -> 25973988841 | C7: =+'2022년 전사 추가'!C6+'2022년 종합쇼핑몰 전사 추가'!C6 -> 39780020621 | D7: =+'2022년 전사 추가'!C7+'2022년 종합쇼핑몰 전사 추가'!C7 -> 13066223302 | E7: =+'2022년 전사 추가'!C8+'2022년 종합쇼핑몰 전사 추가'!C8 -> 34172837482 | F7: =SUM(B7:E7) -> 112993070246
A8: * 2022년 전자조달 건수는 전년 대비 소폭 감소하였으나('21년 441건 → '22년 422건, 4% ↓),
A9: 금액은 종합심사낙찰제 대상 대형공사(2건) 계약체결로 전년 대비 대폭 상승함('21년 846억원 → '22년 1,130억원, 34% ↑)
A12: □ 참고 : 연도별 전자조달 규모

Sheet 전자조달규모(2022년)(편집)
A1: 2022년 전자조달규모
A3: □ 2022년 전자조달규모 (계약체결 완료 기준)
F4: (단위 : 건 / 원)
A5: 구 분 | B5: 1분기 | C5: 2분기 | D5: 3분기 | E5: 4분기 | F5: 연 간
A6: 건 수 | B6: ='2022년 전사 추가'!B5+'2022년 종합쇼핑몰 전사 추가'!B5 -> 85 | C6: =+'2022년 전사 추가'!B6+'2022년 종합쇼핑몰 전사 추가'!B6 -> 139 | D6: =+'2022년 전사 추가'!B7+'2022년 종합쇼핑몰 전사 추가'!B7 -> 85 | E6: =+'2022년 전사 추가'!B8+'2022년 종합쇼핑몰 전사 추가'!B8 -> 113 | F6: =SUM(B6:E6) -> 422
A7: 금 액 | B7: =+'2022년 전사 추가'!C5+'2022년 종합쇼핑몰 전사 추가'!C5 -> 25973988841 | C7: =+'2022년 전사 추가'!C6+'2022년 종합쇼핑몰 전사 추가'!C6 -> 39780020621 | D7: =+'2022년 전사 추가'!C7+'2022년 종합쇼핑몰 전사 추가'!C7 -> 13066223302 | E7: =+'2022년 전사 추가'!C8+'2022년 종합쇼핑몰 전사 추가'!C8 -> 34172837482 | F7: =SUM(B7:E7) -> 112993070246
A8: * 2022년 전자조달 건수는 전년 대비 소폭 감소하였으나('21년 441건 → '22년 422건, 4% ↓),
A9: 금액은 종합심사낙찰제 대상 대형공사(2건) 진행으로 전년 대비 대폭 상승함('21년 846억원 → '22년 1,130억원, 34% ↑)
A12: □ 참고 : 연도별 전자조달 규모
G18: 년도 | H18: 2003 | I18: =H18+1 -> 2004 | J18: =I18+1 -> 2005 | K18: =J18+1 -> 2006 | L18: =K18+1 -> 2007 | M18: =L18+1 -> 2008 | N18: =M18+1 -> 2009 | O18: =N18+1 -> 2010 | P18: =O18+1 -> 2011 | ... AA18: =Z18+1 -> 2022
G19: 조달건수 | H19: 48 | I19: 49 | J19: 61 | K19: 87 | L19: 127 | M19: 269 | N19: 396 | O19: 284 | P19: 532 | Q19: 502 | R19: 501 | S19: 497 | T19: 379 | U19: 342 | V19: 460 | W19: 389 | X19: 518 | Y19: 542 | Z19: 441 | AA19: =F6 -> 422 | AC19: =(AA19-Z19)/Z19 -> -0.0430839
G20: 조달금액 | H20: 10401 | I20: 6658 | J20: 7971 | K20: 24581 | L20: 31619 | M20: 118588 | N20: 177490 | O20: 104531 | P20: 94282 | Q20: 115421 | R20: 162789 | S20: 155653 | T20: 301605 | U20: 144238 | V20: 185910 | W20: 82553 | X20: 144580 | Y20: 85067 | Z20: 84552 | AA20: =F7/1000000 -> 112993.07 | AC20: =(AA20-Z20)/Z20 -> 0.33637371

Sheet 완료된계약(전사, 210101~211231)
A1: □ 전자조달시스템 조달내역
A2: * 작성기준 1) 대상기간 : 2021.01.01. ~ 2021.12.31. (계약일자 기준) 2) 전자조달시스템을 통한 전자계약 3) 최초 계약 기준(계약변경 미반영) 4) 장기계속계약은 연차별 계약이 2021년에 체결된 것만 포함
A4: 구분 | B4: 건수 | C4: 계약금액 (원)
A5: 1분기 | B5: 84 | C5: =SUM(G12:G95) -> 30164423991
A6: 2분기 | B6: 101 | C6: =SUM(G96:G196) -> 22663659665
A7: 3분기 | B7: 62 | C7: =SUM(G197:G258) -> 6815496332
A8: 4분기 | B8: 130 | C8: =SUM(G259:G388) -> 22098615456
A9: 합계 | B9: =SUM(B5:B8) -> 377 | C9: =SUM(C5:C8) -> 81742195444
A11: 순번 | B11: 계약일자 | C11: 분기 | D11: 계약명 | E11: 공동도급 | F11: 계약상대자(대표사, 구성원) | G11: 계약금액 | H11: 계약금액(총괄분) | I11: 계약기간 | J11: 계약기간(총괄분) | K11: 담당부서 | L11: 업무구분 | M11: 계약방법 | N11: 낙찰자선정방법 | O11: 계약번호
A12: 1 | B12: 2021.01.01 | C12: 1 | D12: 2021년도 법률규정시스템 유지관리 | E12: 단독 | F12: 나라아이넷(주) | G12: 6490000 | I12: 2021.01.01 ~ 2021.12.31 | K12: 스마트데이터센터 | O12: 4100060856-001
A13: 2 | B13: 2021.01.01 | C13: 1 | D13: 2021년도 제안관리시스템 유지관리 | E13: 단독 | F13: 주식회사 다모넷 | G13: 6597800 | I13: 2021.01.01 ~ 2021.12.31 | K13: 스마트데이터센터 | O13: 4100060857-001
A14: 3 | B14: 2021.01.01 | C14: 1 | D14: 2021년도 통합검색시스템 유지관리 | E14: 단독 | F14: (주)와이즈넛 | G14: 7443700 | I14: 2021.01.01 ~ 2021.12.31 | K14: 스마트데이터센터 | O14: 4100060858-001
A15: 4 | B15: 2021.01.01 | C15: 1 | D15: 2021년도 기록관리시스템 유지관리 | E15: 단독 | F15: 네이버시스템 주식회사 | G15: 3297800 | I15: 2021.01.01 ~ 2021.12.31 | K15: 스마트데이터센터 | O15: 4100060859-001
A16: 5 | B16: 2021.01.01 | C16: 1 | D16: 업무용차량 장기임차(렌트) 용역 | E16: 단독 | F16: 롯데렌탈(주) | G16: 8940000 | I16: 2021.01.01 ~ 2021.12.31 | K16: 서산지사 | O16: 4100061120-001
A17: 6 | B17: 2021.01.01 | C17: 1 | D17: 2021년도 통합인증시스템(SSO) 유지관리 용역 | E17: 단독 | F17: 이니텍(주) | G17: 33220000 | I17: 2021.01.01 ~ 2021.12.31 | K17: 총무처 조달팀 | L17: 일반용역 | M17: 수의계약(비공개) | N17: 수의 | O17: 4100061147-001
A18: 7 | B18: 2021.01.01 | C18: 1 | D18: 2021년도 그룹웨어시스템 유지관리 용역 | E18: 단독 | F18: (주)나눔기술 | G18: 244208448 | I18: 2021.01.01 ~ 2021.12.31 | K18: 총무처 조달팀 | L18: 일반용역 | M18: 수의계약(비공개) | N18: 수의 | O18: 4100061149-001
A19: 8 | B19: 2021.01.01 | C19: 1 | D19: 2021년도 석유개발 IT자원 통합관리시스템 유지관리 | E19: 단독 | F19: (주)클루닉스 | G19: 139740000 | I19: 2021.01.01 ~ 2021.12.31 | K19: 총무처 조달팀 | L19: 일반용역 | M19: 수의계약(비공개) | N19: 수의 | O19: 4100061151-001
A20: 9 | B20: 2021.01.01 | C20: 1 | D20: 2021년도 협업시스템(COP) 유지관리 | E20: 단독 | F20: 주식회사 날리지큐브 | G20: 16500000 | I20: 2021.01.01 ~ 2021.12.31 | K20: 스마트데이터센터 | L20: 일반용역 | M20: 수의계약(비공개) | N20: 수의 | O20: 4100061008-001
A21: 10 | B21: 2021.01.01 | C21: 1 | D21: 2021년도 통합커뮤니케이션(UC) 유지관리 | E21: 단독 | F21: 주식회사 이지닉스 | G21: 25700400 | I21: 2021.01.01 ~ 2021.12.31 | K21: 스마트데이터센터 | L21: 일반용역 | M21: 수의계약(비공개) | N21: 수의 | O21: 4100061018-001
A22: 11 | B22: 2021.01.01 | C22: 1 | D22: 2021년 비축지사 경비용역 | E22: 단독 | F22: (주)케이비에스시큐리티 | G22: 16639746043 | I22: 2021.01.01 ~ 2021.12.31 | K22: 총무처 조달팀 | L22: 일반용역 | M22: 일반경쟁 | N22: 적격심사 | O22: 4100061042-001
A23: 12 | B23: 2021.01.01 | C23: 1 | D23: 2021년도 전자조달시스템 유지관리 용역 | E23: 단독 | F23: (주)이노가드 | G23: 133753872 | I23: 2021.01.01 ~ 2021.12.31 | K23: 총무처 조달팀 | L23: 일반용역 | M23: 수의계약(비공개) | N23: 수의 | O23: 4100061082-001
A24: 13 | B24: 2021.01.01 | C24: 1 | D24: 2021년 거제지사 승강기점검 및 유지보수용역 | E24: 단독 | F24: 주식회사 타워엘리베이터 | G24: 7081800 | I24: 2021.01.01 ~ 2021.12.31 | K24: 거제지사 | L24: 기술용역 | M24: 수의계약(비공개) | N24: 수의 | O24: 4100061227-001
A25: 14 | B25: 2021.01.01 | C25: 1 | D25: 2021년도 거제지사 CCTV 유지보수용역 | E25: 단독 | F25: 주식회사 중부보안 | G25: 10670000 | I25: 2021.01.01 ~ 2021.12.31 | K25: 거제지사 | L25: 기술용역 | M25: 수의계약(비공개) | N25: 수의 | O25: 4100061195-001
A26: 15 | B26: 2021.01.01 | C26: 1 | D26: 2021년도 TLG 모니터링 시스템 유지관리 | E26: 단독 | F26: 이지소프트주식회사 | G26: 24987600 | I26: 2021.01.01 ~ 2021.12.31 | K26: 스마트데이터센터 | L26: 일반용역 | M26: 수의계약(비공개) | N26: 수의 | O26: 4100061204-001
A27: 16 | B27: 2021.01.01 | C27: 1 | D27: 2021년도 XPLATFORM 및 UBI REPORT 유지관리 | E27: 단독 | F27: (주)유비디시전 | G27: 13700000 | I27: 2021.01.01 ~ 2021.12.31 | K27: 스마트데이터센터 | L27: 일반용역 | M27: 수의계약(비공개) | N27: 수의 | O27: 4100061205-001
A28: 17 | B28: 2021.01.01 | C28: 1 | D28: 울산 BUOY 이설공사 사후환경영향조사용역(2021년도) | E28: 공동이행 | F28: 주식회사 서영엔지니어링 | G28: 178780000 | H28: 893900000 | I28: 2021.01.01 ~ 2021.12.31 | J28: 2018.12.10 ~ 2023.12.10 | K28: 총무처 조달팀 | O28: 4100061288-001
A29: 18 | B29: 2021.01.01 | C29: 1 | D29: 2021년도 서산지사 보건관리 위탁 용역 | E29: 단독 | F29: 주식회사미래보건환경연구소 | G29: 5760000 | I29: 2021.01.01 ~ 2021.12.31 | K29: 서산지사 | O29: 4100061298-001
A30: 19 | B30: 2021.01.04 | C30: 1 | D30: 2021년도 GPFS 시스템 유지관리 | E30: 단독 | F30: 모아시스 주식회사 | G30: 15700000 | I30: 2021.01.01 ~ 2021.12.31 | K30: 스마트데이터센터 | L30: 일반용역 | M30: 수의계약(비공개) | N30: 수의 | O30: 4100061113-001
A31: 20 | B31: 2021.01.04 | C31: 1 | D31: 2021년 DB접근제어 솔루션 유지관리 | E31: 단독 | F31: 주식회사우경정보기술 | G31: 2208360 | I31: 2021.01.01 ~ 2021.12.31 | K31: 스마트데이터센터 | O31: 4100061124-001
A32: 21 | B32: 2021.01.05 | C32: 1 | D32: 지정악취 측정 용역 | E32: 단독 | F32: (주)한국종합공해시험연구소 | G32: 8800000 | I32: 2021.01.05 ~ 2021.02.03 | K32: 서산지사 | O32: 4100061119-001
A33: 22 | B33: 2021.01.06 | C33: 1 | D33: 2021년 방재창고 및 전기실 보안서비스 용역 | E33: 단독 | F33: 주식회사 에스원 | G33: 2400000 | I33: 2021.01.01 ~ 2021.12.31 | K33: 울산지사 | O33: 4100061132-001
A34: 23 | B34: 2021.01.11 | C34: 1 | D34: 2021년 CCTV 시스템 유지보수 용역 | E34: 단독 | F34: 주식회사 중부보안 | G34: 9900000 | I34: 2021.01.11 ~ 2021.12.31 | K34: 구리지사 | L34: 일반용역 | M34: 수의계약(비공개) | N34: 수의 | O34: 4100061183-001
A35: 24 | B35: 2021.01.14 | C35: 1 | D35: 2020년도 성과지표 운영방안 수립 용역 | E35: 단독 | F35: 삼정회계법인 | G35: 148500000 | I35: 2021.01.14 ~ 2021.05.13 | K35: 총무처 조달팀 | L35: 일반용역 | M35: 일반경쟁 | N35: 협상(종합평가) | O35: 4100061207-001
A36: 25 | B36: 2021.01.18 | C36: 1 | D36: 연구위원 근무공간(중회의실) 바닥 개선공사 | E36: 단독 | F36: 옥성건영(주) | G36: 6690000 | I36: 2021.01.18 ~ 2021.02.14 | K36: 구리지사 | L36: 시설공사 | M36: 수의계약(비공개) | N36: 수의 | O36: 4100061244-001
A37: 26 | B37: 2021.01.18 | C37: 1 | D37: 2021년 배출수 수질분석 용역 | E37: 단독 | F37: (주)한국종합공해시험연구소 | G37: 7018704 | I37: 2021.01.18 ~ 2021.12.31 | K37: 구리지사 | L37: 일반용역 | M37: 수의계약(비공개) | N37: 수의 | O37: 4100061245-001
A38: 27 | B38: 2021.01.18 | C38: 1 | D38: 2021년 오수처리시설 관리용역 | E38: 단독 | F38: (주)동산환경 | G38: 6600000 | I38: 2021.01.18 ~ 2021.12.31 | K38: 평택지사 | L38: 일반용역 | M38: 수의계약(비공개) | N38: 수의 | O38: 4100061249-001
A39: 28 | B39: 2021.01.22 | C39: 1 | D39: 평택지사 건축물 내진보강공사 건축 실시설계 용역 | E39: 단독 | F39: 플랜지 건축사 사무소 | G39: 10450000 | I39: 2021.01.22 ~ 2021.02.26 | K39: 평택지사 | L39: 기술용역 | M39: 수의계약(비공개) | N39: 수의 | O39: 4100061330-001
A40: 29 | B40: 2021.01.22 | C40: 1 | D40: 2021년 방호과학화장비 유지보수용역 | E40: 단독 | F40: 광주경보시스템 | G40: 10967000 | I40: 2021.02.01 ~ 2021.12.31 | K40: 곡성지사 | O40: 4100061336-001
A41: 30 | B41: 2021.01.25 | C41: 1 | D41: 무정전 전원장치(UPS) 축전지 구매(설치포함) | E41: 단독 | F41: (주)세방산전 | G41: 10538000 | I41: 2021.01.25 ~ 2021.02.23 | K41: 구리지사 | L41: 물품구매 | M41: 수의계약(비공개) | N41: 수의 | O41: 4100061328-001
A42: 31 | B42: 2021.01.25 | C42: 1 | D42: 품질관리실 GC장비용 캐리어 가스 구매 | E42: 단독 | F42: 주식회사 모던 | G42: 13455570 | I42: 2021.01.27 ~ 2021.12.31 | K42: 가스전관리사무소 | L42: 물품구매 | M42: 소액수의(견적입찰) | N42: 최저가(낙찰하한율) | O42: 4100061354-001
...

Sheet 2022년 전사 추가
A1: □ 전자조달시스템 조달내역
A2: * 작성기준 1) 대상기간 : 2022.01.01. ~ 2022.12.31. (계약일자 기준) 2) 전자조달시스템을 통한 전자계약 3) 최초 계약 기준(계약변경 미반영) 4) 장기계속계약은 연차별 계약이 2022년에 체결된 것만 포함
A4: 구분 | B4: 건수 | C4: 계약금액 (원)
A5: 1분기 | B5: 75 | C5: 25477597341
A6: 2분기 | B6: 113 | C6: 39191948041
A7: 3분기 | B7: 71 | C7: 12355771042
A8: 4분기 | B8: 92 | C8: 33693302752
A9: 합계 | B9: =SUM(B5:B8) -> 351 | C9: =SUM(C5:C8) -> 110718619176
B11: 계약번호 | C11: 계약명 | D11: 공동도급 | E11: 계약상대자(대표사, 구성원) | F11: 사업자번호 | G11: 대표자 | H11: 출자비율 | I11: (분담내용) | J11: 계약금액 | K11: 계약금액(총괄분) | L11: 화폐단위 | M11: 계약일자 | N11: 계약기간 | O11: 계약기간(총괄분) | P11: 보증방법 | Q11: 계약보증금율 | R11: 보증기관 | S11: 계약보증금 | T11: 지체상금율 | U11: 하자보증책임기간 | V11: 하자보증금율 | W11: 중기간경쟁제품여부 | X11: 변경계약사유 | Y11: 담당부서 | Z11: 근거법률 | AA11: 조 | AB11: 항 | AC11: 호 | AD11: 목 | AE11: 근거내역 | AF11: 공고번호 | AG11: 정정 | AH11: 긴급 | AI11: 재공고 | AJ11: 업무구분 | AK11: 계약방법 | AL11: 소기업 | AM11: 중소기업 | AN11: 실적 | AO11: 지역 | AP11: 기타 | AQ11: PQ | AR11: 낙찰자선정방법 | AS11: 공고일시 | AT11: 입찰등록마감일시 | AU11: 입찰마감일시 | AV11: 개찰일시 | AW11: 추정가격 | AX11: 설계금액 | AY11: 기초금액 | AZ11: 공사예정금액 | BA11: 예정가격 | BB11: 도급형태 | BC11: 낙찰업체(대표사) | BD11: 낙찰금액 | BE11: 투찰율 | BF11: 입찰참여수
A12: 1 | B12: 4100064868-001 | C12: 2022년도 그룹웨어시스템 유지관리 용역 | D12: 단독 | E12: (주)나눔기술 | F12: 107-81-51022 | G12: 서 흥 대 | H12: 1 | J12: 252384000 | L12: KRW | M12: 2022.01.01 | N12: 2022.01.01 ~ 2022.12.31 | P12: 현금or증권 | Q12: 0.075 | R12: 기타 | S12: 18928800 | T12: 0.0012 | W12: 81111899 | Y12: 총무처 조달팀 | Z12: 국가계약법 | AA12: 26 | AB12: 1 | AC12: 2 | AD12: 바 | AE12: 제조공급자가 설치 조립시 | AF12: KNOC2022010121 | AJ12: 일반용역 | AK12: 수의계약(비공개) | AR12: 수의 | AS12: 2022.01.18 11:45 | AU12: 2022.01.18 14:20 | AV12: 2022.01.18 14:22 | AW12: 239000000 | AX12: 262900000 | AZ12: 0 | BA12: 254620000 | BB12: 단독 | BC12: (주)나눔기술 | BD12: 252384000 | BE12: 0.9912 | BF12: 1
A13: =1+A12 -> 2 | B13: 4100064893-001 | C13: 2022년도 통합인증시스템(SSO) 유지관리 용역 | D13: 단독 | E13: 이니텍(주) | F13: 314-81-19071 | G13: 강석모 | H13: 1 | J13: 34832809 | L13: KRW | M13: 2022.01.01 | N13: 2022.01.01 ~ 2022.12.31 | P13: 현금or증권 | Q13: 0.075 | R13: 서울보증보험 | S13: 2612470 | T13: 0.0012 | W13: 81111899 | Y13: 총무처 조달팀 | Z13: 국가계약법 | AA13: 26 | AB13: 1 | AC13: 2 | AD13: 바 | AE13: 제조공급자가 설치 조립시 | AF13: KNOC2022010163 | AJ13: 일반용역 | AK13: 수의계약(비공개) | AR13: 수의 | AS13: 2022.01.19 14:37 | AU13: 2022.01.20 17:30 | AV13: 2022.01.20 17:37 | AW13: 32780000 | AX13: 36058000 | AZ13: 0 | BA13: 34870000 | BB13: 단독 | BC13: 이니텍(주) | BD13: 34832809 | BE13: 0.9989 | BF13: 1
A14: =1+A13 -> 3 | B14: 4100064692-001 | C14: 2022년도 SAP DB 암호화 유지관리 | D14: 단독 | E14: 인스피언(주) | F14: 120-87-41140 | G14: 최정규 | H14: 1 | J14: 15471060 | L14: KRW | M14: 2022.01.01 | N14: 2022.01.01 ~ 2022.12.31 | P14: 지급각서 | Q14: 0.075 | S14: 1160330 | T14: 0.0012 | W14: 81111899 | Y14: 스마트데이터센터 | Z14: 국가계약법 | AA14: 26 | AB14: 1 | AC14: 2 | AD14: 바 | AE14: 제조공급자가 설치 조립시 | AF14: KNOC2021120421 | AJ14: 일반용역 | AK14: 수의계약(비공개) | AR14: 수의 | AS14: 2021.12.30 10:23 | AU14: 2021.12.30 15:50 | AV14: 2021.12.30 16:04 | AW14: 14500000 | AX14: 15950000 | AZ14: 0 | BA14: 15471500 | BB14: 단독 | BC14: 인스피언(주) | BD14: 15471060 | BE14: 1 | BF14: 1
A15: =1+A14 -> 4 | B15: 4100064718-001 | C15: 2022년도 GPFS 시스템 유지관리 | D15: 단독 | E15: 모아시스 주식회사 | F15: 211-86-47496 | G15: 김종수 | H15: 1 | J15: 15800000 | L15: KRW | M15: 2022.01.01 | N15: 2022.01.01 ~ 2022.12.31 | P15: 지급각서 | Q15: 0.15 | S15: 2370000 | W15: 81111899 | Y15: 스마트데이터센터 | Z15: 국가계약법 | AA15: 26 | AB15: 1 | AC15: 2 | AD15: 바 | AE15: 제조공급자가 설치 조립시 | AF15: KNOC2021120430 | AJ15: 일반용역 | AK15: 수의계약(비공개) | AR15: 수의 | AS15: 2021.12.30 11:08 | AU15: 2021.12.30 14:00 | AV15: 2021.12.30 14:14 | AW15: 14812000 | AX15: 16293200 | AZ15: 0 | BA15: 15804404 | BB15: 단독 | BC15: 모아시스 주식회사 | BD15: 15800000 | BE15: 0.9997 | BF15: 1
A16: =1+A15 -> 5 | B16: 4100064710-001 | C16: 2022년도 통합커뮤니케이션(UC) 유지관리 용역 | D16: 단독 | E16: 주식회사 이지닉스 | F16: 513-81-18285 | G16: 전종대 | H16: 1 | J16: 26175000 | L16: KRW | M16: 2022.01.01 | N16: 2022.01.01 ~ 2022.12.31 | P16: 지급각서 | Q16: 0.075 | S16: 1963130 | T16: 0.0012 | W16: 81111899 | Y16: 전자조달시스템 관리 | Z16: 국가계약법 | AA16: 26 | AB16: 1 | AC16: 2 | AD16: 바 | AE16: 제조공급자가 설치 조립시 | AF16: KNOC2021120370 | AJ16: 일반용역 | AK16: 수의계약(비공개) | AR16: 수의 | AS16: 2021.12.28 17:21 | AU16: 2021.12.29 11:00 | AV16: 2021.12.29 11:12 | AW16: 25092000 | AX16: 27601200 | AZ16: 0 | BA16: 26221140 | BB16: 단독 | BC16: 주식회사 이지닉스 | BD16: 26175000 | BE16: 0.9982 | BF16: 1
A17: =1+A16 -> 6 | B17: 4100064711-001 | C17: 2022년도 협업시스템(COP) 유지관리 용역 | D17: 단독 | E17: 주식회사 날리지큐브 | F17: 110-81-44925 | G17: 김학훈 | H17: 1 | J17: 16500000 | L17: KRW | M17: 2022.01.01 | N17: 2022.01.01 ~ 2022.12.31 | P17: 지급각서 | Q17: 0.075 | S17: 1237500 | T17: 0.0012 | W17: 81111899 | Y17: 전자조달시스템 관리 | Z17: 국가계약법 | AA17: 26 | AB17: 1 | AC17: 2 | AD17: 바 | AE17: 제조공급자가 설치 조립시 | AF17: KNOC2021120380 | AJ17: 일반용역 | AK17: 수의계약(비공개) | AR17: 수의 | AS17: 2021.12.28 17:24 | AU17: 2021.12.29 11:00 | AV17: 2021.12.29 11:10 | AW17: 16200000 | AX17: 17820000 | AZ17: 0 | BA17: 16929000 | BB17: 단독 | BC17: 주식회사 날리지큐브 | BD17: 16500000 | BE17: 0.9747 | BF17: 1
A18: =1+A17 -> 7 | B18: 4100064647-001 | C18: 2022년도 대기오염물질 자가측정 용역 | D18: 단독 | E18: 신안환경연구소 | F18: 177-15-00658 | G18: 신종민 | H18: 1 | J18: 143439394 | L18: KRW | M18: 2022.01.01 | N18: 2022.01.01 ~ 2022.12.27 | P18: 현금or증권 | Q18: 0.075 | R18: 서울보증보험 | S18: 10757960 | T18: 0.0012 | W18: 77121504 | Y18: 총무처 조달팀 | AF18: KNOC2021120220 | AJ18: 기술용역 | AK18: 제한경쟁 | AM18: √ | AR18: 적격심사 | AS18: 2021.12.13 17:08 | AT18: 2021.12.20 14:00 | AU18: 2021.12.21 14:00 | AV18: 2021.12.21 14:24 | AW18: 148400000 | AX18: 163240000 | AY18: 163240000 | AZ18: 0 | BA18: 163155644 | BB18: 단독 | BC18: 신안환경연구소 | BD18: 143439394 | BE18: 0.8792 | BF18: 3
A19: =1+A18 -> 8 | B19: 4100064695-001 | C19: 2022년 석유비축기지 특수경비용역 | D19: 단독 | E19: 주식회사 경암 | F19: 234-88-02195 | G19: 김기정 | H19: 1 | J19: 16384000000 | L19: KRW | M19: 2022.01.01 | N19: 2022.01.01 ~ 2022.12.31 | P19: 현금or증권 | Q19: 0.075 | R19: 서울보증보험 | S19: 1228800000 | T19: 0.0012 | W19: 92121599 | Y19: 총무처 조달팀 | AF19: KNOC2021120110 | AJ19: 일반용역 | AK19: 일반경쟁 | AR19: 적격심사 | AS19: 2021.12.06 17:34 | AU19: 2021.12.14 14:00 | AV19: 2021.12.14 14:19 | AW19: 17022620000 | AX19: 18724882000 | AY19: 18724882000 | AZ19: 0 | BA19: 18572314011 | BB19: 단독 | BC19: 주식회사 경암 | BD19: 16384000000 | BE19: 0.8822 | BF19: 46
A20: =1+A19 -> 9 | B20: 4100064807-001 | C20: 울산 BUOY 이설공사 사후환경영향조사용역(2022년도) | D20: 공동이행 | E20: 주식회사 서영엔지니어링 | F20: 138-81-04348 | G20: 김종흔 | H20: 0.9 | J20: 178780000 | K20: 893900000 | L20: KRW | M20: 2022.01.01 | N20: 2022.01.01 ~ 2022.12.31 | O20: 2018.12.10 ~ 2023.12.10 | P20: 해당없음 | Q20: 0.15 | S20: 134085000 | T20: 0.0025 | W20: 77101504 | Y20: 총무처 조달팀 | AZ20: 0
A21: =1+A20 -> 10 | B21: 4100064716-001 | C21: 2022년 DB접근제어 솔루션 유지관리 | D21: 단독 | E21: 주식회사우경정보기술 | F21: 502-81-98620 | G21: 박윤하 | H21: 1 | J21: 2208360 | L21: KRW | M21: 2022.01.01 | N21: 2022.01.01 ~ 2022.12.31 | P21: 지급각서 | Q21: 0.075 | S21: 165630 | T21: 0.0012 | W21: 81111899 | Y21: 전자조달시스템 관리 | Z21: 국가계약법 | AA21: 26 | AB21: 1 | AC21: 2 | AD21: 바 | AE21: 제조공급자가 설치 조립시 | AZ21: 0
A22: =1+A21 -> 11 | B22: 4100064612-001 | C22: 2022년도 법률규정시스템 유지관리 | D22: 단독 | E22: 나라아이넷(주) | F22: 214-86-12318 | G22: 김찬훈 | H22: 1 | J22: 7398600 | L22: KRW | M22: 2022.01.01 | N22: 2022.01.01 ~ 2022.12.31 | P22: 지급각서 | Q22: 0.075 | S22: 554900 | T22: 0.0012 | W22: 81111899 | Y22: 전자조달시스템 관리 | Z22: 국가계약법 | AA22: 26 | AB22: 1 | AC22: 2 | AD22: 바 | AE22: 제조공급자가 설치 조립시 | AZ22: 0
A23: =1+A22 -> 12 | B23: 4100064613-001 | C23: 2022년도 제안관리시스템 유지관리 | D23: 단독 | E23: 주식회사 다모넷 | F23: 220-81-81552 | G23: 천윤영 | H23: 1 | J23: 6600000 | L23: KRW | M23: 2022.01.01 | N23: 2022.01.01 ~ 2022.12.31 | P23: 지급각서 | Q23: 0.075 | S23: 495000 | T23: 0.0012 | W23: 81111899 | Y23: 전자조달시스템 관리 | Z23: 국가계약법 | AA23: 26 | AB23: 1 | AC23: 2 | AD23: 바 | AE23: 제조공급자가 설치 조립시 | AZ23: 0
A24: =1+A23 -> 13 | B24: 4100064614-001 | C24: 2022년도 통합검색시스템 유지관리 | D24: 단독 | E24: (주)와이즈넛 | F24: 211-86-98485 | G24: 강용성 | H24: 1 | J24: 7480000 | L24: KRW | M24: 2022.01.01 | N24: 2022.01.01 ~ 2022.12.31 | P24: 지급각서 | Q24: 0.075 | S24: 561000 | T24: 0.0012 | W24: 81111899 | Y24: 전자조달시스템 관리 | Z24: 국가계약법 | AA24: 26 | AB24: 1 | AC24: 2 | AD24: 바 | AE24: 제조공급자가 설치 조립시 | AZ24: 0
A25: =1+A24 -> 14 | B25: 4100064615-001 | C25: 2022년도 기록관리시스템 유지관리 | D25: 단독 | E25: 네이버시스템 주식회사 | F25: 215-81-69556 | G25: 임병조 | H25: 1 | J25: 3791700 | L25: KRW | M25: 2022.01.01 | N25: 2022.01.01 ~ 2022.12.31 | P25: 지급각서 | Q25: 0.075 | S25: 284380 | T25: 0.0012 | W25: 81111899 | Y25: 전자조달시스템 관리 | Z25: 국가계약법 | AA25: 26 | AB25: 1 | AC25: 2 | AD25: 바 | AE25: 제조공급자가 설치 조립시 | AZ25: 0
A26: =1+A25 -> 15 | B26: 4100064879-001 | C26: 업무용차량 장기임차(렌트) 용역 | D26: 단독 | E26: 롯데렌탈(주) | F26: 214-87-79183 | G26: 김현수 | H26: 1 | J26: 8940000 | L26: KRW | M26: 2022.01.01 | N26: 2022.01.01 ~ 2022.12.31 | P26: 현금or증권 | Q26: 0.075 | R26: 서울보증보험 | S26: 670500 | T26: 0.0012 | W26: 72101507 | Y26: 서산지사 | Z26: 국가계약법 | AA26: 26 | AB26: 1 | AC26: 5 | AD26: 가 | AE26: 추정가격이 건설공사 2억원, 전문공사 1억원, 기타공사 8천만원, 물품·용역 등 5천만원 이하의 계약 | AZ26: 0
A27: =1+A26 -> 16 | B27: 4100064770-001 | C27: 2022년도 TLG 모니터링 유지관리 용역 | D27: 단독 | E27: 이지소프트주식회사 | F27: 229-81-10559 | G27: 황택현 | H27: 1 | J27: 25697760 | L27: KRW | M27: 2022.01.03 | N27: 2022.01.01 ~ 2022.12.31 | P27: 지급각서 | Q27: 0.075 | S27: 1927340 | T27: 0.0012 | W27: 81111899 | Y27: 전자조달시스템 관리 | Z27: 국가계약법 | AA27: 26 | AB27: 1 | AC27: 2 | AD27: 바 | AE27: 제조공급자가 설치 조립시 | AF27: KNOC2021120410 | AJ27: 일반용역 | AK27: 수의계약(비공개) | AR27: 수의 | AS27: 2021.12.28 17:58 | AU27: 2022.01.03 11:00 | AV27: 2022.01.03 11:05 | AW27: 24800000 | AX27: 27280000 | AZ27: 0 | BA27: 26188000 | BB27: 단독 | BC27: 이지소프트주식회사 | BD27: 25697760 | BE27: 0.9813 | BF27: 1
A28: =1+A27 -> 17 | B28: 4100064773-001 | C28: 2022년도 XPLATFORM 및 UBI REPORT 유지관리 용역 | D28: 단독 | E28: (주)유비디시전 | F28: 120-87-35901 | G28: 신동우 | H28: 1 | J28: 14300000 | L28: KRW | M28: 2022.01.03 | N28: 2022.01.01 ~ 2022.12.31 | P28: 지급각서 | Q28: 0.075 | S28: 1072500 | T28: 0.0012 | W28: 81111899 | Y28: 전자조달시스템 관리 | Z28: 국가계약법 | AA28: 26 | AB28: 1 | AC28: 2 | AD28: 바 | AE28: 제조공급자가 설치 조립시 | AF28: KNOC2022010030 | AI28: √ | AJ28: 일반용역 | AK28: 수의계약(비공개) | AR28: 수의 | AS28: 2022.01.07 08:22 | AU28: 2022.01.07 11:15 | AV28: 2022.01.07 11:26 | AW28: 13634000 | AX28: 14997400 | AZ28: 0 | BA28: 14397504 | BB28: 단독 | BC28: (주)유비디시전 | BD28: 14300000 | BE28: 0.9932 | BF28: 1
A29: =1+A28 -> 18 | B29: 4100064728-001 | C29: 입출하부두 방충재(TR FENDER) 정밀 점검(수중부 포함) | D29: 단독 | E29: 두용건설 주식회사 | F29: 613-81-44384 | G29: 이재봉 | H29: 1 | J29: 9460000 | L29: KRW | M29: 2022.01.04 | N29: 2022.01.04 ~ 2022.01.28 | P29: 현금or증권 | Q29: 0.075 | R29: 전문건설공제조합 | S29: 709500 | T29: 0.0012 | W29: 72101507 | Y29: 서산지사 | Z29: 국가계약법 | AA29: 26 | AB29: 1 | AC29: 5 | AD29: 가 | AE29: 추정가격이 건설공사 2억원, 전문공사 1억원, 기타공사 8천만원, 물품·용역 등 5천만원 이하의 계약 | AZ29: 0
A30: =1+A29 -> 19 | B30: 4100064741-001 | C30: 2022년 방재창고 및 전기실 보안서비스 용역 | D30: 단독 | E30: 주식회사 에스원 | F30: 208-81-13302 | G30: 노희찬 | H30: 1 | J30: 2400000 | L30: KRW | M30: 2022.01.06 | N30: 2022.01.01 ~ 2022.12.31 | P30: 지급각서 | Q30: 0.1 | S30: 240000 | W30: 81111809 | Y30: 울산지사 | Z30: 국가계약법 | AA30: 26 | AB30: 1 | AC30: 5 | AD30: 가 | AE30: 추정가격이 건설공사 2억원, 전문공사 1억원, 기타공사 8천만원, 물품·용역 등 5천만원 이하의 계약 | AZ30: 0
A31: =1+A30 -> 20 | B31: 4100064782-001 | C31: 해상 PSV POPPING TEST 및 REPAIR 용역 | D31: 단독 | E31: 한국산업기계기술 주식회사 | F31: 447-87-00928 | G31: 서효진 | H31: 1 | J31: 42539260 | L31: KRW | M31: 2022.01.12 | N31: 2022.01.12 ~ 2022.01.31 | P31: 지급각서 | Q31: 0.075 | S31: 3190450 | T31: 0.0012 | W31: 72101597 | Y31: 총무처 조달팀 | AF31: KNOC2021120080 | AG31: √ | AJ31: 기술용역 | AK31: 제한경쟁 | AL31: √ | AO31: √ | AR31: 적격심사 | AS31: 2021.12.02 17:56 | AT31: 2021.12.09 10:30 | AU31: 2021.12.10 10:30 | AV31: 2021.12.10 10:41 | AW31: 43800000 | AX31: 48180000 | AY31: 48180000 | AZ31: 0 | BA31: 48318672 | BB31: 단독 | BC31: 한국산업기계기술 주식회사 | BD31: 42539260 | BE31: 0.8804 | BF31: 3
A32: =1+A31 -> 21 | B32: 4100064780-001 | C32: 2022년도 동해가스전 육·해상 소방시설 점검용역 | D32: 단독 | E32: 주식회사 삼일소방 | F32: 610-86-15376 | G32: 조경희 | H32: 1 | J32: 27337700 | L32: KRW | M32: 2022.01.12 | N32: 2022.01.12 ~ 2022.12.31 | P32: 해당없음 | Q32: 0.1 | S32: 2733770 | T32: 0.0012 | W32: 72101509 | Y32: 가스전관리사무소 | AF32: KNOC2021120280 | AJ32: 일반용역 | AK32: 일반경쟁 | AR32: 적격심사 | AS32: 2021.12.20 09:11 | AT32: 2021.12.28 13:00 | AU32: 2021.12.29 13:00 | AV32: 2021.12.29 13:12 | AW32: 28153000 | AX32: 30968300 | AY32: 30968300 | AZ32: 0 | BA32: 30967244 | BB32: 단독 | BC32: 주식회사 삼일소방 | BD32: 27337700 | BE32: 0.8828 | BF32: 11
A33: =1+A32 -> 22 | B33: 4100064799-001 | C33: 2022년 음식물류 폐기물 위,수탁 처리 용역 | D33: 단독 | E33: 창조대성 주식회사 | F33: 146-87-00869 | G33: 송지호 | H33: 1 | J33: 1980000 | L33: KRW | M33: 2022.01.12 | N33: 2022.01.01 ~ 2022.12.31 | P33: 지급각서 | Q33: 0.1 | S33: 198000 | W33: 76121599 | Y33: 울산지사 | Z33: 국가계약법 | AA33: 26 | AB33: 1 | AC33: 5 | AD33: 가 | AE33: 추정가격이 건설공사 2억원, 전문공사 1억원, 기타공사 8천만원, 물품·용역 등 5천만원 이하의 계약 | AZ33: 0
A34: =1+A33 -> 23 | B34: 4100064818-001 | C34: 2022년도 방호과학화장비 유지보수 용역 | D34: 단독 | E34: 두영정보통신 | F34: 661-33-00778 | G34: 김대환 | H34: 1 | J34: 10241000 | L34: KRW | M34: 2022.01.13 | N34: 2022.01.13 ~ 2022.12.31 | P34: 지급각서 | Q34: 0.1 | S34: 1024100 | T34: 0.0012 | W34: 72151699 | Y34: 평택지사 | Z34: 국가계약법 | AA34: 26 | AB34: 1 | AC34: 5 | AD34: 가 | AE34: 추정가격이 건설공사 2억원, 전문공사 1억원, 기타공사 8천만원, 물품·용역 등 5천만원 이하의 계약 | AF34: KNOC2022010050 | AJ34: 일반용역 | AK34: 수의계약(비공개) | AR34: 수의 | AS34: 2022.01.12 11:16 | AU34: 2022.01.12 16:00 | AV34: 2022.01.12 16:13 | AW34: 9900000 | AX34: 10890000 | AZ34: 0 | BA34: 10890000 | BB34: 단독 | BC34: 두영정보통신 | BD34: 10241000 | BE34: 0.9404 | BF34: 1
A35: =1+A34 -> 24 | B35: 4100064768-001 | C35: 2022년도 한국석유공사 전자사보(웹진) 제작 용역 | D35: 단독 | E35: (주)홍커뮤니케이션즈 | F35: 305-81-70579 | G35: 민귀홍 | H35: 1 | J35: 108000000 | L35: KRW | M35: 2022.01.14 | N35: 2022.01.14 ~ 2022.12.31 | P35: 현금or증권 | Q35: 0.075 | R35: 서울보증보험 | S35: 8100000 | T35: 0.0012 | W35: 82141502 | Y35: 총무처 조달팀 | AF35: KNOC2021110320 | AJ35: 일반용역 | AK35: 제한경쟁 | AM35: √ | AR35: 협상(종합평가) | AS35: 2021.11.24 15:36 | AT35: 2021.12.08 14:00 | AU35: 2021.12.09 17:00 | AV35: 2022.01.07 11:47 | AW35: 105000000 | AX35: 115500000 | AY35: 115500000 | AZ35: 0 | BA35: 116547260 | BB35: 단독 | BC35: (주)홍커뮤니케이션즈 | BD35: 108000000 | BE35: 0.9267 | BF35: 3
A36: =1+A35 -> 25 | B36: 4100064846-001 | C36: 울산비축기지 지하화 건설공사 사후환경영향조사(운영시)용역(2022년도) | D36: 공동이행 | E36: 주식회사 도화엔지니어링 | F36: 211-81-08009 | G36: 김덕구 | H36: 0.9 | J36: 192400000 | K36: 572720000 | L36: KRW | M36: 2022.01.17 | N36: 2022.01.01 ~ 2022.12.31 | O36: 2021.07.02 ~ 2024.07.01 | P36: 해당없음 | Q36: 0.075 | S36: 42954000 | T36: 0.0012 | W36: 77101504 | Y36: 총무처 조달팀 | AF36: KNOC2021050230 | AJ36: 기술용역 | AK36: 일반경쟁 | AQ36: √ | AR36: 적격심사 | AS36: 2021.05.18 15:21 | AT36: 2021.06.22 14:00 | AU36: 2021.06.23 14:00 | AV36: 2021.06.23 14:15 | AW36: 600000000 | AX36: 660000000 | AY36: 660000000 | AZ36: 0 | BA36: 661092971 | BB36: 공동이행 | BC36: 주식회사 도화엔지니어링 | BD36: 572720000 | BE36: 0.8663 | BF36: 18
A37: =1+A36 -> 26 | B37: 4100064851-001 | C37: 2022년 배출수 수질분석 용역 | D37: 단독 | E37: (주)청명기연환경 | F37: 219-81-00729 | G37: 김상우 | H37: 1 | J37: 8603760 | L37: KRW | M37: 2022.01.18 | N37: 2022.01.18 ~ 2022.12.31 | P37: 현금or증권 | Q37: 0.075 | R37: 서울보증보험 | S37: 645290 | T37: 0.0012 | W37: 70171602 | Y37: 구리지사 | Z37: 국가계약법 | AA37: 26 | AB37: 1 | AC37: 5 | AD37: 가 | AE37: 추정가격이 건설공사 2억원, 전문공사 1억원, 기타공사 8천만원, 물품·용역 등 5천만원 이하의 계약 | AZ37: 0
A38: =1+A37 -> 27 | B38: 4100064850-001 | C38: 2022년도 전자조달시스템 유지관리 용역 | D38: 단독 | E38: (주)이노가드 | F38: 113-86-14764 | G38: 최용기 | H38: 1 | J38: 130270000 | L38: KRW | M38: 2022.01.19 | N38: 2022.01.01 ~ 2022.12.31 | P38: 현금or증권 | Q38: 0.075 | R38: 서울보증보험 | S38: 9770250 | T38: 0.0012 | W38: 81111899 | Y38: 총무처 조달팀 | Z38: 국가계약법 | AA38: 26 | AB38: 1 | AC38: 2 | AD38: 바 | AE38: 제조공급자가 설치 조립시 | AF38: KNOC2022010092 | AJ38: 일반용역 | AK38: 수의계약(비공개) | AR38: 수의 | AS38: 2022.01.17 09:59 | AU38: 2022.01.17 15:40 | AV38: 2022.01.17 15:47 | AW38: 124600000 | AX38: 137060000 | AZ38: 0 | BA38: 131620000 | BB38: 단독 | BC38: (주)이노가드 | BD38: 130270000 | BE38: 0.9897 | BF38: 1
A39: =1+A38 -> 28 | B39: 4100064867-001 | C39: 2022년도 석유개발 IT자원 통합관리시스템 유지관리 용역 | D39: 단독 | E39: (주)클루닉스 | F39: 119-81-35272 | G39: 권대석 | H39: 1 | J39: 148368000 | L39: KRW | M39: 2022.01.20 | N39: 2022.01.01 ~ 2022.12.31 | P39: 현금or증권 | Q39: 0.075 | R39: 서울보증보험 | S39: 11127600 | T39: 0.0012 | W39: 81112399 | Y39: 총무처 조달팀 | Z39: 국가계약법 | AA39: 26 | AB39: 1 | AC39: 2 | AD39: 바 | AE39: 제조공급자가 설치 조립시 | AF39: KNOC2022010111 | AJ39: 일반용역 | AK39: 수의계약(비공개) | AR39: 수의 | AS39: 2022.01.17 09:57 | AU39: 2022.01.18 11:20 | AV39: 2022.01.18 11:32 | AW39: 139667000 | AX39: 153633700 | AZ39: 0 | BA39: 148550000 | BB39: 단독 | BC39: (주)클루닉스 | BD39: 148368000 | BE39: 0.9988 | BF39: 1
A40: =1+A39 -> 29 | B40: 4100064898-001 | C40: 여수지사 소방자재창고 통신시스템 및 광선로 구축공사 | D40: 단독 | E40: (주)한신테크 | F40: 417-81-31826 | G40: 심태원 | H40: 1 | J40: 10230000 | L40: KRW | M40: 2022.01.24 | N40: 2022.01.24 ~ 2022.02.07 | P40: 지급각서 | Q40: 0.075 | S40: 767250 | T40: 0.0007 | W40: 72151597 | Y40: 여수지사 | Z40: 국가계약법 | AA40: 26 | AB40: 1 | AC40: 5 | AD40: 가 | AE40: 추정가격이 건설공사 2억원, 전문공사 1억원, 기타공사 8천만원, 물품·용역 등 5천만원 이하의 계약 | AF40: KNOC2022010140 | AJ40: 시설공사 | AK40: 수의계약(비공개) | AR40: 수의 | AS40: 2022.01.18 15:54 | AU40: 2022.01.19 14:00 | AV40: 2022.01.19 14:15 | AW40: 9900000 | AX40: 10890000 | AZ40: 10890000 | BA40: 10500000 | BB40: 단독 | BC40: (주)한신테크 | BD40: 10230000 | BE40: 0.9743 | BF40: 1
A41: =1+A40 -> 30 | B41: 4100064919-001 | C41: 2022년 방호과학화장비 유지보수용역 | D41: 단독 | E41: 광주경보시스템 | F41: 408-05-94750 | G41: 김경근 | H41: 1 | J41: 10967000 | L41: KRW | M41: 2022.01.26 | N41: 2022.02.01 ~ 2022.12.31 | P41: 지급각서 | Q41: 0.075 | S41: 822530 | T41: 0.0012 | U41: 준공일로부터 1 | V41: 0.02 | W41: 72101597 | Y41: 곡성지사 | Z41: 국가계약법 | AA41: 26 | AB41: 1 | AC41: 5 | AD41: 가 | AE41: 추정가격이 건설공사 2억원, 전문공사 1억원, 기타공사 8천만원, 물품·용역 등 5천만원 이하의 계약 | AZ41: 0
A42: =1+A41 -> 31 | B42: 4100065215-001 | C42: 전사 디지털 복합기(클라우드 프린팅 포함) 임차 용역(2022년도분) | D42: 단독 | E42: (주)유에스엠 | F42: 314-81-82555 | G42: 김은희 | H42: 1 | J42: 218176000 | K42: 941578000 | L42: KRW | M42: 2022.01.26 | N42: 2022.02.01 ~ 2023.01.31 | O42: 2021.05.04 ~ 2026.01.31 | P42: 해당없음 | Q42: 0.075 | S42: 70618350 | T42: 0.0012 | W42: 73169002 | Y42: 총무처 조달팀 | Z42: 국가계약법 | AA42: 27 | AB42: 3 | AC42: 0 | AD42: 0 | AE42: 기재부장관 고시기간 내 입찰자가 1인뿐일 경우 재공고 없이 수의계약 | AF42: KNOC2021030321 | AJ42: 일반용역 | AK42: 수의계약(비공개) | AR42: 수의 | AS42: 2021.03.29 14:36 | AU42: 2021.03.29 17:00 | AV42: 2021.03.29 17:10 | AW42: 931083078 | AX42: 1024191386 | AZ42: 0 | BA42: 963550000 | BB42: 단독 | BC42: (주)유에스엠 | BD42: 948426000 | BE42: 0.9843 | BF42: 1
...

Sheet 종합쇼핑몰 납품요구내역(2021년)
A1: □ 종합쇼핑몰 납품요구 내역(조달청 조달정보개방포털)
A2: ㅇ 작성기준 - 납품요구접수일자가 2021년도인 경우만 기재
A4: 구분 | B4: 건수 | C4: 계약금액 (원)
A5: 1분기 | B5: 18 | C5: =SUM(H13:H30) -> 1703725800
A6: 2분기 | B6: 14 | C6: =SUM(H31:H44) -> 352218400
A7: 3분기 | B7: 11 | C7: =SUM(H45:H55) -> 79588900
A8: 4분기 | B8: 21 | C8: =SUM(H56:H76) -> 674283570
A9: 합계 | B9: =SUM(B5:B8) -> 64 | C9: =SUM(C5:C8) -> 2809816670
A12: 순번 | B12: 납품요구접수일자 | C12: 분기 | D12: 납품요구번호 | E12: 수요기관명 | F12: 납품요구건명 | G12: 업체명 | H12: 납품요구금액 | I12: 대표물품분류번호 | J12: 대표품명 | K12: 대표세부물품분류번호 | L12: 대표세부품명 | M12: 납품요구수량 | N12: 최대납품기한 | O12: 계약구분 | P12: 계약번호 | Q12: 최초납품요구접수일자 | R12: 최초납품요구금액 | S12: 업체사업자등록번호 | T12: 업체기업구분명 | U12: 업체소재지명 | V12: 납품요구지청명
A13: 1 | B13: 20210119 | C13: 1 | D13: 2221307773 | E13: 한국석유공사 평택지사 | F13: 업무용 차량(다목적승용차) 구매 | G13: 기아 주식회사 | H13: 41320000 | I13: 25101507 | J13: 스포츠유틸리티차량 | K13: 2510150701 | L13: 다목적승용차 | M13: 4 | N13: 20210330 | O13: 제3자단가 | P13: 001950125 | Q13: 20210119 | R13: 41320000 | S13: 1198102316 | T13: 대기업 | U13: 서울특별시 서초구 | V13: 인천지방조달청
A14: 2 | B14: 20210121 | C14: 1 | D14: 2121304845 | E14: 한국석유공사 | F14: 재택근무자 등의 지원을 위한 망연계 장비 구매 | G14: (주)유니디아 | H14: 147015000 | I14: 43233205 | J14: 트랜잭션보안및바이러스보호소프트웨어 | K14: 4323320501 | L14: 보안소프트웨어 | M14: 3 | N14: 20210220 | O14: 제3자단가 | P14: 001851163 | Q14: 20210121 | R14: 147015000 | S14: 1108146807 | T14: 중소기업 | U14: 서울특별시 영등포구 | V14: 부산지방조달청
A15: 3 | B15: 20210125 | C15: 1 | D15: 3821305747 | E15: 한국석유공사 거제지사 | F15: 업무용 의자 구매 | G15: 유한회사 애니체 | H15: 816000 | I15: 56112102 | J15: 작업용의자 | K15: 5611210201 | L15: 작업용의자 | M15: 3 | N15: 20210224 | O15: 제3자단가 | P15: 242031121 | Q15: 20210125 | R15: 816000 | S15: 4108668763 | T15: 중소기업 | U15: 광주광역시 광산구 | V15: 경남지방조달청
A16: 4 | B16: 20210127 | C16: 1 | D16: 2121306744 | E16: 한국석유공사 | F16: 울산지사 지하화 건설공사 지급자재(파고라) 구매 | G16: 주식회사 무한랜드 | H16: 80640000 | I16: 49241511 | J16: 퍼걸러 | K16: 4924151101 | L16: 퍼걸러 | M16: 8 | N16: 20210630 | O16: 제3자단가 | P16: 352030242 | Q16: 20210127 | R16: 80640000 | S16: 3548800598 | T16: 중소기업 | U16: 전라북도 임실군 | V16: 부산지방조달청
A17: 5 | B17: 20210128 | C17: 1 | D17: 2121307295 | E17: 한국석유공사 | F17: 소프트웨어(캐디안) 구매 | G17: (주)가온아이 | H17: 2475000 | I17: 43232102 | J17: 그래픽소프트웨어 | K17: 4323210201 | L17: 그래픽소프트웨어 | M17: 3 | N17: 20210227 | O17: 제3자단가 | P17: 002050012 | Q17: 20210128 | R17: 2475000 | S17: 2118697088 | T17: 중소기업 | U17: 서울특별시 강남구 | V17: 부산지방조달청
A18: 6 | B18: 20210223 | C18: 1 | D18: 2121315454 | E18: 한국석유공사 | F18: 울산지사 지하화 건설공사 지급자재(체력단련시설) 구매 | G18: 주식회사 디자인파크개발 | H18: 55090000 | I18: 49201697 | J18: 야외운동기구 | K18: 4920169701 | L18: 야외운동기구 | M18: 24 | N18: 20210530 | O18: 제3자단가 | P18: 121820314 | Q18: 20210223 | R18: 55090000 | S18: 2208615514 | T18: 중소기업 | U18: 서울특별시 강서구 | V18: 부산지방조달청
A19: 7 | B19: 20210223 | C19: 1 | D19: 2521319403 | E19: 한국석유공사 서산지사 | F19: 카니발 2.2디젤 시그니처 구매(옵션포함) | G19: 기아 주식회사 | H19: 41690000 | I19: 78180299 | J19: 차량도장서비스 | K19: 7818029901 | L19: 차량도장서비스 | M19: 5 | N19: 20210623 | O19: 제3자단가 | P19: 001760111 | Q19: 20210223 | R19: 41690000 | S19: 1198102316 | T19: 대기업 | U19: 서울특별시 서초구 | V19: 대전지방조달청
A20: 8 | B20: 20210224 | C20: 1 | D20: 2221332075 | E20: 한국석유공사 용인지사 | F20: 적외선 체온계 구매 | G20: 주식회사 테크엔 | H20: 58000 | I20: 42182299 | J20: 적외선체온계 | K20: 4218229901 | L20: 적외선체온계 | M20: 1 | N20: 20210306 | O20: 제3자단가 | P20: 002160020 | Q20: 20210224 | R20: 58000 | S20: 5148168599 | T20: 중소기업 | U20: 대구광역시 달성군 | V20: 인천지방조달청
A21: 9 | B21: 20210225 | C21: 1 | D21: 2521321310 | E21: 한국석유공사 서산지사 | F21: 사물함 구매 | G21: 주식회사 오넥트 | H21: 1862000 | I21: 56101520 | J21: 로커 | K21: 5610152001 | L21: 사물함 | M21: 3 | N21: 20210327 | O21: 제3자단가 | P21: 001970087 | Q21: 20210225 | R21: 1862000 | S21: 1378189252 | T21: 중소기업 | U21: 인천광역시 서구 | V21: 대전지방조달청
A22: 10 | B22: 20210226 | C22: 1 | D22: 2521321943 | E22: 한국석유공사 서산지사 | F22: 비디오프로젝터 구매 | G22: 주식회사 트리엠 | H22: 3920000 | I22: 45111616 | J22: 비디오프로젝터 | K22: 4511161601 | L22: 비디오프로젝터 | M22: 2 | N22: 20210328 | O22: 제3자단가 | P22: 002062152 | Q22: 20210226 | R22: 3920000 | S22: 2208605262 | T22: 중소기업 | U22: 서울특별시 성동구 | V22: 대전지방조달청
A23: 11 | B23: 20210311 | C23: 1 | D23: 2121320092 | E23: 한국석유공사 | F23: 스마트워크 시범층(20층) 사무용 가구 구매 | G23: 주식회사 코아스 | H23: 48650000 | I23: 56111601 | J23: 패널시스템용칸막이 | K23: 5611160101 | L23: 사무실칸막이 | M23: 127 | N23: 20210410 | O23: 제3자단가 | P23: 122010936 | Q23: 20210311 | R23: 48650000 | S23: 1178109929 | T23: 중소기업 | U23: 서울특별시 영등포구 | V23: 부산지방조달청
A24: 12 | B24: 20210311 | C24: 1 | D24: 2121320094 | E24: 한국석유공사 | F24: 스마트워크 시범층(20층) 사무용 가구 구매 | G24: 주식회사 제이퍼스 | H24: 17226000 | I24: 56101520 | J24: 로커 | K24: 5610152001 | L24: 사물함 | M24: 29 | N24: 20210410 | O24: 제3자단가 | P24: 211731523 | Q24: 20210311 | R24: 17226000 | S24: 3698100382 | T24: 중소기업 | U24: 부산광역시 기장군 | V24: 부산지방조달청
... A76: 64 | B76: 20211224 | C76: 4 | D76: 2221478940 | E76: 한국석유공사 평택지사 | F76: 공기청정기 구매(5대) | G76: (주)위닉스 | H76: 2750000 | I76: 40161602 | J76: 공기청정기 | K76: 4016160201 | L76: 공기청정기 | M76: 5 | N76: 20220123 | O76: 제3자단가 | P76: 001781646 | Q76: 20211224 | R76: 2750000 | S76: 1338122434 | T76: 중견기업 | U76: 경기도 시흥시 | V76: 인천지방조달청

Sheet 2022년 종합쇼핑몰 전사 추가
A1: □ 종합쇼핑몰 납품요구 내역(조달청 조달정보개방포털)
A2: ㅇ 작성기준 - 납품요구접수일자가 2022년도인 경우만 기재
A4: 구분 | B4: 건수 | C4: 계약금액 (원)
A5: 1분기 | B5: 10 | C5: =SUM(H13:H22) -> 496391500
A6: 2분기 | B6: 26 | C6: =SUM(H23:H48) -> 588072580
A7: 3분기 | B7: 14 | C7: =SUM(H49:H62) -> 710452260
A8: 4분기 | B8: 21 | C8: =SUM(H63:H83) -> 479534730
A9: 합계 | B9: =SUM(B5:B8) -> 71 | C9: =SUM(C5:C8) -> 2274451070
B11: 0
A12: 순번 | B12: 납품요구접수일자 | C12: 분기 | D12: 납품요구번호 | E12: 수요기관명 | F12: 납품요구건명 | G12: 업체명 | H12: 납품요구금액 | I12: 대표물품분류번호 | J12: 대표품명 | K12: 대표세부물품분류번호 | L12: 대표세부품명 | M12: 납품요구수량 | N12: 최대납품기한 | O12: 계약구분 | P12: 계약번호 | Q12: 최초납품요구접수일자 | R12: 최초납품요구금액 | S12: 업체사업자등록번호 | T12: 업체기업구분명 | U12: 업체소재지명 | V12: 납품요구지청명
A13: 1 | B13: 20220117 | C13: 1 | D13: 2522305872 | E13: 한국석유공사 서산지사 | F13: 문서세단기 구매 | G13: 주식회사대진코스탈 | H13: 557000 | I13: 44101603 | J13: 문서세단기및보조용품 | K13: 4410160301 | L13: 문서세단기 | M13: 1 | N13: 20220201 | O13: 제3자단가 | P13: 001860747 | Q13: 20220117 | R13: 557000 | S13: 1228118599 | T13: 중소기업 | U13: 인천광역시 계양구 | V13: 대전지방조달청
A14: 2 | B14: 20220126 | C14: 1 | D14: 2122307933 | E14: 한국석유공사 울산지사 | F14: UPS 조달 구매 | G14: 국제통신공업 주식회사 | H14: 3029000 | I14: 39121011 | J14: 무정전전원장치 | K14: 3912101101 | L14: 무정전전원장치 | M14: 1 | N14: 20220225 | O14: 제3자단가 | P14: 002170077 | Q14: 20220126 | R14: 3029000 | S14: 1328112587 | T14: 중소기업 | U14: 경기도 남양주시 | V14: 부산지방조달청
A15: 3 | B15: 20220222 | C15: 1 | D15: 3822317241 | E15: 한국석유공사 거제지사 | F15: 자동혈압계 구입 | G15: (주)에이엠피올 | H15: 1350000 | I15: 42181602 | J15: 전자혈압계 | K15: 4218160201 | L15: 자동전자혈압계 | M15: 1 | N15: 20220324 | O15: 제3자단가 | P15: 002061528 | Q15: 20220222 | R15: 1350000 | S15: 1408105087 | T15: 중소기업 | U15: 서울특별시 금천구 | V15: 경남지방조달청
A16: 4 | B16: 20220223 | C16: 1 | D16: 2122317064 | E16: 한국석유공사 | F16: IP 자동할당 시스템(DHCP) 구매 | G16: 주식회사 아이앤아이맥스 | H16: 38020000 | I16: 43233001 | J16: 파일시스템소프트웨어 | K16: 4323300101 | L16: 시스템관리소프트웨어 | M16: 1802 | N16: 20220325 | O16: 제3자단가 | P16: 002161984 | Q16: 20220223 | R16: 38020000 | S16: 2208655082 | T16: 중소기업 | U16: 서울특별시 서초구 | V16: 부산지방조달청
A17: 5 | B17: 20220311 | C17: 1 | D17: 2122321502 | E17: 한국석유공사 | F17: 한컴오피스 2020 ILA Renewal(2년차) 구매 의뢰 | G17: (주)블루포트 | H17: 29229200 | I17: 43231513 | J17: 사무용소프트웨어 | K17: 4323151301 | L17: 사무용소프트웨어 | M17: 280 | N17: 20220410 | O17: 제3자단가 | P17: 002260265 | Q17: 20220311 | R17: 29229200 | S17: 2118655017 | T17: 중소기업 | U17: 서울특별시 서초구 | V17: 부산지방조달청
A18: 6 | B18: 20220312 | C18: 1 | D18: 2522330572 | E18: 한국석유공사 서산지사 | F18: 사무용의자 구매 | G18: 주식회사 크로바가구 | H18: 11670000 | I18: 56112102 | J18: 작업용의자 | K18: 5611210201 | L18: 작업용의자 | M18: 30 | N18: 20220411 | O18: 제3자단가 | P18: 002070194 | Q18: 20220312 | R18: 11670000 | S18: 1278639798 | T18: 중소기업 | U18: 경기도 양주시 | V18: 대전지방조달청
A19: 7 | B19: 20220318 | C19: 1 | D19: 2122323188 | E19: 한국석유공사 | F19: Microsoft사 GAS 라이선스 구매(3년ㅊ) | G19: 주식회사 에쓰피케이 | H19: 99000000 | I19: 43231513 | J19: 사무용소프트웨어 | K19: 4323151301 | L19: 사무용소프트웨어 | M19: 400 | N19: 20220531 | O19: 제3자단가 | P19: 001950513 | Q19: 20220318 | R19: 99000000 | S19: 3248701323 | T19: 중소기업 | U19: 서울특별시 강남구 | V19: 부산지방조달청
A20: 8 | B20: 20220321 | C20: 1 | D20: 2522336462 | E20: 한국석유공사 | F20: 서산지사 방호용 CCTV 추가 설치 공사 지급자재 구매 | G20: (주)영국전자 | H20: 103940100 | I20: 46171622 | J20: 영상감시장치 | K20: 4617162201 | L20: 영상감시장치 | M20: 48 | N20: 20220620 | O20: 제3자단가 | P20: 002170127 | Q20: 20220321 | R20: 103940100 | S20: 2148613923 | T20: 중소기업 | U20: 경기도 용인시 기흥구 | V20: 대전지방조달청
A21: 9 | B21: 20220322 | C21: 1 | D21: 2122323793 | E21: 한국석유공사 | F21: 여수지사 방호용 CCTV 추가 설치공사 지급자재 구매 | G21: (주)영국전자 | H21: 101356200 | I21: 46171622 | J21: 영상감시장치 | K21: 4617162201 | L21: 영상감시장치 | M21: 46 | N21: 20220620 | O21: 제3자단가 | P21: 002170127 | Q21: 20220322 | R21: 101356200 | S21: 2148613923 | T21: 중소기업 | U21: 경기도 용인시 기흥구 | V21: 부산지방조달청
A22: 10 | B22: 20220328 | C22: 1 | D22: 2122324966 | E22: 한국석유공사 | F22: 통신망 접근 제어(NAC) 시스템 구매 | G22: 지니언스 주식회사 | H22: 108240000 | I22: 43233001 | J22: 파일시스템소프트웨어 | K22: 4323300101 | L22: 시스템관리소프트웨어 | M22: 20 | N22: 20220427 | O22: 제3자단가 | P22: 002162190 | Q22: 20220328 | R22: 108240000 | S22: 1298180148 | T22: 중소기업 | U22: 경기도 안양시 동안구 | V22: 부산지방조달청
A23: 11 | B23: 20220404 | C23: 2 | D23: 2222350072 | E23: 한국석유공사 용인지사 | F23: 용인지사 식당 냉난방기 구매(설치포함) | G23: 엘지전자 주식회사 | H23: 18466250 | I23: 72151299 | J23: 냉난방공조공사 | K23: 7215129901 | L23: 냉난방공조공사 | M23: 469 | N23: 20220603 | O23: 제3자단가 | P23: 001981574 | Q23: 20220404 | R23: 17325550 | S23: 1078614075 | T23: 대기업 | U23: 서울특별시 영등포구 | V23: 인천지방조달청
A24: 12 | B24: 20220404 | C24: 2 | D24: 2122326787 | E24: 한국석유공사 | F24: 사무용 의자 구매 | G24: 주식회사 나눔세상 | H24: 28210000 | I24: 56112102 | J24: 작업용의자 | K24: 5611210201 | L24: 작업용의자 | M24: 119 | N24: 20220504 | O24: 제3자단가 | P24: 242230056 | Q24: 20220404 | R24: 28210000 | S24: 7688600473 | T24: 중소기업 | U24: 광주광역시 북구 | V24: 부산지방조달청
... A83: 71 | B83: 20221228 | C83: 4 | D83: 2122389467 | E83: 한국석유공사 | F83: 인증서버소프트웨어(OTP) 라이선스 추가 구매 | G83: 조인어스비즈 주식회사 | H83: 49989500 | I83: 43233201 | J83: 인증서버소프트웨어 | K83: 4323320101 | L83: 인증서버소프트웨어 | M83: 745 | N83: 20230127 | O83: 제3자단가 | P83: 002262083 | Q83: 20221228 | R83: 49989500 | S83: 1198178664 | T83: 중소기업 | U83: 서울특별시 마포구 | V83: 부산지방조달청
