Workbook
Name 봉: [1]Sheet5!$A$2:$C$244
Name 정봉준씨: #REF!
Name 정봉준씨: #REF!
Name 정봉준씨: #REF!
Name 정봉준씨: #REF!
Name 제출: #REF!
Name 제출: #REF!
Name 제출: #REF!
Name 제출: #REF!
Name 추가: #REF!
Name 추가: #REF!
Name 추가: #REF!
Name 추가: #REF!

Sheet 전자조달규모(2023년)(제출)
A1: 2023년 전자조달규모
A3: □ 2023년 전자조달규모 (계약체결 완료 기준)
F4: (단위 : 건 / 원)
A5: 구 분 | B5: 1분기 | C5: 2분기 | D5: 3분기 | E5: 4분기 | F5: 연 간
A6: 건 수 | B6: ='2023년 전사'!B5+'2023년 종합쇼핑몰 전사 추가'!B5 -> 83 | C6: ='2023년 전사'!B6+'2023년 종합쇼핑몰 전사 추가'!B6 -> 89 | D6: ='2023년 전사'!B7+'2023년 종합쇼핑몰 전사 추가'!B7 -> 79 | E6: ='2023년 전사'!B8+'2023년 종합쇼핑몰 전사 추가'!B8 -> 118 | F6: =SUM(B6:E6) -> 369
A7: 금 액 | B7: ='2023년 전사'!C5+'2023년 종합쇼핑몰 전사 추가'!C5 -> 21674214740 | C7: ='2023년 전사'!C6+'2023년 종합쇼핑몰 전사 추가'!C6 -> 23371469235 | D7: ='2023년 전사'!C7+'2023년 종합쇼핑몰 전사 추가'!C7 -> 15891880316 | E7: ='2023년 전사'!C8+'2023년 종합쇼핑몰 전사 추가'!C8 -> 50049690467 | F7: =SUM(B7:E7) -> 110987254758
A8: * 2023년 전자조달 건수는 전년 대비 소폭 감소하였으며('22년 422건 → '23년 369건, 13%↓),
A9: 금액도 전년 대비 소폭 감소('22년 1,130억원 → '23년 1,110억원, 2%↓)
A12: □ 참고 : 연도별 전자조달 규모

Sheet 전자조달규모(2023년)(편집)
A2: □ 참고 : 연도별 전자조달 규모
A3: 년도 | B3: 2003 | C3: =B3+1 -> 2004 | D3: =C3+1 -> 2005 | E3: =D3+1 -> 2006 | F3: =E3+1 -> 2007 | G3: =F3+1 -> 2008 | H3: =G3+1 -> 2009 | I3: =H3+1 -> 2010 | J3: =I3+1 -> 2011 | ... V3: =U3+1 -> 2023
A4: 조달건수 | B4: 48 | C4: 49 | D4: 61 | E4: 87 | F4: 127 | G4: 269 | H4: 396 | I4: 284 | J4: 532 | K4: 502 | L4: 501 | M4: 497 | N4: 379 | O4: 342 | P4: 460 | Q4: 389 | R4: 518 | S4: 542 | T4: 441 | U4: 422 | V4: ='전자조달규모(2023년)(제출)'!F6 -> 369 | W4: =(V4-U4)/U4 -> -0.12559242
A5: 조달금액 | B5: 10401 | C5: 6658 | D5: 7971 | E5: 24581 | F5: 31619 | G5: 118588 | H5: 177490 | I5: 104531 | J5: 94282 | K5: 115421 | L5: 162789 | M5: 155653 | N5: 301605 | O5: 144238 | P5: 185910 | Q5: 82553 | R5: 144580 | S5: 85067 | T5: 84552 | U5: 112993.07 | V5: ='전자조달규모(2023년)(제출)'!F7/1000000 -> 110987.25 | W5: =(V5-U5)/U5 -> -0.017751668

Sheet 2023년 전사
A1: □ 전자조달시스템 조달내역
A2: * 작성기준 1) 대상기간 : 2023.01.01. ~ 2023.12.31. (계약일자 기준) 2) 전자조달시스템을 통한 전자계약 3) 최초 계약 기준(계약변경 미반영) 4) 장기계속계약은 연차별 계약이 2023년에 체결된 것만 포함
A4: 분기 | B4: 건수 | C4: 계약금액 (원)
A5: 1 | B5: =COUNTIF($B$13:$B$284,A5) -> 63 | C5: =SUMIF($B$13:$B$284,A5,$F$13:$F$284) -> 21558925540
A6: 2 | B6: =COUNTIF($B$13:$B$284,A6) -> 64 | C6: =SUMIF($B$13:$B$284,A6,$F$13:$F$284) -> 23027046235
A7: 3 | B7: =COUNTIF($B$13:$B$284,A7) -> 51 | C7: =SUMIF($B$13:$B$284,A7,$F$13:$F$284) -> 15440949386
A8: 4 | B8: =COUNTIF($B$13:$B$284,A8) -> 94 | C8: =SUMIF($B$13:$B$284,A8,$F$13:$F$284) -> 49649622566
A9: 합계 | B9: =SUM(B5:B8) -> 272 | C9: =SUM(C5:C8) -> 109676543727
A12: 계약일자 | B12: 분기 | C12: 계약명 | D12: 공동도급 | E12: 계약상대자(대표사, 구성원) | F12: 계약금액 | G12: 계약금액(총괄분) | H12: 계약기간 | I12: 계약기간(총괄분) | J12: 담당부서 | K12: 업무구분 | L12: 계약방법 | M12: 낙찰자선정방법 | N12: 계약번호
A13: 2023.01.01 | B13: 1 | C13: 울산 BUOY 이설공사 사후환경영향조사용역(2023년도) | D13: 공동이행 | E13: 주식회사 서영엔지니어링 | F13: 89370000 | G13: 893900000 | H13: 2023.01.01 ~ 2023.12.10 | I13: 2018.12.10 ~ 2023.12.10 | J13: 총무처 조달팀 | N13: 4100068111-001
A14: 2023.02.01 | B14: 1 | C14: 전사 디지털 복합기(클라우드 프린팅 포함) 임차 용역(2023년도분) | D14: 단독 | E14: (주)유에스엠 | F14: 218400000 | G14: 909712000 | H14: 2023.02.01 ~ 2024.01.31 | I14: 2021.05.04 ~ 2026.01.31 | J14: 총무처 조달팀 | K14: 일반용역 | L14: 수의계약(비공개) | M14: 수의 | N14: 4100068272-001
A15: 2023.01.05 | B15: 1 | C15: 울산비축기지 지하화 건설공사 사후환경영향조사(운영시) 용역(2023년도) | D15: 공동이행 | E15: 주식회사 도화엔지니어링 | F15: 187800000 | G15: 572720000 | H15: 2023.01.01 ~ 2023.12.31 | I15: 2021.07.02 ~ 2024.07.01 | J15: 총무처 조달팀 | K15: 기술용역 | L15: 일반경쟁 | M15: 적격심사 | N15: 4100068084-001
A16: 2023.03.28 | B16: 1 | C16: 2022~2024년 ERP 운영 및 유지보수 용역(2023년도) | D16: 단독 | E16: (주)비에이치컨설팅 | F16: 2312300000 | G16: 6937000000 | H16: 2023.04.01 ~ 2024.03.31 | I16: 2022.04.01 ~ 2025.03.31 | J16: 총무처 조달팀 | K16: 일반용역 | L16: 수의계약(비공개) | M16: 수의 | N16: 4100068717-001
A17: 2023.01.05 | B17: 1 | C17: 거제 2단계 수리시스템 보완공사(2023년도) | D17: 공동이행 | E17: 지에스건설 주식회사 | F17: 8784600000 | G17: 46824800000 | H17: 2023.01.01 ~ 2023.12.31 | I17: 2022.04.27 ~ 2027.04.26 | J17: 총무처 조달팀 | K17: 시설공사 | L17: 제한경쟁 | M17: 적격심사 | N17: 4100068095-001
A18: 2023.04.28 | B18: 1 | C18: 2022~2024 회계연도 외부회계감사용역(2023년) | D18: 단독 | E18: 한영회계법인 | F18: 906528557 | G18: 2619389176 | H18: 2023.05.01 ~ 2024.04.30 | I18: 2022.06.13 ~ 2025.04.30 | J18: 총무처 조달팀 | N18: 4100069032-001
A19: 2023.06.08 | B19: 2 | C19: 2022년~2024년 결산지원 및 상시 회계자문 용역(2023년도) | D19: 단독 | E19: 삼일회계법인 | F19: 215533333 | G19: 646600000 | H19: 2023.06.01 ~ 2024.05.31 | I19: 2022.06.30 ~ 2025.05.31 | J19: 총무처 조달팀 | K19: 일반용역 | L19: 일반경쟁 | M19: 협상(종합평가) | N19: 4100069323-001
A20: 2023.04.05 | B20: 2 | C20: 2023~2025년 전산장비 운영 및 유지관리 용역(1차년도) | D20: 공동이행 | E20: 주식회사 시스원 | F20: 2954154282 | G20: 9343942000 | H20: 2023.04.06 ~ 2024.04.05 | I20: 2023.04.06 ~ 2026.04.05 | J20: 총무처 조달팀 | K20: 일반용역 | L20: 제한경쟁 | M20: 협상(종합평가) | N20: 4100068828-001
A21: 2023.08.16 | B21: 3 | C21: 울산지사 원유배관 교체공사 건설사업관리용역(2023년도분) | D21: 단독 | E21: 주식회사 삼안 | F21: 481800000 | G21: 2841300000 | H21: 2023.08.16 ~ 2023.12.31 | I21: 2023.08.16 ~ 2025.06.15 | J21: 총무처 조달팀 | K21: 기술용역 | L21: 일반경쟁 | M21: 협상(종합평가) | N21: 4100069833-001
A22: 2023.08.23 | B22: 3 | C22: 울산지사 원유배관 교체공사 | D22: 공동이행 | E22: 대보건설(주) | F22: 7700000000 | G22: 35182303183 | H22: 2023.08.23 ~ 2023.12.31 | I22: 2023.08.23 ~ 2025.04.22 | J22: 총무처 조달팀 | K22: 시설공사 | L22: 제한경쟁 | M22: 적격심사 | N22: 4100069886-001
A23: 2023.12.31 | B23: 4 | C23: 2024년도 사옥관리 서비스 용역 | D23: 단독 | E23: 케이엔오씨서비스 주식회사 | F23: 7098270370 | H23: 2024.01.01 ~ 2024.12.31 | J23: 총무처 조달팀 | K23: 일반용역 | L23: 수의계약(비공개) | M23: 수의 | N23: 4100071209-001
A24: 2023.12.31 | B24: 4 | C24: 2024년도 석유개발 IT자원 통합관리시스템 유지관리 용역 | D24: 단독 | E24: (주)클루닉스 | F24: 162696000 | H24: 2024.01.01 ~ 2024.12.31 | J24: 총무처 조달팀 | K24: 일반용역 | L24: 수의계약(비공개) | M24: 수의 | N24: 4100071224-001
A25: 2023.12.29 | B25: 4 | C25: 2024년도 통합인증(SSO) 유지관리 용역 | D25: 단독 | E25: 이니텍(주) | F25: 38295950 | H25: 2024.01.01 ~ 2024.12.31 | J25: 총무처 조달팀 | K25: 일반용역 | L25: 수의계약(비공개) | M25: 수의 | N25: 4100071205-001
A26: 2023.12.29 | B26: 4 | C26: 2024년 뉴스저작물 통합 이용 용역 | D26: 단독 | E26: (주)다하미커뮤니케이션즈 | F26: 87912000 | H26: 2024.01.01 ~ 2024.12.31 | J26: 총무처 조달팀 | K26: 일반용역 | L26: 수의계약(비공개) | M26: 수의 | N26: 4100071190-001
A27: 2023.12.28 | B27: 4 | C27: 2024년 DB접근제어 솔루션 유지관리 용역 | D27: 단독 | E27: 주식회사우경정보기술 | F27: 2208360 | H27: 2024.01.01 ~ 2024.12.31 | J27: 디지털혁신단 | N27: 4100071201-001
A28: 2023.12.28 | B28: 4 | C28: 2024년 용인지사 통근버스 임차용역 | D28: 단독 | E28: (주)블루스카이 | F28: 68147300 | H28: 2024.01.01 ~ 2024.12.31 | J28: 총무처 조달팀 | K28: 일반용역 | L28: 수의계약(비공개) | M28: 수의 | N28: 4100071174-001
A29: 2023.12.28 | B29: 4 | C29: 2024년도 방호과학화설비 유지보수용역 | D29: 단독 | E29: 주식회사 중부보안 | F29: 10560000 | H29: 2024.01.01 ~ 2024.12.31 | J29: 용인지사 | N29: 4100071188-001
A30: 2023.12.28 | B30: 4 | C30: 2024년 한국석유공사 웹진(전자사보) 제작 용역 | D30: 단독 | E30: (주)대통기획 | F30: 103620000 | H30: 2024.01.01 ~ 2024.12.31 | J30: 총무처 조달팀 | K30: 일반용역 | L30: 제한경쟁 | M30: 협상(종합평가) | N30: 4100071164-001
A31: 2023.12.28 | B31: 4 | C31: 2024년 석유비축기지 특수경비용역 | D31: 단독 | E31: 뉴보은주식회사 | F31: 16052951154 | H31: 2024.01.01 ~ 2024.12.31 | J31: 총무처 조달팀 | K31: 일반용역 | L31: 일반경쟁 | M31: 적격심사 | N31: 4100071139-001
A32: 2023.12.27 | B32: 4 | C32: 2024년 한국석유공사 홈페이지 관리 용역 | D32: 단독 | E32: 주식회사 가나엔터프라이즈 | F32: 80525715 | H32: 2024.01.01 ~ 2024.12.31 | J32: 총무처 조달팀 | K32: 일반용역 | L32: 수의계약(비공개) | M32: 수의 | N32: 4100071110-001
A33: 2023.12.27 | B33: 4 | C33: 원유탱크 도장공사 폐기물(PS BALL) 처리 용역 | D33: 단독 | E33: 주식회사 드림개발 | F33: 29798010 | H33: 2023.12.27 ~ 2024.01.15 | J33: 서산지사 | K33: 일반용역 | L33: 수의계약(비공개) | M33: 수의 | N33: 4100071142-001
A34: 2023.12.26 | B34: 4 | C34: 2024년도 평택지사 제1부두박지 유지준설공사 | D34: 단독 | E34: 熊進開發 株式會社 | F34: 3162335000 | H34: 2023.12.26 ~ 2024.07.23 | J34: 총무처 조달팀 | K34: 시설공사 | L34: 일반경쟁 | M34: 적격심사 | N34: 4100071117-001
A35: 2023.12.26 | B35: 4 | C35: 2024년 승강기 유지보수 용역 | D35: 단독 | E35: 오티스엘리베이터(유) | F35: 33200000 | H35: 2024.01.01 ~ 2024.12.31 | J35: 총무처 조달팀 | K35: 일반용역 | L35: 수의계약(비공개) | M35: 수의 | N35: 4100071130-001
A36: 2023.12.26 | B36: 4 | C36: 모바일 업무전화(KNOC톡) 유지보수 용역 | D36: 단독 | E36: 에스정보통신 주식회사 | F36: 3630000 | H36: 2024.01.01 ~ 2024.11.30 | J36: 디지털혁신단 | N36: 4100071137-001
A37: 2023.12.26 | B37: 4 | C37: 2024년도 평택지사 입출하부두 시설관리용역 | D37: 단독 | E37: 대동항업 주식회사 | F37: 480139000 | H37: 2024.01.01 ~ 2024.12.31 | J37: 총무처 조달팀 | K37: 일반용역 | L37: 제한경쟁 | M37: 적격심사 | N37: 4100071052-001
A38: 2023.12.26 | B38: 4 | C38: 2024년도 서산지사 입출하부두 시설관리용역 | D38: 단독 | E38: 주식회사 동양 | F38: 585970000 | H38: 2024.01.01 ~ 2024.12.31 | J38: 총무처 조달팀 | N38: 4100071051-001
A39: 2023.12.22 | B39: 4 | C39: 2024년 무정전전원공급장치 유지관리 용역(본사) | D39: 단독 | E39: 주식회사 아세아이엔티 | F39: 10956000 | H39: 2024.01.01 ~ 2024.12.31 | J39: 디지털혁신단 | N39: 4100071072-001
A40: 2023.12.22 | B40: 4 | C40: 2024년 무정전전원공급장치 유지관리 용역(용인DR센터) | D40: 단독 | E40: (주)서우시스템즈 | F40: 6600000 | H40: 2024.01.01 ~ 2024.12.31 | J40: 디지털혁신단 | N40: 4100071073-001
A41: 2023.12.22 | B41: 4 | C41: 2024년 울산지사 주중 통근버스 임차용역 | D41: 단독 | E41: 백마관광협동조합 | F41: 76600000 | H41: 2024.01.01 ~ 2024.12.31 | J41: 총무처 조달팀 | K41: 일반용역 | L41: 수의계약(비공개) | M41: 수의 | N41: 4100071080-001
A42: 2023.12.22 | B42: 4 | C42: 2024년도 여수지사 입출하부두 시설관리용역 | D42: 단독 | E42: (주)한국해운 | F42: 1051567000 | H42: 2024.01.01 ~ 2024.12.31 | J42: 총무처 조달팀 | K42: 일반용역 | L42: 제한경쟁 | M42: 적격심사 | N42: 4100071103-001
A43: 2023.12.22 | B43: 4 | C43: 2024년 한국석유공사 블로그 및 서포터즈 운영 용역 | D43: 단독 | E43: 주식회사 씽굿커뮤니케이션 | F43: 96000000 | H43: 2024.01.01 ~ 2024.12.31 | J43: 총무처 조달팀 | K43: 일반용역 | L43: 제한경쟁 | M43: 협상(종합평가) | N43: 4100071108-001
...

Sheet 2023년 종합쇼핑몰 전사 추가
A1: □ 종합쇼핑몰 납품요구 내역(조달청 조달데이터허브)
A2: ㅇ 작성기준 - 결재일자가 2023년도인 경우만 기재
A4: 구분 | B4: 건수 | C4: 계약금액 (원)
A5: 1분기 | B5: 20 | C5: =SUM(H13:H32) -> 115289200
A6: 2분기 | B6: 25 | C6: =SUM(H33:H57) -> 344423000
A7: 3분기 | B7: 28 | C7: =SUM(H58:H85) -> 450930930
A8: 4분기 | B8: 24 | C8: =SUM(H86:H109) -> 400067901
A9: 합계 | B9: =SUM(B5:B8) -> 97 | C9: =SUM(C5:C8) -> 1310711031
A12: 순번 | B12: 결재일자 | C12: 분기 | D12: 납품요구번호 | E12: 수요기관명 | F12: 요청명 | G12: 업체명 | H12: 납품금액 | I12: 물품분류번호 | J12: 물품분류명 | K12: 세부품명번호 | L12: 세부품명 | M12: 납품수량 | N12: 계약종료일 | O12: 계약유형 | P12: 계약번호 | Q12: 최초결재일자 | R12: 업체사업자등록번호 | S12: 기업형태 | T12: 계약시점 업체소재시군구 | U12: 납품요구지청명
A13: 1 | B13: 20230111 | C13: 1 | D13: 2223306006 | E13: 한국석유공사 용인지사 | F13: 안전운영팀 문서세단기 조달 구매 | G13: 주식회사대진코스탈 | H13: 829000 | I13: 44101603 | J13: 문서세단기및보조용품 | K13: 4410160301 | L13: 문서세단기 | M13: 1 | N13: 20230627 | O13: 제3자단가 | P13: 002170144_1 | Q13: 20230111 | R13: 1228118599 | S13: 중소기업 | T13: 인천광역시 계양구 | U13: 인천지방조달청
A14: 2 | B14: 20230111 | C14: 1 | D14: 2523303045 | E14: 한국석유공사 서산지사 | F14: 문서세단기 구매 | G14: 주식회사대진코스탈 | H14: 2603000 | I14: 44101603 | J14: 문서세단기및보조용품 | K14: 4410160301 | L14: 문서세단기 | M14: 1 | N14: 20230627 | O14: 제3자단가 | P14: 002170144_1 | Q14: 20230111 | R14: 1228118599 | S14: 중소기업 | T14: 인천광역시 계양구 | U14: 대전지방조달청
A15: 3 | B15: 20230217 | C15: 1 | D15: 2223325010 | E15: 한국석유공사 용인지사 | F15: 통제실 교대근무 직원용 사물함 조달 구매 | G15: 주식회사 오넥트 | H15: 341000 | I15: 56101520 | J15: 로커 | K15: 5610152001 | L15: 사물함 | M15: 1 | N15: 20231217 | O15: 제3자단가 | P15: 002270029_1 | Q15: 20230217 | R15: 1378189252 | S15: 중소기업 | T15: 인천광역시 서구 | U15: 인천지방조달청
A16: 4 | B16: 20230217 | C16: 1 | D16: 2223325010 | E16: 한국석유공사 용인지사 | F16: 통제실 교대근무 직원용 사물함 조달 구매 | G16: 주식회사 오넥트 | H16: 450000 | I16: 56101520 | J16: 로커 | K16: 5610152001 | L16: 사물함 | M16: 1 | N16: 20231217 | O16: 제3자단가 | P16: 002270029_1 | Q16: 20230217 | R16: 1378189252 | S16: 중소기업 | T16: 인천광역시 서구 | U16: 인천지방조달청
A17: 5 | B17: 20230313 | C17: 1 | D17: 2123319103 | E17: 한국석유공사 | F17: 한컴오피스 ILA Renewal 라이선스 구매 계약 (3년차) | G17: (주)블루포트 | H17: 29229200 | I17: 43231513 | J17: 사무용소프트웨어 | K17: 4323151301 | L17: 사무용소프트웨어 | M17: 280 | N17: 20231231 | O17: 제3자단가 | P17: 002260265_1 | Q17: 20230313 | R17: 2118655017 | S17: 중소기업 | T17: 서울특별시 서초구 | U17: 부산지방조달청
A18: 6 | B18: 20230314 | C18: 1 | D18: 2223339950 | E18: 한국석유공사 용인지사 | F18: 냉장고 구매 | G18: 삼성전자 주식회사 | H18: 449000 | I18: 24131501 | J18: 냉장냉동겸용장치 | K18: 2413150101 | L18: 냉장고 | M18: 1 | N18: 20230716 | O18: 제3자단가 | P18: 002061339_1 | Q18: 20230314 | R18: 1248100998 | S18: 대기업 | T18: 경기도 수원시 영통구 | U18: 인천지방조달청
A19: 7 | B19: 20230315 | C19: 1 | D19: 2223340539 | E19: 한국석유공사 용인지사 | F19: 단신부임자 숙소 비품 구매 | G19: 엘지전자 주식회사 | H19: 156000 | I19: 45111802 | J19: 텔레비전거치대 | K19: 4511180201 | L19: 텔레비전거치대 | M19: 4 | N19: 20260105 | O19: 제3자단가 | P19: 002262936_1 | Q19: 20230315 | R19: 1078614075 | S19: 대기업 | T19: 서울특별시 영등포구 | U19: 인천지방조달청
A20: 8 | B20: 20230315 | C20: 1 | D20: 2223340539 | E20: 한국석유공사 용인지사 | F20: 단신부임자 숙소 비품 구매 | G20: 엘지전자 주식회사 | H20: 1080000 | I20: 52161505 | J20: 텔레비전 | K20: 5216150501 | L20: 텔레비전 | M20: 4 | N20: 20260105 | O20: 제3자단가 | P20: 002262936_1 | Q20: 20230315 | R20: 1078614075 | S20: 대기업 | T20: 서울특별시 영등포구 | U20: 인천지방조달청
A21: 9 | B21: 20230317 | C21: 1 | D21: 2123320290 | E21: 한국석유공사 울산지사 | F21: 업무용 차량(카니발) 조달구매 요청 | G21: 기아 주식회사 | H21: 860000 | I21: 25175111 | J21: 패키지용품 | K21: 2517511101 | L21: 패키지용품 | M21: 1 | N21: 20230517 | O21: 제3자단가 | P21: 002250205_1 | Q21: 20230317 | R21: 1198102316 | S21: 대기업 | T21: 서울특별시 서초구 | U21: 부산지방조달청
A22: 10 | B22: 20230317 | C22: 1 | D22: 2123320290 | E22: 한국석유공사 울산지사 | F22: 업무용 차량(카니발) 조달구매 요청 | G22: 기아 주식회사 | H22: 670000 | I22: 25175111 | J22: 패키지용품 | K22: 2517511101 | L22: 패키지용품 | M22: 1 | N22: 20230517 | O22: 제3자단가 | P22: 002250205_1 | Q22: 20230317 | R22: 1198102316 | S22: 대기업 | T22: 서울특별시 서초구 | U22: 부산지방조달청
A23: 11 | B23: 20230317 | C23: 1 | D23: 2123320290 | E23: 한국석유공사 울산지사 | F23: 업무용 차량(카니발) 조달구매 요청 | G23: 기아 주식회사 | H23: 40530000 | I23: 25101501 | J23: 미니버스 | K23: 2510150103 | L23: 중형승합차 | M23: 1 | N23: 20230517 | O23: 제3자단가 | P23: 002250205_1 | Q23: 20230317 | R23: 1198102316 | S23: 대기업 | T23: 서울특별시 서초구 | U23: 부산지방조달청
A24: 12 | B24: 20230317 | C24: 1 | D24: 2123320290 | E24: 한국석유공사 울산지사 | F24: 업무용 차량(카니발) 조달구매 요청 | G24: 기아 주식회사 | H24: 70000 | I24: 78180299 | J24: 차량도장서비스 | K24: 7818029901 | L24: 차량도장서비스 | M24: 1 | N24: 20230517 | O24: 제3자단가 | P24: 002250205_1 | Q24: 20230317 | R24: 1198102316 | S24: 대기업 | T24: 서울특별시 서초구 | U24: 부산지방조달청
... A109: 97 | B109: 20231226 | C109: 4 | D109: 2123385489 | E109: 한국석유공사 | F109: 출럭물 보안관리 소프트웨어(S/W) 구매 | G109: (주)와우소프트 | H109: 54860000 | I109: 43233205 | J109: 트랜잭션보안및바이러스보호소프트웨어 | K109: 4323320501 | L109: 보안소프트웨어 | M109: 2600 | N109: 20240706 | O109: 제3자단가 | P109: 002161680_1 | Q109: 20231226 | R109: 3058171831 | S109: 중소기업 | T109: 서울특별시 구로구 | U109: 부산지방조달청
