Workbook
Name 봉: [1]Sheet5!$A$2:$C$244
Name 정봉준씨: #REF!
Name 정봉준씨: #REF!
Name 정봉준씨: #REF!
Name 제출: #REF!
Name 제출: #REF!
Name 제출: #REF!
Name 추가: #REF!
Name 추가: #REF!
Name 추가: #REF!

Sheet 전자조달규모(2024년)(제출)
A1: 2024년 전자조달규모
A3: □ 2024년 전자조달규모 (계약체결 완료 기준)
F4: (단위 : 건 / 원)
A5: 구 분 | B5: 1분기 | C5: 2분기 | D5: 3분기 | E5: 4분기 | F5: 연 간
A6: 건 수 | B6: ='2024년 전사'!B5+'2024년 종합쇼핑몰 전사 추가'!B5 -> 125 | C6: ='2024년 전사'!B6+'2024년 종합쇼핑몰 전사 추가'!B6 -> 118 | D6: ='2024년 전사'!B7+'2024년 종합쇼핑몰 전사 추가'!B7 -> 82 | E6: ='2024년 전사'!B8+'2024년 종합쇼핑몰 전사 추가'!B8 -> 208 | F6: =SUM(B6:E6) -> 533
A7: 금 액 | B7: ='2024년 전사'!C5+'2024년 종합쇼핑몰 전사 추가'!C5 -> 39730725492 | C7: ='2024년 전사'!C6+'2024년 종합쇼핑몰 전사 추가'!C6 -> 48467450095 | D7: ='2024년 전사'!C7+'2024년 종합쇼핑몰 전사 추가'!C7 -> 9905420513 | E7: ='2024년 전사'!C8+'2024년 종합쇼핑몰 전사 추가'!C8 -> 105941831456 | F7: =SUM(B7:E7) -> 204045427556
A8: * 2024년 전자조달 건수는 전년 대비 소폭 감소하였으며('23년 369건 → '24년 533건, 44%↑),
A9: 금액도 전년 대비 증가('23년 1,110억원 → '24년 2,040억원, 84%↑)
A12: □ 참고 : 연도별 전자조달 규모

Sheet 전자조달규모(2024년)(편집)
A2: □ 참고 : 연도별 전자조달 규모
A3: 년도 | B3: 2003 | C3: =B3+1 -> 2004 | D3: =C3+1 -> 2005 | E3: =D3+1 -> 2006 | F3: =E3+1 -> 2007 | G3: =F3+1 -> 2008 | H3: =G3+1 -> 2009 | I3: =H3+1 -> 2010 | J3: =I3+1 -> 2011 | ... W3: =V3+1 -> 2024
A4: 조달건수 | B4: 48 | C4: 49 | D4: 61 | E4: 87 | F4: 127 | G4: 269 | H4: 396 | I4: 284 | J4: 532 | K4: 502 | L4: 501 | M4: 497 | N4: 379 | O4: 342 | P4: 460 | Q4: 389 | R4: 518 | S4: 542 | T4: 441 | U4: 422 | V4: 369 | W4: ='전자조달규모(2024년)(제출)'!F6 -> 533
A5: 조달금액(백만원) | B5: 10401 | C5: 6658 | D5: 7971 | E5: 24581 | F5: 31619 | G5: 118588 | H5: 177490 | I5: 104531 | J5: 94282 | K5: 115421 | L5: 162789 | M5: 155653 | N5: 301605 | O5: 144238 | P5: 185910 | Q5: 82553 | R5: 144580 | S5: 85067 | T5: 84552 | U5: 112993.07 | V5: 110987.25 | W5: ='전자조달규모(2024년)(제출)'!F7/1000000 -> 204045.43

Sheet 2024년 전사
A1: □ 전자조달시스템 조달내역
A2: * 작성기준 1) 대상기간 : 2024.01.01. ~ 2024.12.31. (계약일자 기준) 2) 전자조달시스템을 통한 전자계약 3) 최초 계약 기준(계약변경 미반영) 4) 장기계속계약은 연차별 계약이 2024년에 체결된 것만 포함
A4: 분기 | B4: 건수 | C4: 계약금액 (원)
A5: 1 | B5: =COUNTIF($B$13:$B$378,A5) -> 77 | C5: =SUMIF($B$13:$B$378,A5,$F$13:$F$378) -> 37924549826
A6: 2 | B6: =COUNTIF($B$13:$B$378,A6) -> 82 | C6: =SUMIF($B$13:$B$378,A6,$F$13:$F$378) -> 48263325905
A7: 3 | B7: =COUNTIF($B$13:$B$378,A7) -> 64 | C7: =SUMIF($B$13:$B$378,A7,$F$13:$F$378) -> 9490091313
A8: 4 | B8: =COUNTIF($B$13:$B$378,A8) -> 143 | C8: =SUMIF($B$13:$B$378,A8,$F$13:$F$378) -> 105337223466
A9: 합계 | B9: =SUM(B5:B8) -> 366 | C9: =SUM(C5:C8) -> 201015190510
A12: 계약일자 | B12: 분기 | C12: 계약명 | D12: 공동도급 | E12: 계약상대자(대표사, 구성원) | F12: 계약금액 | G12: 계약금액(총괄분) | H12: 계약기간 | I12: 계약기간(총괄분) | J12: 담당부서 | K12: 업무구분 | L12: 계약방법 | M12: 낙찰자선정방법 | N12: 계약번호
A13: 2024.02.01 | B13: 1 | C13: 전사 디지털 복합기(클라우드 프린팅 포함) 임차용역(2024년도분) | D13: 단독 | E13: (주)유에스엠 | F13: 218400000 | G13: 909712000 | H13: 2024.02.01 ~ 2025.01.31 | I13: 2021.05.04 ~ 2026.01.31 | J13: 총무처 조달팀 | K13: 일반용역 | L13: 수의계약(비공개) | M13: 수의 | N13: 4100071843-001
A14: 2024.01.03 | B14: 1 | C14: 울산비축기지 지하화 건설공사 사후환경영향조사(운영시) 용역(2024년도) | D14: 공동이행 | E14: 주식회사 도화엔지니어링 | F14: 88520000 | G14: 572720000 | H14: 2024.01.01 ~ 2024.07.01 | I14: 2021.07.02 ~ 2024.07.01 | J14: 총무처 조달팀 | K14: 기술용역 | L14: 일반경쟁 | M14: 적격심사 | N14: 4100071234-001
A15: 2024.04.01 | B15: 2 | C15: 2022~2024년 ERP 운영 및 유지보수 용역(2024년도) | D15: 단독 | E15: (주)비에이치컨설팅 | F15: 2312300000 | G15: 6937000000 | H15: 2024.04.01 ~ 2025.03.31 | I15: 2022.04.01 ~ 2025.03.31 | J15: 총무처 조달팀 | K15: 일반용역 | L15: 수의계약(비공개) | M15: 수의 | N15: 4100072107-001
A16: 2024.12.31 | B16: 4 | C16: 거제 2단계 수리시스템 보완공사 건설사업관리용역(2025년도분) | D16: 단독 | E16: 주식회사 삼안 | F16: 1465200000 | G16: 6953100000 | H16: 2025.01.01 ~ 2025.12.31 | I16: 2022.04.20 ~ 2027.04.19 | J16: 총무처 조달팀 | K16: 기술용역 | L16: 일반경쟁 | M16: 협상(종합평가) | N16: 4100074883-001
A17: 2024.01.01 | B17: 1 | C17: 거제 2단계 수리시스템 보완공사 건설사업관리용역(2024년도분) | D17: 단독 | E17: 주식회사 삼안 | F17: 1368400000 | G17: 6848600000 | H17: 2024.01.01 ~ 2024.12.31 | I17: 2022.04.20 ~ 2027.04.19 | J17: 총무처 조달팀 | K17: 기술용역 | L17: 일반경쟁 | M17: 협상(종합평가) | N17: 4100071261-001
A18: 2024.12.31 | B18: 4 | C18: 거제 2단계 수리시스템 보완공사(2025년도분) | D18: 공동이행 | E18: 지에스건설 주식회사 | F18: 8899000000 | G18: 48950000000 | H18: 2025.01.01 ~ 2025.12.31 | I18: 2022.04.27 ~ 2027.04.26 | J18: 총무처 조달팀 | K18: 시설공사 | L18: 제한경쟁 | M18: 적격심사 | N18: 4100074878-001
A19: 2024.01.01 | B19: 1 | C19: 거제 2단계 수리시스템 보완공사(2024년도분) | D19: 공동이행 | E19: 지에스건설 주식회사 | F19: 9010100000 | G19: 46492600000 | H19: 2024.01.01 ~ 2024.12.31 | I19: 2022.04.27 ~ 2027.04.26 | J19: 총무처 조달팀 | K19: 시설공사 | L19: 제한경쟁 | M19: 적격심사 | N19: 4100071333-001
A20: 2024.05.01 | B20: 2 | C20: 2022~2024 회계연도 외부회계감사용역(2024년) | D20: 단독 | E20: 한영회계법인 | F20: 906528557 | G20: 2619389176 | H20: 2024.05.01 ~ 2025.04.30 | I20: 2022.06.13 ~ 2025.04.30 | J20: 총무처 조달팀 | N20: 4100072416-001
A21: 2024.06.01 | B21: 2 | C21: 2022년~2024년 결산지원 및 상시 회계자문 용역(2024년도) | D21: 단독 | E21: 삼일회계법인 | F21: 215533333 | G21: 646600000 | H21: 2024.06.01 ~ 2025.05.31 | I21: 2022.06.30 ~ 2025.05.31 | J21: 총무처 조달팀 | K21: 일반용역 | L21: 일반경쟁 | M21: 협상(종합평가) | N21: 4100072676-001
A22: 2024.12.31 | B22: 4 | C22: 거제 2단계 수리시스템 보완공사 건설폐기물처리용역(2025년도분) | D22: 단독 | E22: 주식회사 그린디씨알 | F22: 4444000 | G22: 146558000 | H22: 2025.01.01 ~ 2025.12.31 | I22: 2022.12.09 ~ 2027.05.31 | J22: 총무처 조달팀 | K22: 일반용역 | L22: 제한경쟁 | M22: 적격심사 | N22: 4100074901-001
A23: 2024.01.01 | B23: 1 | C23: 거제 2단계 수리시스템 보완공사 건설폐기물처리용역(2024년도분) | D23: 단독 | E23: 주식회사 그린디씨알 | F23: 3118000 | G23: 146558000 | H23: 2024.01.01 ~ 2024.12.31 | I23: 2022.12.09 ~ 2027.05.31 | J23: 총무처 조달팀 | K23: 일반용역 | L23: 제한경쟁 | M23: 적격심사 | N23: 4100071276-001
A24: 2024.04.06 | B24: 2 | C24: 2023~2025년 전산장비 운영 및 유지관리 용역(2차년도) | D24: 공동이행 | E24: 주식회사 시스원 | F24: 3133397472 | G24: 9343942000 | H24: 2024.04.06 ~ 2025.04.05 | I24: 2023.04.06 ~ 2026.04.05 | J24: 총무처 조달팀 | K24: 일반용역 | L24: 제한경쟁 | M24: 협상(종합평가) | N24: 4100072176-001
A25: 2024.01.01 | B25: 1 | C25: 울산지사 원유배관 교체공사 건설사업관리용역(2024년도분) | D25: 단독 | E25: 주식회사 삼안 | F25: 1695100000 | G25: 2681800000 | H25: 2024.01.01 ~ 2024.12.31 | I25: 2023.08.16 ~ 2025.06.15 | J25: 총무처 조달팀 | K25: 기술용역 | L25: 일반경쟁 | M25: 협상(종합평가) | N25: 4100071249-001
A26: 2024.12.31 | B26: 4 | C26: 울산지사 원유배관 교체공사 건설사업관리용역(2025년도분) | D26: 단독 | E26: 주식회사 삼안 | F26: 781000000 | G26: 2707100000 | H26: 2025.01.01 ~ 2025.06.30 | I26: 2023.08.16 ~ 2025.06.30 | J26: 총무처 조달팀 | K26: 기술용역 | L26: 일반경쟁 | M26: 협상(종합평가) | N26: 4100074899-001
A27: 2024.01.03 | B27: 1 | C27: 울산지사 원유배관 교체공사(2024년도) | D27: 공동이행 | E27: 대보건설(주) | F27: 15796000000 | G27: 35182303183 | H27: 2024.01.01 ~ 2024.12.31 | I27: 2023.08.23 ~ 2025.04.22 | J27: 총무처 조달팀 | K27: 시설공사 | L27: 제한경쟁 | M27: 적격심사 | N27: 4100071236-001
A28: 2024.12.31 | B28: 4 | C28: 울산지사 원유배관 교체공사(2025년도분) | D28: 공동이행 | E28: 대보건설(주) | F28: 11349800000 | G28: 35731300000 | H28: 2025.01.01 ~ 2025.05.31 | I28: 2023.08.23 ~ 2025.05.31 | J28: 총무처 조달팀 | K28: 시설공사 | L28: 제한경쟁 | M28: 적격심사 | N28: 4100074871-001
A29: 2024.12.23 | B29: 4 | C29: 본사 얼음정수기 임차 및 유지관리 용역(2025년도분) | D29: 단독 | E29: 비에이치솔루션 | F29: 17306100 | G29: 78000000 | H29: 2025.01.01 ~ 2025.12.31 | I29: 2024.05.16 ~ 2029.03.31 | J29: 총무처 조달팀 | K29: 일반용역 | L29: 제한경쟁 | M29: 적격심사 | N29: 4100074785-001
A30: 2024.05.16 | B30: 2 | C30: 본사 얼음정수기 임차 및 유지관리 용역(2024년도분) | D30: 단독 | E30: 비에이치솔루션 | F30: 4450140 | G30: 78000000 | H30: 2024.05.16 ~ 2024.12.31 | I30: 2024.05.16 ~ 2029.03.31 | J30: 총무처 조달팀 | K30: 일반용역 | L30: 제한경쟁 | M30: 적격심사 | N30: 4100072510-001
A31: 2024.12.31 | B31: 4 | C31: 2025년 뉴스저작물 통합 이용 용역 | D31: 단독 | E31: 주식회사 비큐에이아이 (BECU AI Inc.) | F31: 82500000 | H31: 2025.01.01 ~ 2025.12.31 | J31: 총무처 조달팀 | K31: 일반용역 | L31: 제한경쟁 | M31: 적격심사 | N31: 4100074889-001
A32: 2024.12.31 | B32: 4 | C32: 2025년도 한국석유공사 전자사보 제작 용역 | D32: 단독 | E32: 칼리그램 | F32: 118320000 | H32: 2025.01.01 ~ 2025.12.31 | J32: 총무처 조달팀 | K32: 일반용역 | L32: 제한경쟁 | M32: 협상(종합평가) | N32: 4100074924-001
A33: 2024.12.31 | B33: 4 | C33: 2025년도 통합인증(SSO) 유지관리 용역 | D33: 단독 | E33: 이니텍(주) | F33: 39600000 | H33: 2025.01.01 ~ 2025.12.31 | J33: 총무처 조달팀 | K33: 일반용역 | L33: 수의계약(비공개) | M33: 수의 | N33: 4100074931-001
A34: 2024.12.31 | B34: 4 | C34: 2025년도 사옥관리 서비스용역 | D34: 단독 | E34: 케이엔오씨서비스 주식회사 | F34: 7519923664 | H34: 2025.01.01 ~ 2025.12.31 | J34: 총무처 조달팀 | K34: 일반용역 | L34: 수의계약(비공개) | M34: 수의 | N34: 4100074938-001
A35: 2024.12.31 | B35: 4 | C35: 2025년도 방호과학화설비(CCTV) 유지보수용역 | D35: 단독 | E35: 주식회사 중부보안 | F35: 10560000 | H35: 2025.01.01 ~ 2025.12.31 | J35: 용인지사 | N35: 4100074955-001
A36: 2024.12.30 | B36: 4 | C36: 2025년 DB접근제어 솔루션 유지관리 용역 | D36: 단독 | E36: 주식회사 스피어에이엑스 | F36: 2208360 | H36: 2025.01.01 ~ 2025.12.31 | J36: 디지털혁신단 | N36: 4100074947-001
A37: 2024.12.30 | B37: 4 | C37: 2025년 도서정보시스템 소프트웨어 유지관리 용역 | D37: 단독 | E37: 주식회사 퓨쳐누리 | F37: 13860000 | H37: 2025.01.01 ~ 2025.12.31 | J37: 스마트데이터센터 | K37: 일반용역 | L37: 수의계약(비공개) | M37: 수의 | N37: 4100074900-001
A38: 2024.12.30 | B38: 4 | C38: 2025년도 곡성지사 통근버스 임차 용역 | D38: 단독 | E38: 유한회사 에버그린 | F38: 93810000 | H38: 2025.01.01 ~ 2025.12.31 | J38: 총무처 조달팀 | K38: 일반용역 | L38: 제한경쟁 | M38: 적격심사 | N38: 4100074890-001
A39: 2024.12.30 | B39: 4 | C39: 2025년도 여수지사 입출하시설 관리용역 | D39: 단독 | E39: 주식회사 동양 | F39: 1287112653 | H39: 2025.01.01 ~ 2026.02.28 | J39: 총무처 조달팀 | K39: 일반용역 | L39: 제한경쟁 | M39: 적격심사 | N39: 4100074833-001
A40: 2024.12.30 | B40: 4 | C40: 2025년 용인지사 통근버스 임차용역 | D40: 단독 | E40: (주)블루스카이 | F40: 64275750 | H40: 2025.01.01 ~ 2025.12.31 | J40: 총무처 조달팀 | K40: 일반용역 | L40: 제한경쟁 | M40: 적격심사 | N40: 4100074838-001
A41: 2024.12.30 | B41: 4 | C41: 2025년 도서정보시스템 홈페이지 유지관리 용역 | D41: 단독 | E41: 내풀로스 주식회사 | F41: 9981400 | H41: 2025.01.01 ~ 2025.12.31 | J41: 스마트데이터센터 | N41: 4100074840-001
A42: 2024.12.30 | B42: 4 | C42: 2025년 도서정보시스템 하드웨어 유지관리 용역 | D42: 단독 | E42: 주식회사 나이콤 | F42: 3227400 | H42: 2025.01.01 ~ 2025.12.31 | J42: 스마트데이터센터 | N42: 4100074841-001
A43: 2024.12.27 | B43: 4 | C43: 2025년도 거제지사 입출하시설 관리 용역 | D43: 단독 | E43: 대동항업 주식회사 | F43: 1031243000 | H43: 2025.01.01 ~ 2026.02.28 | J43: 총무처 조달팀 | K43: 일반용역 | L43: 제한경쟁 | M43: 적격심사 | N43: 4100074865-001
...

Sheet 2024년 종합쇼핑몰 전사 추가
A1: □ 종합쇼핑몰 납품요구 내역(조달청 조달데이터허브)
A2: ㅇ 작성기준 - 결재일자가 2024년도인 경우만 기재
A4: 구분 | B4: 건수 | C4: 계약금액 (원)
A5: 1분기 | B5: 48 | C5: =SUM(H13:H60) -> 1806175666
A6: 2분기 | B6: 36 | C6: =SUM(H61:H96) -> 204124190
A7: 3분기 | B7: 18 | C7: =SUM(H97:H114) -> 415329200
A8: 4분기 | B8: 65 | C8: =SUM(H115:H179) -> 604607990
A9: 합계 | B9: =SUM(B5:B8) -> 167 | C9: =SUM(C5:C8) -> 3030237046
A12: 순번 | B12: 결재일자 | C12: 분기 | D12: 납품요구번호 | E12: 수요기관명 | F12: 요청명 | G12: 업체명 | H12: 납품금액 | I12: 물품분류번호 | J12: 물품분류명 | K12: 세부품명번호 | L12: 세부품명 | M12: 납품수량 | N12: 계약종료일 | O12: 계약유형 | P12: 계약번호 | Q12: 최초결재일자 | R12: 업체사업자등록번호 | S12: 기업형태 | T12: 계약시점 업체소재시군구 | U12: 납품요구지청명
A13: 1 | B13: 20240102 | C13: 1 | D13: 2124300225 | E13: 한국석유공사 | F13: 울산지사 원유배관 교체공사 지급자재(골재) 구매 | G13: 부영산업개발주식회사 | H13: 37145000 | I13: 30109902 | J13: 혼합골재 | K13: 3010990201 | L13: 혼합골재 | M13: 4370 | N13: 20260109 | O13: 제3자단가 | P13: 232330037_1 | Q13: 20240102 | R13: 6068187051 | S13: 중소기업 | T13: 경상북도 영주시 | U13: 부산지방조달청
A14: 2 | B14: 20240108 | C14: 1 | D14: 2124301515 | E14: 한국석유공사 | F14: 지역청년 공유사택 비품(가전 3종) 구매 | G14: 삼성전자 주식회사 | H14: 12974000 | I14: 24131501 | J14: 냉장냉동겸용장치 | K14: 2413150101 | L14: 냉장고 | M14: 26 | N14: 20260710 | O14: 제3자단가 | P14: 0023H0016_1 | Q14: 20240108 | R14: 1248100998 | S14: 대기업 | T14: 경기도 수원시 영통구 | U14: 부산지방조달청
A15: 3 | B15: 20240108 | C15: 1 | D15: 2124301516 | E15: 한국석유공사 | F15: 지역청년 공유사택 비품(가전 3종) 구매 | G15: 오텍캐리어 주식회사 | H15: 15340000 | I15: 40101701 | J15: 냉방기 | K15: 4010170101 | L15: 냉방기 | M15: 26 | N15: 20260430 | O15: 제3자단가 | P15: 0023C0159_1 | Q15: 20240108 | R15: 4108108964 | S15: 중견기업 | T15: 광주광역시 광산구 | U15: 부산지방조달청
A16: 4 | B16: 20240108 | C16: 1 | D16: 2124301517 | E16: 한국석유공사 | F16: 지역청년 공유사택 비품(가전 3종) 구매 | G16: 메타에스앤에스 주식회사 | H16: 9490000 | I16: 52141601 | J16: 가정용세탁기 | K16: 5214160101 | L16: 가정용세탁기 | M16: 26 | N16: 20260706 | O16: 제3자단가 | P16: 0023C0023_1 | Q16: 20240108 | R16: 2218149894 | S16: 중소기업 | T16: 경기도 남양주시 | U16: 부산지방조달청
A17: 5 | B17: 20240109 | C17: 1 | D17: 2124301950 | E17: 한국석유공사 | F17: 울산지사 원유배관 교체공사 지급자재(순환아스팔트콘크리트) 구매 | G17: 부경아스콘사업협동조합 | H17: 215381490 | I17: 30111592 | J17: 순환아스팔트콘크리트 | K17: 3011159201 | L17: 순환아스팔트콘크리트 | M17: 2293 | N17: 20240229 | O17: 제3자단가 | P17: 212131838_1 | Q17: 20240109 | R17: 6068209222 | S17: 비영리법인등기타 | T17: 부산광역시 강서구 | U17: 부산지방조달청
A18: 6 | B18: 20240109 | C18: 1 | D18: 2124301950 | E18: 한국석유공사 | F18: 울산지사 원유배관 교체공사 지급자재(순환아스팔트콘크리트) 구매 | G18: 부경아스콘사업협동조합 | H18: 255740540 | I18: 30111592 | J18: 순환아스팔트콘크리트 | K18: 3011159201 | L18: 순환아스팔트콘크리트 | M18: 3058 | N18: 20240229 | O18: 제3자단가 | P18: 212131838_1 | Q18: 20240109 | R18: 6068209222 | S18: 비영리법인등기타 | T18: 부산광역시 강서구 | U18: 부산지방조달청
A19: 7 | B19: 20240115 | C19: 1 | D19: 2124300225 | E19: 한국석유공사 | F19: 울산지사 원유배관 교체공사 지급자재(골재) 구매 | G19: 부영산업개발주식회사 | H19: 0 | I19: 30109902 | J19: 혼합골재 | K19: 3010990201 | L19: 혼합골재 | M19: 0 | N19: 20260109 | O19: 제3자단가 | P19: 232330037_1 | Q19: 20240102 | R19: 6068187051 | S19: 중소기업 | T19: 경상북도 영주시 | U19: 부산지방조달청
A20: 8 | B20: 20240116 | C20: 1 | D20: 3824303430 | E20: 한국석유공사 거제지사 | F20: 텔레비젼 구매 | G20: 삼성전자 주식회사 | H20: 49000 | I20: 45111802 | J20: 텔레비전거치대 | K20: 4511180201 | L20: 텔레비전거치대 | M20: 1 | N20: 20260101 | O20: 제3자단가 | P20: 002263045_1 | Q20: 20240116 | R20: 1248100998 | S20: 대기업 | T20: 경기도 수원시 영통구 | U20: 경남지방조달청
A21: 9 | B21: 20240116 | C21: 1 | D21: 3824303430 | E21: 한국석유공사 거제지사 | F21: 텔레비젼 구매 | G21: 삼성전자 주식회사 | H21: 1050000 | I21: 52161505 | J21: 텔레비전 | K21: 5216150501 | L21: 텔레비전 | M21: 1 | N21: 20260101 | O21: 제3자단가 | P21: 002263045_1 | Q21: 20240116 | R21: 1248100998 | S21: 대기업 | T21: 경기도 수원시 영통구 | U21: 경남지방조달청
A22: 10 | B22: 20240119 | C22: 1 | D22: 3224304060 | E22: 한국석유공사 동해지사 | F22: 석유공사 동해지사 업무용 차량 구매(카니발 9인승 디젤) | G22: 기아 주식회사 | H22: 39570000 | I22: 25101507 | J22: 스포츠유틸리티차량 | K22: 2510150701 | L22: 다목적승용차 | M22: 1 | N22: 20240215 | O22: 제3자단가 | P22: 002350072_1 | Q22: 20240119 | R22: 1198102316 | S22: 대기업 | T22: 서울특별시 서초구 | U22: 강원지방조달청
A23: 11 | B23: 20240119 | C23: 1 | D23: 3224304060 | E23: 한국석유공사 동해지사 | F23: 석유공사 동해지사 업무용 차량 구매(카니발 9인승 디젤) | G23: 기아 주식회사 | H23: 70000 | I23: 78180299 | J23: 차량도장서비스 | K23: 7818029901 | L23: 차량도장서비스 | M23: 1 | N23: 20240215 | O23: 제3자단가 | P23: 002350072_1 | Q23: 20240119 | R23: 1198102316 | S23: 대기업 | T23: 서울특별시 서초구 | U23: 강원지방조달청
A24: 12 | B24: 20240119 | C24: 1 | D24: 3224304060 | E24: 한국석유공사 동해지사 | F24: 석유공사 동해지사 업무용 차량 구매(카니발 9인승 디젤) | G24: 기아 주식회사 | H24: 720000 | I24: 25175111 | J24: 패키지용품 | K24: 2517511101 | L24: 패키지용품 | M24: 1 | N24: 20240215 | O24: 제3자단가 | P24: 002350072_1 | Q24: 20240119 | R24: 1198102316 | S24: 대기업 | T24: 서울특별시 서초구 | U24: 강원지방조달청
... A158: 146 | B158: 20241127 | C158: 4 | D158: 2524435641 | E158: 한국석유공사 서산지사 | F158: 사무용칸막이 설치 | G158: 주식회사 하이센스 | H158: 16548000 | I158: 56111601 | J158: 패널시스템용칸막이 | K158: 5611160101 | L158: 사무실칸막이 | M158: 84 | N158: 20260630 | O158: 제3자단가 | P158: 252032756_1 | Q158: 20241127 | R158: 3118140648 | S158: 중소기업 | T158: 충청남도 당진군 | U158: 대전지방조달청
A159: 147 | B159: 20241127 | C159: 4 | D159: 2524435641 | E159: 한국석유공사 서산지사 | F159: 사무용칸막이 설치 | G159: 주식회사 하이센스 | H159: 4914000 | I159: 56111601 | J159: 패널시스템용칸막이 | K159: 5611160101 | L159: 사무실칸막이 | M159: 26 | N159: 20260630 | O159: 제3자단가 | P159: 252032756_1 | Q159: 20241127 | R159: 3118140648 | S159: 중소기업 | T159: 충청남도 당진군 | U159: 대전지방조달청
A160: 148 | B160: 20241127 | C160: 4 | D160: 2524435641 | E160: 한국석유공사 서산지사 | F160: 사무용칸막이 설치 | G160: 주식회사 하이센스 | H160: 630000 | I160: 56111601 | J160: 패널시스템용칸막이 | K160: 5611160101 | L160: 사무실칸막이 | M160: 2 | N160: 20260630 | O160: 제3자단가 | P160: 252032756_1 | Q160: 20241127 | R160: 3118140648 | S160: 중소기업 | T160: 충청남도 당진군 | U160: 대전지방조달청
A161: 149 | B161: 20241127 | C161: 4 | D161: 2524435641 | E161: 한국석유공사 서산지사 | F161: 사무용칸막이 설치 | G161: 주식회사 하이센스 | H161: 1564000 | I161: 56111601 | J161: 패널시스템용칸막이 | K161: 5611160101 | L161: 사무실칸막이 | M161: 46 | N161: 20260630 | O161: 제3자단가 | P161: 252032756_1 | Q161: 20241127 | R161: 3118140648 | S161: 중소기업 | T161: 충청남도 당진군 | U161: 대전지방조달청
A162: 150 | B162: 20241127 | C162: 4 | D162: 2524435641 | E162: 한국석유공사 서산지사 | F162: 사무용칸막이 설치 | G162: 주식회사 하이센스 | H162: 816000 | I162: 56111601 | J162: 패널시스템용칸막이 | K162: 5611160101 | L162: 사무실칸막이 | M162: 51 | N162: 20260630 | O162: 제3자단가 | P162: 252032756_1 | Q162: 20241127 | R162: 3118140648 | S162: 중소기업 | T162: 충청남도 당진군 | U162: 대전지방조달청
A163: 151 | B163: 20241127 | C163: 4 | D163: 2524435641 | E163: 한국석유공사 서산지사 | F163: 사무용칸막이 설치 | G163: 주식회사 하이센스 | H163: 36000 | I163: 56111601 | J163: 패널시스템용칸막이 | K163: 5611160101 | L163: 사무실칸막이 | M163: 2 | N163: 20260630 | O163: 제3자단가 | P163: 252032756_1 | Q163: 20241127 | R163: 3118140648 | S163: 중소기업 | T163: 충청남도 당진군 | U163: 대전지방조달청
A164: 152 | B164: 20241127 | C164: 4 | D164: 2524435641 | E164: 한국석유공사 서산지사 | F164: 사무용칸막이 설치 | G164: 주식회사 하이센스 | H164: 2016000 | I164: 56111601 | J164: 패널시스템용칸막이 | K164: 5611160101 | L164: 사무실칸막이 | M164: 32 | N164: 20260630 | O164: 제3자단가 | P164: 252032756_1 | Q164: 20241127 | R164: 3118140648 | S164: 중소기업 | T164: 충청남도 당진군 | U164: 대전지방조달청
A165: 153 | B165: 20241127 | C165: 4 | D165: 2524435641 | E165: 한국석유공사 서산지사 | F165: 사무용칸막이 설치 | G165: 주식회사 하이센스 | H165: 161000 | I165: 56111601 | J165: 패널시스템용칸막이 | K165: 5611160101 | L165: 사무실칸막이 | M165: 7 | N165: 20260630 | O165: 제3자단가 | P165: 252032756_1 | Q165: 20241127 | R165: 3118140648 | S165: 중소기업 | T165: 충청남도 당진군 | U165: 대전지방조달청
A166: 154 | B166: 20241128 | C166: 4 | D166: 3824406432 | E166: 한국석유공사 거제지사 | F166: 안전화건조기 구매 | G166: 주식회사퓨리존 | H166: 2482000 | I166: 52141604 | J166: 신발건조기 | K166: 5214160401 | L166: 신발건조기 | M166: 1 | N166: 20260630 | O166: 제3자단가 | P166: 0023C0080_1 | Q166: 20241128 | R166: 2048609422 | S166: 중소기업 | T166: 경기도 남양주시 | U166: 경남지방조달청
A167: 155 | B167: 20241203 | C167: 4 | D167: 2124382971 | E167: 한국석유공사 | F167: AutoDesk社 CAD 소프트웨어 라이선스 구매 의뢰 | G167: (주)한국인프라 | H167: 16170000 | I167: 43232102 | J167: 그래픽소프트웨어 | K167: 4323210201 | L167: 그래픽소프트웨어 | M167: 5 | N167: 20270924 | O167: 제3자단가 | P167: 002461815_1 | Q167: 20241203 | R167: 2298106899 | S167: 중소기업 | T167: 서울특별시 강남구 | U167: 부산지방조달청
A168: 156 | B168: 20241205 | C168: 4 | D168: 2124383667 | E168: 한국석유공사 | F168: 논슬립 자재 구매 | G168: 주식회사 에이블 탑 | H168: 675000 | I168: 30161908 | J168: 계단부품 | K168: 3016190801 | L168: 논슬립 | M168: 15 | N168: 20260731 | O168: 제3자단가 | P168: 0024B0554_1 | Q168: 20241205 | R168: 4168109281 | S168: 중소기업 | T168: 전라남도 광양시 | U168: 부산지방조달청
A169: 157 | B169: 20241205 | C169: 4 | D169: 2124383667 | E169: 한국석유공사 | F169: 논슬립 자재 구매 | G169: 주식회사 에이블 탑 | H169: 3240000 | I169: 30161908 | J169: 계단부품 | K169: 3016190801 | L169: 논슬립 | M169: 81 | N169: 20260731 | O169: 제3자단가 | P169: 0024B0554_1 | Q169: 20241205 | R169: 4168109281 | S169: 중소기업 | T169: 전라남도 광양시 | U169: 부산지방조달청
A170: 158 | B170: 20241206 | C170: 4 | D170: 3824409884 | E170: 한국석유공사 거제지사 | F170: 논슬립 구매 | G170: 주식회사 에이블 탑 | H170: 6570000 | I170: 30161908 | J170: 계단부품 | K170: 3016190801 | L170: 논슬립 | M170: 146 | N170: 20260731 | O170: 제3자단가 | P170: 0024B0554_1 | Q170: 20241206 | R170: 4168109281 | S170: 중소기업 | T170: 전라남도 광양시 | U170: 경남지방조달청
A171: 159 | B171: 20241206 | C171: 4 | D171: 3824409884 | E171: 한국석유공사 거제지사 | F171: 논슬립 구매 | G171: 주식회사 에이블 탑 | H171: 2765000 | I171: 30161908 | J171: 계단부품 | K171: 3016190801 | L171: 논슬립 | M171: 79 | N171: 20260731 | O171: 제3자단가 | P171: 0024B0554_1 | Q171: 20241206 | R171: 4168109281 | S171: 중소기업 | T171: 전라남도 광양시 | U171: 경남지방조달청
... A179: 167 | B179: 20241227 | C179: 4 | D179: 3824418233 | E179: 한국석유공사 거제지사 | F179: 논슬립구매 | G179: 주식회사 에이블 탑 | H179: 2352000 | I179: 30161908 | J179: 계단부품 | K179: 3016190801 | L179: 논슬립 | M179: 58.8 | N179: 20260731 | O179: 제3자단가 | P179: 0024B0554_1 | Q179: 20241227 | R179: 4168109281 | S179: 중소기업 | T179: 전라남도 광양시 | U179: 경남지방조달청
