Workbook
Name 봉: [1]Sheet5!$A$2:$C$244
Name 정봉준씨: #REF!
Name 정봉준씨: #REF!
Name 정봉준씨: #REF!
Name 제출: #REF!
Name 제출: #REF!
Name 제출: #REF!
Name 추가: #REF!
Name 추가: #REF!
Name 추가: #REF!

Sheet 전자조달규모(2025년)(제출)
A1: 2025년 전자조달규모
A3: □ 2025년 전자조달규모 (계약체결 완료 기준)
F4: (단위 : 건 / 원)
A5: 구 분 | B5: 1분기 | C5: 2분기 | D5: 3분기 | E5: 4분기 | F5: 연 간
A6: 건 수 | B6: ='2025년 전사'!B5+'2025년 종합쇼핑몰 전사'!B5 -> 74 | C6: ='2025년 전사'!B6+'2025년 종합쇼핑몰 전사'!B6 -> 112 | D6: ='2025년 전사'!B7+'2025년 종합쇼핑몰 전사'!B7 -> 126 | E6: ='2025년 전사'!B8+'2025년 종합쇼핑몰 전사'!B8 -> 131 | F6: =SUM(B6:E6) -> 443
A7: 금 액 | B7: ='2025년 전사'!C5+'2025년 종합쇼핑몰 전사'!C5 -> 6008386859 | C7: ='2025년 전사'!C6+'2025년 종합쇼핑몰 전사'!C6 -> 14974765834 | D7: ='2025년 전사'!C7+'2025년 종합쇼핑몰 전사'!C7 -> 17464152405 | E7: ='2025년 전사'!C8+'2025년 종합쇼핑몰 전사'!C8 -> 15743182785 | F7: =SUM(B7:E7) -> 54190487883
A8: * 2025년 전자조달 건수는 전년 대비 감소하였으며('24년 533건 → '25년 443건, 17%↓),
A9: 금액도 전년 대비 감소('24년 2,040억원 → '25년 542억원, 73%↓)
A12: □ 참고 : 연도별 전자조달 규모

Sheet 전자조달규모(2025년)(편집)
A2: □ 참고 : 연도별 전자조달 규모
A3: 년도 | B3: 2003 | C3: =B3+1 -> 2004 | D3: =C3+1 -> 2005 | E3: =D3+1 -> 2006 | F3: =E3+1 -> 2007 | G3: =F3+1 -> 2008 | H3: =G3+1 -> 2009 | I3: =H3+1 -> 2010 | J3: =I3+1 -> 2011 | ... X3: =W3+1 -> 2025
A4: 조달건수 | B4: 48 | C4: 49 | D4: 61 | E4: 87 | F4: 127 | G4: 269 | H4: 396 | I4: 284 | J4: 532 | K4: 502 | L4: 501 | M4: 497 | N4: 379 | O4: 342 | P4: 460 | Q4: 389 | R4: 518 | S4: 542 | T4: 441 | U4: 422 | V4: 369 | W4: 533 | X4: ='전자조달규모(2025년)(제출)'!F6 -> 443
A5: 조달금액(백만원) | B5: 10401 | C5: 6658 | D5: 7971 | E5: 24581 | F5: 31619 | G5: 118588 | H5: 177490 | I5: 104531 | J5: 94282 | K5: 115421 | L5: 162789 | M5: 155653 | N5: 301605 | O5: 144238 | P5: 185910 | Q5: 82553 | R5: 144580 | S5: 85067 | T5: 84552 | U5: 112993.07 | V5: 110987.25 | W5: 204045.43 | X5: ='전자조달규모(2025년)(제출)'!F7/1000000 -> 54190.488

Sheet 2025년 전사
A1: □ 전자조달시스템 조달내역
A2: * 작성기준 1) 대상기간 : 2025.01.01. ~ 2025.12.31. (계약체결완료 기준) 2) 전자조달시스템을 통한 전자계약 3) 최초 계약 기준(계약변경 미반영) 4) 장기계속계약은 연차별 계약이 2025년에 체결된 것만 포함
A4: 분기 | B4: 건수 | C4: 계약금액 (원)
A5: 1 | B5: =COUNTIF($L$12:$L$330,A5) -> 56 | C5: =SUMIF($L$12:$L$330,A5,$H$12:$H$330) -> 5358366579
A6: 2 | B6: =COUNTIF($L$12:$L$330,A6) -> 84 | C6: =SUMIF($L$12:$L$330,A6,$H$12:$H$330) -> 14473557277
A7: 3 | B7: =COUNTIF($L$12:$L$330,A7) -> 84 | C7: =SUMIF($L$12:$L$330,A7,$H$12:$H$330) -> 15647975345
A8: 4 | B8: =COUNTIF($L$12:$L$330,A8) -> 95 | C8: =SUMIF($L$12:$L$330,A8,$H$12:$H$330) -> 15133475135
A9: 합계 | B9: =SUM(B5:B8) -> 319 | C9: =SUM(C5:C8) -> 50613374336
A11: 계약번호 | B11: 계약명 | C11: 공동도급 | D11: 계약상대자(대표사, 구성원) | E11: 사업자번호 | F11: 기업구분(대기업/중소기업) | G11: 대표자 | H11: 계약금액 | I11: 계약금액(총괄분) | J11: 화폐단위 | K11: 계약일자 | L11: 분기 | M11: 계약기간 | N11: 계약기간(총괄분) | O11: 담당부서 | P11: 업무구분 | Q11: 계약방법 | R11: 낙찰자선정방법
A12: 4100075224-001 | B12: 전사 디지털 복합기(클라우드 프린팅 포함) 임차 용역(2025년도분) | C12: 단독 | D12: (주)유에스엠 | E12: 314-81-82555 | F12: 중소기업 | G12: 김은희 | H12: 218400000 | I12: 909712000 | J12: KRW | K12: 2025.01.31 | L12: =IF(OR(MID(K12,6,2)="01",MID(K12,6,2)="02",MID(K12,6,2)="03"),1,IF(OR(MID(K12,6,2)="04",MID(K12,6,2)="05",MID(K12,6,2)="06"),2,IF(OR(MID(K12,6,2)="07",MID(K12,6,2)="08",MID(K12,6,2)="09"),3,4))) -> 1 | M12: 2025.02.01 ~ 2026.01.31 | N12: 2021.05.04 ~ 2026.01.31 | O12: 총무처 조달팀 | P12: 일반용역 | Q12: 수의계약 | R12: 수의
A13: 4100075794-001 | B13: 2023~2025년 전산장비 운영 및 유지관리 용역(3차년도) | C13: 공동이행 | D13: 주식회사 시스원 | E13: 106-81-17749 | F13: 중소기업 | G13: 서일종 | H13: 3244826255 | I13: 9332378009 | J13: KRW | K13: 2025.04.04 | L13: =IF(OR(MID(K13,6,2)="01",MID(K13,6,2)="02",MID(K13,6,2)="03"),1,IF(OR(MID(K13,6,2)="04",MID(K13,6,2)="05",MID(K13,6,2)="06"),2,IF(OR(MID(K13,6,2)="07",MID(K13,6,2)="08",MID(K13,6,2)="09"),3,4))) -> 2 | M13: 2025.04.06 ~ 2026.04.05 | N13: 2023.04.06 ~ 2026.04.05 | O13: 총무처 조달팀 | P13: 일반용역 | Q13: 제한경쟁 | R13: 협상(종합평가)
A14: 4100075771-001 | B14: 2025~2027년도 ERP 운영 및 유지관리 용역(2025년도) | C14: 단독 | D14: (주)비에이치컨설팅 | E14: 206-86-01936 | F14: 중소기업 | G14: 이완재 | H14: 2892400000 | I14: 8677000000 | J14: KRW | K14: 2025.04.01 | L14: =IF(OR(MID(K14,6,2)="01",MID(K14,6,2)="02",MID(K14,6,2)="03"),1,IF(OR(MID(K14,6,2)="04",MID(K14,6,2)="05",MID(K14,6,2)="06"),2,IF(OR(MID(K14,6,2)="07",MID(K14,6,2)="08",MID(K14,6,2)="09"),3,4))) -> 2 | M14: 2025.04.01 ~ 2026.03.31 | N14: 2025.04.01 ~ 2028.03.31 | O14: 총무처 조달팀 | P14: 일반용역 | Q14: 수의계약 | R14: 수의
A15: 4100076028-001 | B15: 2025~2027 회계연도 외부회계감사 용역(2025년) | C15: 단독 | D15: 삼정회계법인 | E15: 102-81-34334 | F15: 중소기업 | G15: 김교태 | H15: 1301817430 | I15: 3550411168 | J15: KRW | K15: 2025.04.25 | L15: =IF(OR(MID(K15,6,2)="01",MID(K15,6,2)="02",MID(K15,6,2)="03"),1,IF(OR(MID(K15,6,2)="04",MID(K15,6,2)="05",MID(K15,6,2)="06"),2,IF(OR(MID(K15,6,2)="07",MID(K15,6,2)="08",MID(K15,6,2)="09"),3,4))) -> 2 | M15: 2025.04.25 ~ 2026.04.30 | N15: 2025.04.25 ~ 2028.04.30 | O15: 총무처 조달팀 | P15: 일반용역 | Q15: 일반경쟁 | R15: 협상(종합평가)
A16: 4100076644-001 | B16: 2025~2027년도 결산지원 및 상시 회계자문 용역(2025년도분) | C16: 단독 | D16: 한영회계법인 | E16: 116-81-01389 | F16: 중소기업 | G16: 박용근 | H16: 182601333 | I16: 547804000 | J16: KRW | K16: 2025.07.03 | L16: =IF(OR(MID(K16,6,2)="01",MID(K16,6,2)="02",MID(K16,6,2)="03"),1,IF(OR(MID(K16,6,2)="04",MID(K16,6,2)="05",MID(K16,6,2)="06"),2,IF(OR(MID(K16,6,2)="07",MID(K16,6,2)="08",MID(K16,6,2)="09"),3,4))) -> 3 | M16: 2025.07.03 ~ 2026.05.31 | N16: 2025.07.03 ~ 2028.05.31 | O16: 총무처 조달팀 | P16: 일반용역 | Q16: 일반경쟁 | R16: 협상(종합평가)
A17: 4100076990-001 | B17: 2025~2027년도 법인세 세무조정 및 세무조사 수감 자문용역(2025년) | C17: 단독 | D17: 삼일회계법인 | E17: 106-81-19621 | F17: 중소기업 | G17: 윤훈수 | H17: 55000000 | I17: 348480000 | J17: KRW | K17: 2025.08.06 | L17: =IF(OR(MID(K17,6,2)="01",MID(K17,6,2)="02",MID(K17,6,2)="03"),1,IF(OR(MID(K17,6,2)="04",MID(K17,6,2)="05",MID(K17,6,2)="06"),2,IF(OR(MID(K17,6,2)="07",MID(K17,6,2)="08",MID(K17,6,2)="09"),3,4))) -> 3 | M17: 2025.08.06 ~ 2026.06.30 | N17: 2025.08.06 ~ 2028.06.30 | O17: 총무처 조달팀 | P17: 일반용역 | Q17: 일반경쟁 | R17: 협상(종합평가)
A18: 4100078200-001 | B18: 한국석유공사 업무망 AI 인프라 시범 구축 | C18: 단독 | D18: 주식회사 범산 | E18: 221-81-31749 | F18: 중소기업 | G18: 변동희 | H18: 238083750 | J18: KRW | K18: 2025.11.26 | L18: =IF(OR(MID(K18,6,2)="01",MID(K18,6,2)="02",MID(K18,6,2)="03"),1,IF(OR(MID(K18,6,2)="04",MID(K18,6,2)="05",MID(K18,6,2)="06"),2,IF(OR(MID(K18,6,2)="07",MID(K18,6,2)="08",MID(K18,6,2)="09"),3,4))) -> 4 | M18: 2025.11.26 ~ 2026.01.21 | O18: 총무처 조달팀 | P18: 물품구매 | Q18: 제한경쟁 | R18: 적격심사
A19: 4100078190-001 | B19: 거제지사 펌프룸(#100,200) LED 조명등 교체공사 | C19: 단독 | D19: 주식회사 에이스엘이디 | E19: 143-81-16962 | F19: 중소기업 | G19: 김민정 | H19: 33900000 | J19: KRW | K19: 2025.11.25 | L19: =IF(OR(MID(K19,6,2)="01",MID(K19,6,2)="02",MID(K19,6,2)="03"),1,IF(OR(MID(K19,6,2)="04",MID(K19,6,2)="05",MID(K19,6,2)="06"),2,IF(OR(MID(K19,6,2)="07",MID(K19,6,2)="08",MID(K19,6,2)="09"),3,4))) -> 4 | M19: 2025.11.25 ~ 2025.12.22 | O19: 거제지사 | P19: 시설공사 | Q19: 수의계약 | R19: 수의
A20: 4100078010-001 | B20: 여수지사 자가처리시설(2차) 여재교체 공사 | C20: 단독 | D20: (주)한국이엔씨 | E20: 418-81-18317 | F20: 중소기업 | G20: 강석대 | H20: 54734800 | J20: KRW | K20: 2025.11.24 | L20: =IF(OR(MID(K20,6,2)="01",MID(K20,6,2)="02",MID(K20,6,2)="03"),1,IF(OR(MID(K20,6,2)="04",MID(K20,6,2)="05",MID(K20,6,2)="06"),2,IF(OR(MID(K20,6,2)="07",MID(K20,6,2)="08",MID(K20,6,2)="09"),3,4))) -> 4 | M20: 2025.11.24 ~ 2026.01.22 | O20: 여수지사 | P20: 시설공사 | Q20: 일반경쟁 | R20: 적격심사
A21: 4100078109-001 | B21: 3차 지하공동 전기방식 정류기설비 구매(설치포함) | C21: 단독 | D21: 주식회사 대성쏠라 | E21: 612-81-28867 | F21: 중소기업 | G21: 양성우 | H21: 18896933 | J21: KRW | K21: 2025.11.21 | L21: =IF(OR(MID(K21,6,2)="01",MID(K21,6,2)="02",MID(K21,6,2)="03"),1,IF(OR(MID(K21,6,2)="04",MID(K21,6,2)="05",MID(K21,6,2)="06"),2,IF(OR(MID(K21,6,2)="07",MID(K21,6,2)="08",MID(K21,6,2)="09"),3,4))) -> 4 | M21: 2025.11.21 ~ 2025.12.30 | O21: 거제지사 | P21: 물품구매 | Q21: 소액수의(견적입찰) | R21: 최저가(낙찰하한율)
A22: 4100078129-001 | B22: 서산지사 원유이송펌프(P-P001) 수리 공사 | C22: 단독 | D22: 현대중공업터보기계 주식회사 | E22: 428-88-00297 | F22: 중소기업 | G22: 김동수 | H22: 64999000 | J22: KRW | K22: 2025.11.19 | L22: =IF(OR(MID(K22,6,2)="01",MID(K22,6,2)="02",MID(K22,6,2)="03"),1,IF(OR(MID(K22,6,2)="04",MID(K22,6,2)="05",MID(K22,6,2)="06"),2,IF(OR(MID(K22,6,2)="07",MID(K22,6,2)="08",MID(K22,6,2)="09"),3,4))) -> 4 | M22: 2025.11.19 ~ 2026.01.07 | O22: 서산지사 | P22: 시설공사 | Q22: 수의계약 | R22: 수의
A23: 4100078064-001 | B23: 울산지사 BUOY MBC OVERHAUL 용역 | C23: 단독 | D23: 구주코포레이션 | E23: 108-18-77415 | F23: 중소기업 | G23: 박건우 | H23: 237930000 | J23: KRW | K23: 2025.11.19 | L23: =IF(OR(MID(K23,6,2)="01",MID(K23,6,2)="02",MID(K23,6,2)="03"),1,IF(OR(MID(K23,6,2)="04",MID(K23,6,2)="05",MID(K23,6,2)="06"),2,IF(OR(MID(K23,6,2)="07",MID(K23,6,2)="08",MID(K23,6,2)="09"),3,4))) -> 4 | M23: 2025.11.19 ~ 2026.06.16 | O23: 총무처 조달팀 | P23: 일반용역 | Q23: 수의계약 | R23: 수의
A24: 4100078000-001 | B24: 2025년도 여수지사 입출하부두 계류시설 도장공사 | C24: 단독 | D24: 주식회사 비앤비건설 | E24: 493-81-01331 | F24: 중소기업 | G24: 양광천 | H24: 489380974 | J24: KRW | K24: 2025.11.18 | L24: =IF(OR(MID(K24,6,2)="01",MID(K24,6,2)="02",MID(K24,6,2)="03"),1,IF(OR(MID(K24,6,2)="04",MID(K24,6,2)="05",MID(K24,6,2)="06"),2,IF(OR(MID(K24,6,2)="07",MID(K24,6,2)="08",MID(K24,6,2)="09"),3,4))) -> 4 | M24: 2025.11.18 ~ 2026.01.26 | O24: 총무처 조달팀 | P24: 시설공사 | Q24: 제한경쟁 | R24: 적격심사
A25: 4100078062-001 | B25: 1방유제 탱크 노즐부 방폭조명등 교체공사 | C25: 단독 | D25: 주식회사 에이스엘이디 | E25: 143-81-16962 | F25: 중소기업 | G25: 김민정 | H25: 11990000 | J25: KRW | K25: 2025.11.17 | L25: =IF(OR(MID(K25,6,2)="01",MID(K25,6,2)="02",MID(K25,6,2)="03"),1,IF(OR(MID(K25,6,2)="04",MID(K25,6,2)="05",MID(K25,6,2)="06"),2,IF(OR(MID(K25,6,2)="07",MID(K25,6,2)="08",MID(K25,6,2)="09"),3,4))) -> 4 | M25: 2025.11.17 ~ 2025.12.15 | O25: 서산지사 | P25: 시설공사 | Q25: 수의계약 | R25: 수의
A26: 4100078034-001 | B26: 외곽휀스 제초작업 | C26: 단독 | D26: 용인시산림조합 | E26: 135-82-01164 | F26: 중소기업 | G26: 이대영 | H26: 9977000 | J26: KRW | K26: 2025.11.13 | L26: =IF(OR(MID(K26,6,2)="01",MID(K26,6,2)="02",MID(K26,6,2)="03"),1,IF(OR(MID(K26,6,2)="04",MID(K26,6,2)="05",MID(K26,6,2)="06"),2,IF(OR(MID(K26,6,2)="07",MID(K26,6,2)="08",MID(K26,6,2)="09"),3,4))) -> 4 | M26: 2025.11.18 ~ 2025.12.05 | O26: 용인지사 | P26: 일반용역 | Q26: 수의계약 | R26: 수의
A27: 4100077985-001 | B27: 2025년 한국석유공사 춘추계 근무복 구매 | C27: 단독 | D27: 뱅크어패럴 | E27: 204-19-36927 | F27: 중소기업 | G27: 김민희 | H27: 128000000 | J27: KRW | K27: 2025.11.12 | L27: =IF(OR(MID(K27,6,2)="01",MID(K27,6,2)="02",MID(K27,6,2)="03"),1,IF(OR(MID(K27,6,2)="04",MID(K27,6,2)="05",MID(K27,6,2)="06"),2,IF(OR(MID(K27,6,2)="07",MID(K27,6,2)="08",MID(K27,6,2)="09"),3,4))) -> 4 | M27: 2025.11.12 ~ 2025.12.20 | O27: 총무처 조달팀 | P27: 물품구매 | Q27: 제한경쟁 | R27: 협상(종합평가)
A28: 4100077984-001 | B28: 곡성지사 건물 옥상 지붕강판 설치공사 | C28: 단독 | D28: 지혜인테리어 | E28: 670-01-03477 | F28: 중소기업 | G28: 임미진 | H28: 42042000 | J28: KRW | K28: 2025.11.11 | L28: =IF(OR(MID(K28,6,2)="01",MID(K28,6,2)="02",MID(K28,6,2)="03"),1,IF(OR(MID(K28,6,2)="04",MID(K28,6,2)="05",MID(K28,6,2)="06"),2,IF(OR(MID(K28,6,2)="07",MID(K28,6,2)="08",MID(K28,6,2)="09"),3,4))) -> 4 | M28: 2025.11.25 ~ 2025.12.23 | O28: 곡성지사 | P28: 시설공사 | Q28: 수의계약 | R28: 수의
A29: 4100077970-001 | B29: 2025년 안전밸브 정기검사 | C29: 단독 | D29: (주)유성 | E29: 312-81-88679 | F29: 중소기업 | G29: 정성욱 | H29: 13473693 | J29: KRW | K29: 2025.11.11 | L29: =IF(OR(MID(K29,6,2)="01",MID(K29,6,2)="02",MID(K29,6,2)="03"),1,IF(OR(MID(K29,6,2)="04",MID(K29,6,2)="05",MID(K29,6,2)="06"),2,IF(OR(MID(K29,6,2)="07",MID(K29,6,2)="08",MID(K29,6,2)="09"),3,4))) -> 4 | M29: 2025.11.11 ~ 2025.12.08 | O29: 곡성지사 | P29: 시설공사 | Q29: 수의계약 | R29: 수의
... A272: 4100074941-001 | B272: 2025년도 통합커뮤니케이션(UC) 유지관리 | C272: 단독 | D272: 주식회사 이지닉스 | E272: 513-81-18285 | F272: 중소기업 | G272: 전종대 | H272: 27522000 | J272: KRW | K272: 2025.01.01 | L272: =IF(OR(MID(K272,6,2)="01",MID(K272,6,2)="02",MID(K272,6,2)="03"),1,IF(OR(MID(K272,6,2)="04",MID(K272,6,2)="05",MID(K272,6,2)="06"),2,IF(OR(MID(K272,6,2)="07",MID(K272,6,2)="08",MID(K272,6,2)="09"),3,4))) -> 1 | M272: 2025.01.01 ~ 2025.12.31 | O272: AI디지털혁신단 | P272: 일반용역 | Q272: 수의계약 | R272: 수의
A273: 4100078229-00 | B273: 2025~2027년도 내부회계관리제도 평가 용역(2025년도분) | C273: 단독 | D273: 한울회계법인 | E273: 120-86-60835 | F273: 중소기업 | G273: 신성섭 | H273: 39200000 | I273: 117600000 | J273: KRW | K273: 2025.11.26 | L273: =IF(OR(MID(K273,6,2)="01",MID(K273,6,2)="02",MID(K273,6,2)="03"),1,IF(OR(MID(K273,6,2)="04",MID(K273,6,2)="05",MID(K273,6,2)="06"),2,IF(OR(MID(K273,6,2)="07",MID(K273,6,2)="08",MID(K273,6,2)="09"),3,4))) -> 4 | M273: 2025.11.26 ~ 2026.02.28 | N273: 2025.11.26 ~ 2028.02.29 | O273: 총무처 조달팀 | P273: 일반용역 | Q273: 일반경쟁 | R273: 협상(종합평가)
A274: 4100078691-00 | B274: 거제 2단계 수리시스템 보완공사 건설사업관리용역(2026년도분) | C274: 단독 | D274: (주)삼안 | E274: 211-81-25425 | F274: 중소기업 | G274: 최동식 | H274: 1456400000 | I274: 7768200000 | J274: KRW | K274: 2025.12.31 | L274: =IF(OR(MID(K274,6,2)="01",MID(K274,6,2)="02",MID(K274,6,2)="03"),1,IF(OR(MID(K274,6,2)="04",MID(K274,6,2)="05",MID(K274,6,2)="06"),2,IF(OR(MID(K274,6,2)="07",MID(K274,6,2)="08",MID(K274,6,2)="09"),3,4))) -> 4 | M274: 2026.01.01 ~ 2026.12.31 | N274: 2022.04.20 ~ 2027.05.25 | O274: 총무처 조달팀 | P274: 기술용역 | Q274: 일반경쟁 | R274: 협상(종합평가)
A275: 4100078430-00 | B275: 본사 얼음정수기 임차 및 유지관리 용역(2026년도분) | C275: 단독 | D275: 비에이치솔루션 | E275: 319-12-02695 | F275: 중소기업 | G275: 김병훈 | H275: 19778400 | I275: 86299000 | J275: KRW | K275: 2025.12.10 | L275: =IF(OR(MID(K275,6,2)="01",MID(K275,6,2)="02",MID(K275,6,2)="03"),1,IF(OR(MID(K275,6,2)="04",MID(K275,6,2)="05",MID(K275,6,2)="06"),2,IF(OR(MID(K275,6,2)="07",MID(K275,6,2)="08",MID(K275,6,2)="09"),3,4))) -> 4 | M275: 2026.01.01 ~ 2026.12.31 | N275: 2024.05.16 ~ 2029.03.31 | O275: 총무처 조달팀 | P275: 일반용역 | Q275: 제한경쟁 | R275: 적격심사
A276: 4100077793-001 | B276: PHC 입찰담합 손해배상 판결채권 집행대행 용역 | C276: 단독 | D276: 마이더스 법률사무소 | E276: 877-14-00616 | F276: 중소기업 | G276: 채시호 외 1명 | H276: 4950000 | J276: KRW | K276: 2025.10.30 | L276: =IF(OR(MID(K276,6,2)="01",MID(K276,6,2)="02",MID(K276,6,2)="03"),1,IF(OR(MID(K276,6,2)="04",MID(K276,6,2)="05",MID(K276,6,2)="06"),2,IF(OR(MID(K276,6,2)="07",MID(K276,6,2)="08",MID(K276,6,2)="09"),3,4))) -> 4 | M276: 2025.10.30 ~ 2026.12.31 | O276: 총무처 조달팀 | P276: 일반용역 | Q276: 수의계약 | R276: 수의
A277: 4100078146-00 | B277: 2025년 KNOC AI 전략 및 로드맵 수립 컨설팅 용역 | C277: 단독 | D277: 주식회사 지브이컨설팅 | E277: 432-86-01364 | F277: 중소기업 | G277: 이가영 | H277: 20000000 | J277: KRW | K277: 2025.11.18 | L277: =IF(OR(MID(K277,6,2)="01",MID(K277,6,2)="02",MID(K277,6,2)="03"),1,IF(OR(MID(K277,6,2)="04",MID(K277,6,2)="05",MID(K277,6,2)="06"),2,IF(OR(MID(K277,6,2)="07",MID(K277,6,2)="08",MID(K277,6,2)="09"),3,4))) -> 4 | M277: 2025.11.18 ~ 2025.12.31 | O277: AI디지털혁신단 | P277: 일반용역 | Q277: 수의계약 | R277: 수의
A278: 4100078231-00 | B278: 2025년 평택지사 내외부 제초작업 | C278: 단독 | D278: 백호이앤티 | E278: 319-87-02484 | F278: 중소기업 | G278: 조현미 | H278: 15000000 | J278: KRW | K278: 2025.11.25 | L278: =IF(OR(MID(K278,6,2)="01",MID(K278,6,2)="02",MID(K278,6,2)="03"),1,IF(OR(MID(K278,6,2)="04",MID(K278,6,2)="05",MID(K278,6,2)="06"),2,IF(OR(MID(K278,6,2)="07",MID(K278,6,2)="08",MID(K278,6,2)="09"),3,4))) -> 4 | M278: 2025.11.26 ~ 2025.12.25 | O278: 평택지사 | P278: 일반용역 | Q278: 수의계약 | R278: 수의
A279: 4100078234-00 | B279: 송유관 입하배관 스트레이너(STR-001A) 점검 및 청소 용역 | C279: 단독 | D279: 주식회사 탑스 | E279: 756-81-00683 | F279: 중소기업 | G279: 허만웅,김남철 | H279: 10268500 | J279: KRW | K279: 2025.11.25 | L279: =IF(OR(MID(K279,6,2)="01",MID(K279,6,2)="02",MID(K279,6,2)="03"),1,IF(OR(MID(K279,6,2)="04",MID(K279,6,2)="05",MID(K279,6,2)="06"),2,IF(OR(MID(K279,6,2)="07",MID(K279,6,2)="08",MID(K279,6,2)="09"),3,4))) -> 4 | M279: 2025.12.08 ~ 2025.12.25 | O279: 용인지사 | P279: 일반용역 | Q279: 수의계약 | R279: 수의
A280: 4100078239-00 | B280: 오산밸브스테이션 방화문 교체공사 | C280: 단독 | D280: 주식회사 탑스 | E280: 756-81-00683 | F280: 중소기업 | G280: 허만웅,김남철 | H280: 7370000 | J280: KRW | K280: 2025.11.26 | L280: =IF(OR(MID(K280,6,2)="01",MID(K280,6,2)="02",MID(K280,6,2)="03"),1,IF(OR(MID(K280,6,2)="04",MID(K280,6,2)="05",MID(K280,6,2)="06"),2,IF(OR(MID(K280,6,2)="07",MID(K280,6,2)="08",MID(K280,6,2)="09"),3,4))) -> 4 | M280: 2025.11.26 ~ 2025.12.16 | O280: 용인지사 | P280: 시설공사 | Q280: 수의계약 | R280: 수의
A281: 4100078241-00 | B281: 방호용CCTV(5대) | C281: 단독 | D281: (주)중부보안 | E281: 305-81-71729 | F281: 중소기업 | G281: 도대욱 | H281: 9300000 | J281: KRW | K281: 2025.11.24 | L281: =IF(OR(MID(K281,6,2)="01",MID(K281,6,2)="02",MID(K281,6,2)="03"),1,IF(OR(MID(K281,6,2)="04",MID(K281,6,2)="05",MID(K281,6,2)="06"),2,IF(OR(MID(K281,6,2)="07",MID(K281,6,2)="08",MID(K281,6,2)="09"),3,4))) -> 4 | M281: 2025.11.20 ~ 2025.12.18 | O281: 용인지사 | P281: 물품구매 | Q281: 수의계약 | R281: 수의
A282: 4100078291-00 | B282: 이산화탄소 소화설비 방출구역 전동댐퍼 설치 및 방화문 교체 | C282: 단독 | D282: 대륜산업(주) | E282: 402-81-15620 | F282: 중소기업 | G282: 이주협 | H282: 10670000 | J282: KRW | K282: 2025.11.27 | L282: =IF(OR(MID(K282,6,2)="01",MID(K282,6,2)="02",MID(K282,6,2)="03"),1,IF(OR(MID(K282,6,2)="04",MID(K282,6,2)="05",MID(K282,6,2)="06"),2,IF(OR(MID(K282,6,2)="07",MID(K282,6,2)="08",MID(K282,6,2)="09"),3,4))) -> 4 | M282: 2025.11.26 ~ 2025.12.24 | O282: 용인지사 | P282: 시설공사 | Q282: 수의계약 | R282: 수의
A283: 4100078292-00 | B283: 용인지사 오폐수동 옥상 지붕강판 설치공사 시행품의 | C283: 단독 | D283: 주식회사 다우건설 | E283: 185-81-01217 | F283: 중소기업 | G283: 김지선,조혜진 | H283: 40931000 | J283: KRW | K283: 2025.11.28 | L283: =IF(OR(MID(K283,6,2)="01",MID(K283,6,2)="02",MID(K283,6,2)="03"),1,IF(OR(MID(K283,6,2)="04",MID(K283,6,2)="05",MID(K283,6,2)="06"),2,IF(OR(MID(K283,6,2)="07",MID(K283,6,2)="08",MID(K283,6,2)="09"),3,4))) -> 4 | M283: 2025.11.27 ~ 2025.12.25 | O283: 용인지사 | P283: 시설공사 | Q283: 수의계약 | R283: 수의
A284: 4100078327-00 | B284: 2025년 업무자동화(RPA) 개발 및 운영 | C284: 단독 | D284: 주식회사 에코아이티 | E284: 113-86-22298 | F284: 중소기업 | G284: 홍성호 | H284: 64288850 | J284: KRW | K284: 2025.12.03 | L284: =IF(OR(MID(K284,6,2)="01",MID(K284,6,2)="02",MID(K284,6,2)="03"),1,IF(OR(MID(K284,6,2)="04",MID(K284,6,2)="05",MID(K284,6,2)="06"),2,IF(OR(MID(K284,6,2)="07",MID(K284,6,2)="08",MID(K284,6,2)="09"),3,4))) -> 4 | M284: 2025.12.03 ~ 2026.02.02 | O284: 총무처 조달팀 | P284: 일반용역 | Q284: 수의계약 | R284: 수의
A285: 4100078328-00 | B285: 오폐수동 필터 라인 밸브 보온재(4R Cover) 제작 | C285: 단독 | D285: 일등솔루션 | E285: 589-16-02161 | F285: 중소기업 | G285: LI XIULAN( | H285: 21120000 | J285: KRW | K285: 2025.12.02 | L285: =IF(OR(MID(K285,6,2)="01",MID(K285,6,2)="02",MID(K285,6,2)="03"),1,IF(OR(MID(K285,6,2)="04",MID(K285,6,2)="05",MID(K285,6,2)="06"),2,IF(OR(MID(K285,6,2)="07",MID(K285,6,2)="08",MID(K285,6,2)="09"),3,4))) -> 4 | M285: 2025.12.02 ~ 2025.12.31 | O285: 여수지사 | P285: 물품구매 | Q285: 수의계약 | R285: 수의
A286: 4100078362-00 | B286: 오폐수처리시설 필터 배관 보온재 보수공사 | C286: 단독 | D286: 주식회사 용호기계기술 | E286: 417-81-31336 | F286: 중소기업 | G286: 정성호 | H286: 10890000 | J286: KRW | K286: 2025.12.04 | L286: =IF(OR(MID(K286,6,2)="01",MID(K286,6,2)="02",MID(K286,6,2)="03"),1,IF(OR(MID(K286,6,2)="04",MID(K286,6,2)="05",MID(K286,6,2)="06"),2,IF(OR(MID(K286,6,2)="07",MID(K286,6,2)="08",MID(K286,6,2)="09"),3,4))) -> 4 | M286: 2025.12.04 ~ 2025.12.28 | O286: 여수지사 | P286: 시설공사 | Q286: 수의계약 | R286: 수의
A287: 4100078380-00 | B287: 소방펌프실 안전난간 설치공사 | C287: 단독 | D287: 대한참산업 | E287: 140-05-13152 | F287: 중소기업 | G287: 우광수 | H287: 10230000 | J287: KRW | K287: 2025.12.03 | L287: =IF(OR(MID(K287,6,2)="01",MID(K287,6,2)="02",MID(K287,6,2)="03"),1,IF(OR(MID(K287,6,2)="04",MID(K287,6,2)="05",MID(K287,6,2)="06"),2,IF(OR(MID(K287,6,2)="07",MID(K287,6,2)="08",MID(K287,6,2)="09"),3,4))) -> 4 | M287: 2025.12.03 ~ 2025.12.31 | O287: 용인지사 | P287: 시설공사 | Q287: 수의계약 | R287: 수의
... A330: 4100078460-001 | B330: 2026년도 주중 통근버스(45인승) 임차용역 | C330: 단독 | D330: 금성관광산업 주식회사 | E330: 610-86-01358 | F330: 중소기업 | G330: 이복남 | H330: 306650000 | J330: KRW | K330: 2025.12.09 | L330: =IF(OR(MID(K330,6,2)="01",MID(K330,6,2)="02",MID(K330,6,2)="03"),1,IF(OR(MID(K330,6,2)="04",MID(K330,6,2)="05",MID(K330,6,2)="06"),2,IF(OR(MID(K330,6,2)="07",MID(K330,6,2)="08",MID(K330,6,2)="09"),3,4))) -> 4 | M330: 2026.01.01. ~ 2026.12.31 | O330: 총무처 조달팀 | P330: 일반용역 | Q330: 제한경쟁 | R330: 적격심사

Sheet 2025년 종합쇼핑몰 전사
A1: □ 종합쇼핑몰 납품요구 내역(조달청 조달데이터허브)
A2: ㅇ 작성기준 1) 결재일자가 2025년도인 경우만 기재 2) 최초 계약 기준(계약변경 미반영)
A4: 구분 | B4: 건수 | C4: 계약금액 (원)
A5: 1 | B5: =COUNTIF($C$13:$C$136,A5) -> 18 | C5: =SUMIF($C$13:$C$136,A5,$J$13:$J$136) -> 650020280
A6: 2 | B6: =COUNTIF($C$13:$C$136,A6) -> 28 | C6: =SUMIF($C$13:$C$136,A6,$J$13:$J$136) -> 501208557
A7: 3 | B7: =COUNTIF($C$13:$C$136,A7) -> 42 | C7: =SUMIF($C$13:$C$136,A7,$J$13:$J$136) -> 1816177060
A8: 4 | B8: =COUNTIF($C$13:$C$136,A8) -> 36 | C8: =SUMIF($C$13:$C$136,A8,$J$13:$J$136) -> 609707650
A9: 합계 | B9: =SUM(B5:B8) -> 124 | C9: =SUM(C5:C8) -> 3577113547
A12: 납품요구결재일자 | B12: 납품기한일자 | C12: 분기 | D12: 납품요구번호 | E12: 계약번호 | F12: 수요기관명 | G12: 지청 | H12: 요청명 | I12: 납품수량 | J12: 납품금액 | K12: 물품분류번호 | L12: 물품분류명 | M12: 세부품명번호 | N12: 세부품명 | O12: 업체명 | P12: 업체사업자등록번호 | Q12: 계약유형 | R12: 수요기관소재시군구 | S12: 기업형태구분
A13: 20250108 | B13: 20250806 | C13: =IF(OR(MID(A13,5,2)="01",MID(A13,5,2)="02",MID(A13,5,2)="03"),1,IF(OR(MID(A13,5,2)="04",MID(A13,5,2)="05",MID(A13,5,2)="06"),2,IF(OR(MID(A13,5,2)="07",MID(A13,5,2)="08",MID(A13,5,2)="09"),3,4))) -> 1 | D13: R25TB00014138 | E13: 0024B0243_1 | F13: 한국석유공사 서산지사 | G13: 대전지방조달청 | H13: 시설팀 작업용차량 구매 | I13: 1 | J13: 30510000 | K13: 25101611 | L13: 화물트럭 | M13: 2510161101 | N13: 화물트럭 | O13: 케이지모빌리티 주식회사 | P13: 1258114248 | Q13: 제3자단가계약 | R13: 충청남도 서산시 | S13: 중견기업
A14: 20250108 | B14: 20250806 | C14: =IF(OR(MID(A14,5,2)="01",MID(A14,5,2)="02",MID(A14,5,2)="03"),1,IF(OR(MID(A14,5,2)="04",MID(A14,5,2)="05",MID(A14,5,2)="06"),2,IF(OR(MID(A14,5,2)="07",MID(A14,5,2)="08",MID(A14,5,2)="09"),3,4))) -> 1 | D14: R25TB00014138 | E14: 0024B0243_1 | F14: 한국석유공사 서산지사 | G14: 대전지방조달청 | H14: 시설팀 작업용차량 구매 | I14: 1 | J14: 1920000 | K14: 25173896 | L14: 트랜스퍼케이스어셈블리 | M14: 2517389601 | N14: 전달변속기조립체 | O14: 케이지모빌리티 주식회사 | P14: 1258114248 | Q14: 제3자단가계약 | R14: 충청남도 서산시 | S14: 중견기업
A15: 20250108 | B15: 20250806 | C15: =IF(OR(MID(A15,5,2)="01",MID(A15,5,2)="02",MID(A15,5,2)="03"),1,IF(OR(MID(A15,5,2)="04",MID(A15,5,2)="05",MID(A15,5,2)="06"),2,IF(OR(MID(A15,5,2)="07",MID(A15,5,2)="08",MID(A15,5,2)="09"),3,4))) -> 1 | D15: R25TB00014138 | E15: 0024B0243_1 | F15: 한국석유공사 서산지사 | G15: 대전지방조달청 | H15: 시설팀 작업용차량 구매 | I15: 1 | J15: 340000 | K15: 25174407 | L15: 페달 | M15: 2517440701 | N15: 페달 | O15: 케이지모빌리티 주식회사 | P15: 1258114248 | Q15: 제3자단가계약 | R15: 충청남도 서산시 | S15: 중견기업
A16: 20250108 | B16: 20250806 | C16: =IF(OR(MID(A16,5,2)="01",MID(A16,5,2)="02",MID(A16,5,2)="03"),1,IF(OR(MID(A16,5,2)="04",MID(A16,5,2)="05",MID(A16,5,2)="06"),2,IF(OR(MID(A16,5,2)="07",MID(A16,5,2)="08",MID(A16,5,2)="09"),3,4))) -> 1 | D16: R25TB00014138 | E16: 0024B0243_1 | F16: 한국석유공사 서산지사 | G16: 대전지방조달청 | H16: 시설팀 작업용차량 구매 | I16: 1 | J16: 2390000 | K16: 25174806 | L16: 차체덮개 | M16: 2517480601 | N16: 차체덮개 | O16: 케이지모빌리티 주식회사 | P16: 1258114248 | Q16: 제3자단가계약 | R16: 충청남도 서산시 | S16: 중견기업
A17: 20250108 | B17: 20250806 | C17: =IF(OR(MID(A17,5,2)="01",MID(A17,5,2)="02",MID(A17,5,2)="03"),1,IF(OR(MID(A17,5,2)="04",MID(A17,5,2)="05",MID(A17,5,2)="06"),2,IF(OR(MID(A17,5,2)="07",MID(A17,5,2)="08",MID(A17,5,2)="09"),3,4))) -> 1 | D17: R25TB00014138 | E17: 0024B0243_1 | F17: 한국석유공사 서산지사 | G17: 대전지방조달청 | H17: 시설팀 작업용차량 구매 | I17: 1 | J17: 1530000 | K17: 25175111 | L17: 패키지용품 | M17: 2517511101 | N17: 패키지용품 | O17: 케이지모빌리티 주식회사 | P17: 1258114248 | Q17: 제3자단가계약 | R17: 충청남도 서산시 | S17: 중견기업
A18: 20250117 | B18: 20250531 | C18: =IF(OR(MID(A18,5,2)="01",MID(A18,5,2)="02",MID(A18,5,2)="03"),1,IF(OR(MID(A18,5,2)="04",MID(A18,5,2)="05",MID(A18,5,2)="06"),2,IF(OR(MID(A18,5,2)="07",MID(A18,5,2)="08",MID(A18,5,2)="09"),3,4))) -> 1 | D18: R25TB00051397 | E18: 212430327_1 | F18: 한국석유공사 | G18: 부산지방조달청 | H18: 울산지사 원유배관 교체공사 지급자재(순환이스팔트콘크리트) 추가 구매 | I18: 583 | J18: 47392070 | K18: 30111592 | L18: 순환아스팔트콘크리트 | M18: 3011159201 | N18: 순환아스팔트콘크리트 | O18: 부경아스콘사업협동조합 | P18: 6068209222 | Q18: 제3자단가계약 | R18: 울산광역시 중구 | S18: 중소기업
A19: 20250117 | B19: 20250531 | C19: =IF(OR(MID(A19,5,2)="01",MID(A19,5,2)="02",MID(A19,5,2)="03"),1,IF(OR(MID(A19,5,2)="04",MID(A19,5,2)="05",MID(A19,5,2)="06"),2,IF(OR(MID(A19,5,2)="07",MID(A19,5,2)="08",MID(A19,5,2)="09"),3,4))) -> 1 | D19: R25TB00051397 | E19: 212430327_1 | F19: 한국석유공사 | G19: 부산지방조달청 | H19: 울산지사 원유배관 교체공사 지급자재(순환이스팔트콘크리트) 추가 구매 | I19: 777 | J19: 55532190 | K19: 30111592 | L19: 순환아스팔트콘크리트 | M19: 3011159201 | N19: 순환아스팔트콘크리트 | O19: 부경아스콘사업협동조합 | P19: 6068209222 | Q19: 제3자단가계약 | R19: 울산광역시 중구 | S19: 중소기업
A20: 20250210 | B20: 20250312 | C20: =IF(OR(MID(A20,5,2)="01",MID(A20,5,2)="02",MID(A20,5,2)="03"),1,IF(OR(MID(A20,5,2)="04",MID(A20,5,2)="05",MID(A20,5,2)="06"),2,IF(OR(MID(A20,5,2)="07",MID(A20,5,2)="08",MID(A20,5,2)="09"),3,4))) -> 1 | D20: R25TB00131034 | E20: 002170252_1 | F20: 한국석유공사 | G20: 부산지방조달청 | H20: 서산지사 외곽 영상감시장치 자재 구매 | I20: 15 | J20: 53340000 | K20: 46171622 | L20: 영상감시장치 | M20: 4617162201 | N20: 영상감시장치 | O20: 주식회사 오티에스 | P20: 3058112787 | Q20: 제3자단가계약 | R20: 울산광역시 중구 | S20: 중소기업
A21: 20250210 | B21: 20250312 | C21: =IF(OR(MID(A21,5,2)="01",MID(A21,5,2)="02",MID(A21,5,2)="03"),1,IF(OR(MID(A21,5,2)="04",MID(A21,5,2)="05",MID(A21,5,2)="06"),2,IF(OR(MID(A21,5,2)="07",MID(A21,5,2)="08",MID(A21,5,2)="09"),3,4))) -> 1 | D21: R25TB00133530 | E21: 242430522_1 | F21: 한국석유공사 | G21: 광주지방조달청 | H21: 경비대 사무용 의자 구매 | I21: 3 | J21: 366000 | K21: 56112102 | L21: 작업용의자 | M21: 5611210201 | N21: 작업용의자 | O21: 사단법인중증장애인복지협회도둠 | P21: 1488200161 | Q21: 제3자단가계약 | R21: 울산광역시 중구 | S21: 비영리법인등기타
A22: 20250220 | B22: 20250322 | C22: =IF(OR(MID(A22,5,2)="01",MID(A22,5,2)="02",MID(A22,5,2)="03"),1,IF(OR(MID(A22,5,2)="04",MID(A22,5,2)="05",MID(A22,5,2)="06"),2,IF(OR(MID(A22,5,2)="07",MID(A22,5,2)="08",MID(A22,5,2)="09"),3,4))) -> 1 | D22: R25TB00190212 | E22: 0024C0701_1 | F22: 한국석유공사 거제지사 | G22: 경남지방조달청 | H22: 세탁기 구입 | I22: 1 | J22: 649000 | K22: 52141601 | L22: 가정용세탁기 | M22: 5214160101 | N22: 가정용세탁기 | O22: 삼성전자 주식회사 | P22: 1248100998 | Q22: 제3자단가계약 | R22: 경상남도 거제시 | S22: 대기업
A23: 20250220 | B23: 20250322 | C23: =IF(OR(MID(A23,5,2)="01",MID(A23,5,2)="02",MID(A23,5,2)="03"),1,IF(OR(MID(A23,5,2)="04",MID(A23,5,2)="05",MID(A23,5,2)="06"),2,IF(OR(MID(A23,5,2)="07",MID(A23,5,2)="08",MID(A23,5,2)="09"),3,4))) -> 1 | D23: R25TB00195570 | E23: 002262132_1 | F23: 한국석유공사 거제지사 | G23: 경남지방조달청 | H23: 전자렌지 구매 | I23: 5 | J23: 435000 | K23: 52141502 | L23: 가정용전자레인지 | M23: 5214150201 | N23: 가정용전자레인지 | O23: 삼성전자 주식회사 | P23: 1248100998 | Q23: 제3자단가계약 | R23: 경상남도 거제시 | S23: 대기업
A24: 20250227 | B24: 20250329 | C24: =IF(OR(MID(A24,5,2)="01",MID(A24,5,2)="02",MID(A24,5,2)="03"),1,IF(OR(MID(A24,5,2)="04",MID(A24,5,2)="05",MID(A24,5,2)="06"),2,IF(OR(MID(A24,5,2)="07",MID(A24,5,2)="08",MID(A24,5,2)="09"),3,4))) -> 1 | D24: R25TB00227442 | E24: 221932200_1 | F24: 한국석유공사 서산지사 | G24: 대전지방조달청 | H24: LED 방폭조명등 구매 | I24: 26 | J24: 13390000 | K24: 39111611 | L24: 투광조명 | M24: 3911161102 | N24: LED투광등기구 | O24: 주식회사 에이스엘이디 | P24: 1438116962 | Q24: 제3자단가계약 | R24: 충청남도 서산시 | S24: 중소기업
... A136: 20251230 | B136: 20260129 | C136: =IF(OR(MID(A136,5,2)="01",MID(A136,5,2)="02",MID(A136,5,2)="03"),1,IF(OR(MID(A136,5,2)="04",MID(A136,5,2)="05",MID(A136,5,2)="06"),2,IF(OR(MID(A136,5,2)="07",MID(A136,5,2)="08",MID(A136,5,2)="09"),3,4))) -> 4 | D136: R25TB01389082 | E136: 002051288_1 | F136: 한국석유공사 | G136: 부산지방조달청 | H136: 2026년 도서관리시스템 클라우드 서비스 이용 | I136: 1 | J136: 13596000 | K136: 81111513 | L136: 클라우드서비스 | M136: 8111151309 | N136: 콘텐츠관리클라우드서비스(SaaS) | O136: 주식회사 두드림시스템 | P136: 1138658874 | Q136: 제3자단가계약 | R136: 울산광역시 중구 | S136: 중소기업
