Workbook

Sheet 1월
A1: 2025년 1월 업무추진비 집행내역
A2: □ 집행자 : 상임감사위원
A4: 사용일자 | B4: 집행내역 (목 적) | D4: 사용처(장소) | E4: 집행대상자 | F4: 집행구분 | G4: 인원(명) | H4: 집행금액(원)
B5: 구분 | C5: 내역
A6: 45663 | B6: 내부회의(협의)및 직원격려 | C6: 축구동호회 청렴ㆍ윤리 강화 및 내부통제 기능 강화 관련 정보교류 등 | D6: 정자횟집 (0507-1354-6922) | E6: 내부임직원 | F6: 카드 | G6: 8 | H6: 400000
A7: 45670 | B7: 내부회의(협의)및 직원격려 | C7: 각 부속실 운영관련 고충청취 및 방만경영 등 관련 정보교류 | D7: 디비디비딥 | E7: 내부임직원 | F7: 카드 | G7: 8 | H7: 304000
A8: 45671 | B8: 내부회의(협의)및 직원격려 | C8: 기획재무본부 내부통제 기능 강화 관련 정보교류 | D8: 항구 | E8: 내부임직원 | F8: 카드 | G8: 6 | H8: 297000
A9: 45672 | B9: 내부회의(협의)및 직원격려 | C9: 감사실 팀장 인사이동에 대한 격려 및 간담회 | D9: 샵배고파전 (052-248-5001) | E9: 내부임직원 | F9: 카드 | G9: 6 | H9: 156000
B10: 계 | C10: =COUNTA(C6:C9)&"건" -> 4건 | D10: - | F10: =COUNTA(F6:F9) -> 4 | G10: - | H10: =SUM(H6:H9) -> 1157000

Sheet 2월
A1: 2025년 2월 업무추진비 집행내역
A2: □ 집행자 : 상임감사위원
A4: 사용일자 | B4: 집행내역 (목 적) | D4: 사용처(장소) | E4: 집행대상자 | F4: 집행구분 | G4: 인원(명) | H4: 집행금액(원)
B5: 구분 | C5: 내역
A6: 45692 | B6: 내부회의(협의)및 직원격려 | C6: 감사실 감사인 인사이동에 대한 격려 및 간담회 | D6: 수림복국 (052-224-0235) | E6: 내부임직원 | F6: 카드 | G6: 8 | H6: 184000
A7: 45700 | B7: 내부회의(협의)및 직원격려 | C7: ESG경영처장 등 신임 부서장 업무협의 및 정보교류 | D7: 수림복국 (052-224-0235) | E7: 내부임직원 | F7: 카드 | G7: 9 | H7: 207000
A8: 45715 | B8: 내부회의(협의)및 직원격려 | C8: `24사번 공직관, 내부통제, 청렴 등 관련 간담회 및 정보교류 | D8: 안창살소말뚝 (052-211-7201) | E8: 내부임직원 | F8: 카드 | G8: 13 | H8: 520000
B9: 계 | C9: =COUNTA(C6:C8)&"건" -> 3건 | D9: - | F9: =COUNTA(F6:F8) -> 3 | G9: - | H9: =SUM(H6:H8) -> 911000

Sheet 3월
A1: 2025년 3월 업무추진비 집행내역
A2: □ 집행자 : 상임감사위원
A4: 사용일자 | B4: 집행내역 (목 적) | D4: 사용처(장소) | E4: 집행대상자 | F4: 집행구분 | G4: 인원(명) | H4: 집행금액(원)
B5: 구분 | C5: 내역
A6: 45722 | B6: 내부회의(협의)및 직원격려 | C6: 부속실 직원 애로사항 청취 및 노고 격려 | D6: 다은식당 (052-246-0288) | E6: 내부임직원 | F6: 카드 | G6: 3 | H6: 150000
A7: 45736 | B7: 내부회의(협의)및 직원격려 | C7: 감사실 전입직원 간담회 및 업무협의 | D7: 황금향로 (052-244-8585) | E7: 내부임직원 | F7: 카드 | G7: 6 | H7: 90000
B8: 계 | C8: =COUNTA(C6:C7)&"건" -> 2건 | D8: - | F8: =COUNTA(F6:F7) -> 2 | G8: - | H8: =SUM(H6:H7) -> 240000

Sheet 4월
A1: 2025년 4월 업무추진비 집행내역
A2: □ 집행자 : 상임감사위원
A4: 사용일자 | B4: 집행내역 (목 적) | D4: 사용처(장소) | E4: 집행대상자 | F4: 집행구분 | G4: 인원(명) | H4: 집행금액(원)
B5: 구분 | C5: 내역
A6: 45748 | B6: 내부회의(협의)및 직원격려 | C6: 감사 결과 및 향후 내부통제 강화 방안 등 협의 | D6: 밀양시골밥상 (052-247-3320) | E6: 내부임직원 | F6: 카드 | G6: 7 | H6: 168000
A7: 45758 | B7: 내부회의(협의)및 직원격려 | C7: 2024년도 감사 직무수행실적 평가 준비 등 | D7: 차이나면사무소 (052-245-1515) | E7: 내부임직원 | F7: 카드 | G7: 2 | H7: 30000
A8: 45768 | B8: 내부회의(협의)및 직원격려 | C8: ESG경영처장 등 내부통제 및 청렴도 제고 관련 협의 | D8: 용문 (052-244-9500) | E8: 내부임직원 | F8: 카드 | G8: 4 | H8: 219000
A9: 45771 | B9: 내부회의(협의)및 직원격려 | C9: 공사 안내직원 및 경비대장 출입통제 관련 고충청취 등 | D9: 로즈모스 (052-245-0852) | E9: 내부임직원 | F9: 카드 | G9: 6 | H9: 182000
A10: 45771 | B10: 내부회의(협의)및 직원격려 | C10: 기재부 감사 평가 관련 직원 격려 및 개선사항 등 협의 | D10: 소말뚝안창살 (052-211-7201) | E10: 내부임직원 | F10: 카드 | G10: 8 | H10: 327200
B11: 계 | C11: =COUNTA(C6:C9)&"건" -> 4건 | D11: - | F11: =COUNTA(F6:F10) -> 5 | G11: - | H11: =SUM(H6:H10) -> 926200

Sheet 5월
A1: 2025년 5월 업무추진비 집행내역
A2: □ 집행자 : 상임감사위원
A4: 사용일자 | B4: 집행내역 (목 적) | D4: 사용처(장소) | E4: 집행대상자 | F4: 집행구분 | G4: 인원(명) | H4: 집행금액(원)
B5: 구분 | C5: 내역
A6: 45792 | B6: 내부회의(협의)및 직원격려 | C6: 부속실 비서관 등 노고격려 및 애로사항 청취 | D6: 다은식당 (052-246-0288) | E6: 내부임직원 | F6: 카드 | G6: 3 | H6: 142000
A7: 45797 | B7: 내부회의(협의)및 직원격려 | C7: 내부통제 기능 강화 및 윤리성 제고 방안 등 협의 | D7: 항구 | E7: 내부임직원 | F7: 카드 | G7: 6 | H7: 272000
A8: 45803 | B8: 내부회의(협의)및 직원격려 | C8: 영국 다나, 카작 알마티 등 파견 복귀직원 대상 내부통제 등 관련 정보교류 | D8: 주식회사 오공일 (052-988-5010) | E8: 내부임직원 | F8: 카드 | G8: 7 | H8: 254500
A9: 45804 | B9: 내부회의(협의)및 직원격려 | C9: 감사자문위원, 사외이사 등 공사 청렴도 제고방안 등 관련 정보교류 | D9: 문수산상황삼계탕 (052-261-1638) | E9: 기타 업무관계자 | F9: 카드 | G9: 4 | H9: 100000
B10: 계 | C10: =COUNTA(C6:C9)&"건" -> 4건 | D10: - | F10: =COUNTA(F6:F9) -> 4 | G10: - | H10: =SUM(H6:H9) -> 768500

Sheet 6월
A1: 2025년 6월 업무추진비 집행내역
A2: □ 집행자 : 상임감사위원
A4: 사용일자 | B4: 집행내역 (목 적) | D4: 사용처(장소) | E4: 집행대상자 | F4: 집행구분 | G4: 인원(명) | H4: 집행금액(원)
B5: 구분 | C5: 내역
A6: 45820 | B6: 내부회의(협의)및 직원격려 | C6: E&P/에너지본부 내부통제 기능 강화 및 윤리성 제고 방안 등 협의 | D6: 달삼로72번길바닷집 (052-256-7212) | E6: 내부임직원 | F6: 카드 | G6: 9 | H6: 338000
A7: 45831 | B7: 내부회의(협의)및 직원격려 | C7: 수석위원과 공사 내부통제 기능 강화 및 감사실 운영방안 등 협의 | D7: 달삼로72번길바닷집 (052-256-7212) | E7: 내부임직원 | F7: 카드 | G7: 5 | H7: 260000
A8: 45832 | B8: 내부회의(협의)및 직원격려 | C8: 경영지원본부 내부통제 기능 강화 및 윤리성 제고 방안 등 협의 | D8: 영안반점 (052-211-3769) | E8: 내부임직원 | F8: 카드 | G8: 6 | H8: 265000
A9: 45838 | B9: 내부회의(협의)및 직원격려 | C9: E&P/에너지감사팀 UAE사업 성과감사 결과 협의 및 격려 | D9: 장가계 (052-911-0426) | E9: 내부임직원 | F9: 카드 | G9: 7 | H9: 326500
B10: 계 | C10: =COUNTA(C6:C9)&"건" -> 4건 | D10: - | F10: =COUNTA(F6:F9) -> 4 | G10: - | H10: =SUM(H6:H9) -> 1189500

Sheet 7월
A1: 2025년 7월 업무추진비 집행내역
A2: □ 집행자 : 상임감사위원
A4: 사용일자 | B4: 집행내역 (목 적) | D4: 사용처(장소) | E4: 집행대상자 | F4: 집행구분 | G4: 인원(명) | H4: 집행금액(원)
B5: 구분 | C5: 내역
A6: 45845 | B6: 내부회의(협의)및 직원격려 | C6: 비축감사팀 용인지사 등 실지감사 관련 업무협의 및 직원 격려 | D6: 다은식당 (052-246-0288) | E6: 내부임직원 | F6: 카드 | G6: 7 | H6: 266000
A7: 45848 | B7: 내부회의(협의)및 직원격려 | C7: KNOC서비스 직원 공사안내 및 경비업무 관련 애로사항 청취 및 격려 | D7: 수림복국 (052-224-0235) | E7: 내부임직원 | F7: 카드 | G7: 6 | H7: 138000
A8: 45854 | B8: 내부회의(협의)및 직원격려 | C8: 방만경영 예방실태 특정감사 업무협의 및 노고 격려 | D8: 영안반점 (052-211-3769) | E8: 내부임직원 | F8: 카드 | G8: 7 | H8: 340000
A9: 45855 | B9: 내부회의(협의)및 직원격려 | C9: 교육파견자 등 내부통제시스템 및 청렴·윤리 강화 관련 정보교류 | D9: 다은식당 (052-246-0288) | E9: 내부임직원 | F9: 카드 | G9: 4 | H9: 200000
A10: 45859 | B10: 내부회의(협의)및 직원격려 | C10: 인재경영처 종합감사 등 업무협의 및 노고 격려 | D10: 항구 | E10: 내부임직원 | F10: 카드 | G10: 7 | H10: 340000
B11: 계 | C11: =COUNTA(C6:C10)&"건" -> 5건 | D11: - | F11: =COUNTA(F6:F10) -> 5 | G11: - | H11: =SUM(H6:H10) -> 1284000

Sheet 8월
A1: 2025년 8월 업무추진비 집행내역
A2: □ 집행자 : 상임감사위원
A4: 사용일자 | B4: 집행내역 (목 적) | D4: 사용처(장소) | E4: 집행대상자 | F4: 집행구분 | G4: 인원(명) | H4: 집행금액(원)
B5: 구분 | C5: 내역
A6: 45875 | B6: 내부회의(협의)및 직원격려 | C6: 감사인 해외파견 발령 직원 등 노고 격려 및 하반기 실지감사 협의 | D6: 맛내음왕소금구이 (052-266-6350) | E6: 내부임직원 | F6: 카드 | G6: 8 | H6: 259900
A7: 45880 | B7: 내부회의(협의)및 직원격려 | C7: 부속식 직원 등 노고 격려 및 내부통제 등 관련 정보 교류 | D7: 다은식당 (052-246-0288) | E7: 내부임직원 | F7: 카드 | G7: 4 | H7: 184000
B8: 계 | C8: =COUNTA(C6:C7)&"건" -> 2건 | D8: - | F8: =COUNTA(F6:F7) -> 2 | G8: - | H8: =SUM(H6:H7) -> 443900

Sheet 9월
A1: 2025년 9월 업무추진비 집행내역
A2: □ 집행자 : 상임감사위원
A4: 사용일자 | B4: 집행내역 (목 적) | D4: 사용처(장소) | E4: 집행대상자 | F4: 집행구분 | G4: 인원(명) | H4: 집행금액(원)
B5: 구분 | C5: 내역
A6: 45902 | B6: 내부회의(협의)및 직원격려 | C6: 감사실 현안과제 협의 및 직원 고충 관련 정보교류 | D6: 문수산상황삼계탕 (052-261-1638) | E6: 내부임직원 | F6: 카드 | G6: 6 | H6: 219000
A7: 45903 | B7: 내부회의(협의)및 직원격려 | C7: 각 본부 근무직원 상대 내부통제 등 관련 정보교류 및 애로사항 청취 | D7: 양꼬치 (052-248-5427) | E7: 내부임직원 | F7: 카드 | G7: 6 | H7: 174000
A8: 45916 | B8: 내부회의(협의)및 직원격려 | C8: 경영/사업관리부서 등 준감사인 공사 현안 및 내부통제 강화 관련 의견 청취 등 소통간담회 | D8: 59참숯구이 (0507-1480-1267) | E8: 내부임직원 | F8: 카드 | G8: 10 | H8: 255000
A9: 45922 | B9: 내부회의(협의)및 직원격려 | C9: E&P/에너지감사팀 해외운영법인 종합감사 등 관련 업무 협의 및 노고 격려 | D9: 인생식당 (0507-1422-6697) | E9: 내부임직원 | F9: 카드 | G9: 8 | H9: 358500
A10: 45923 | B10: 내부회의(협의)및 직원격려 | C10: 비축/안전관리부서 등 준감사인 공사 현안 및 내부통제 강화 관련 의견 청취 등 소통간담회 | D10: 다은식당 (052-246-0288) | E10: 내부임직원 | F10: 카드 | G10: 11 | H10: 434000
B11: 계 | C11: =COUNTA(C6:C10)&"건" -> 5건 | D11: - | F11: =COUNTA(F6:F10) -> 5 | G11: - | H11: =SUM(H6:H10) -> 1440500

Sheet 10월
A1: 2025년 10월 업무추진비 집행내역
A2: □ 집행자 : 상임감사위원
A4: 사용일자 | B4: 집행내역 (목 적) | D4: 사용처(장소) | E4: 집행대상자 | F4: 집행구분 | G4: 인원(명) | H4: 집행금액(원)
B5: 구분 | C5: 내역
A6: 45945 | B6: 내부회의(협의)및 직원격려 | C6: 공사 내부통제 강화 및 법무팀, 감사실 운영 관련 정보교류 | D6: 항구 (0507-1342-4551) | E6: 내부임직원 | F6: 카드 | G6: 6 | H6: 261000
A7: 45947 | B7: 내부회의(협의)및 직원격려 | C7: 비축사업본부 울산지사 등 애로사항 청취 및 공사 내부통제 강화 관련 정보교류 | D7: 다은식당 (052-246-0288) | E7: 내부임직원 | F7: 카드 | G7: 4 | H7: 199000
A8: 45952 | B8: 내부회의(협의)및 직원격려 | C8: 감사실 국정감사 준비 직원 노고 격려 및 감사실 운영관련 정보교류 | D8: 영안반점 (052-211-3769) | E8: 내부임직원 | F8: 카드 | G8: 10 | H8: 445000
A9: 45959 | B9: 내부회의(협의)및 직원격려 | C9: 홍보실 직원, 공사 내부통제 강화 및 감사실 운영방안 정보교류 | D9: 항구 (0507-1342-4551) | E9: 내부임직원 | F9: 카드 | G9: 8 | H9: 376000
B10: 계 | C10: =COUNTA(C6:C9)&"건" -> 4건 | D10: - | F10: =COUNTA(F6:F9) -> 4 | G10: - | H10: =SUM(H6:H9) -> 1281000

Sheet 11월
A1: 2025년 11월 업무추진비 집행내역
A2: □ 집행자 : 상임감사위원
A4: 사용일자 | B4: 집행내역 (목 적) | D4: 사용처(장소) | E4: 집행대상자 | F4: 집행구분 | G4: 인원(명) | H4: 집행금액(원)
B5: 구분 | C5: 내역
A6: 45965 | B6: 내부회의(협의)및 직원격려 | C6: 감사실장, 감사실 팀장과 실지감사 진행 중인 감사 관련 업무협의 | D6: 영안반점 (052-211-3769) | E6: 내부임직원 | F6: 카드 | G6: 5 | H6: 240000
A7: 45972 | B7: 내부회의(협의)및 직원격려 | C7: 사장실 등 경영진 부속실 직원 대상 고충청취 및 내부통제 강화 관련 정보교류 | D7: 항구 (0507-1342-4551) | E7: 내부임직원 | F7: 카드 | G7: 8 | H7: 361000
A8: 45974 | B8: 내부회의(협의)및 직원격려 | C8: 2025년 신입직원 공직복무 및 청렴소통 간담회 | D8: GS25 한국석유공사점 (052-211-7931) | E8: 내부임직원 | F8: 카드 | G8: 6 | H8: 22950
A9: 45979 | B9: 내부회의(협의)및 직원격려 | C9: 2025년 신입직원 공직복무 및 청렴소통 간담회 | D9: GS25 한국석유공사점 (052-211-7931) | E9: 내부임직원 | F9: 카드 | G9: 9 | H9: 25100
A10: 45979 | B10: 내부회의(협의)및 직원격려 | C10: E&P/에너지사업본부 근무 직원 공사 내부통제 등 관련 정보교류 | D10: 다은식당 (052-246-0288) | E10: 내부임직원 | F10: 카드 | G10: 5 | H10: 132000
A11: 45988 | B11: 내부회의(협의)및 직원격려 | C11: 감사실 팀장이상 감사업무 처리관련 업무협의 | D11: 봉계돼지국밥 (052-246-4477) | E11: 내부임직원 | F11: 카드 | G11: 6 | H11: 159000
B12: 계 | C12: =COUNTA(C6:C11)&"건" -> 6건 | D12: - | F12: =COUNTA(F6:F11) -> 6 | G12: - | H12: =SUM(H6:H11) -> 940050

Sheet 총괄
B2: 구분 | C2: 금액 | D2: 누적합계
B3: 1월 | C3: ='1월'!H6+'1월'!H7+'1월'!H8+'1월'!H9 -> 1157000
B4: 2월 | C4: ='2월'!H6+'2월'!H7+'2월'!H8 -> 911000 | D4: =C3+C4 -> 2068000
B5: 3월 | C5: 240000 | D5: =D4+C5 -> 2308000
B6: 4월 | C6: 926200 | D6: =D5+C6 -> 3234200
B7: 5월 | C7: ='5월'!H6+'5월'!H7+'5월'!H8+'5월'!H9 -> 768500 | D7: =D6+C7 -> 4002700
B8: 6월 | C8: ='6월'!H6+'6월'!H7+'6월'!H8+'6월'!H9 -> 1189500 | D8: =D7+C8 -> 5192200
B9: 7월 | C9: ='7월'!H6+'7월'!H7+'7월'!H8+'7월'!H9+'7월'!H10 -> 1284000 | D9: =D8+C9 -> 6476200
B10: 8월 | C10: ='8월'!H6+'8월'!H7 -> 443900 | D10: =D9+C10 -> 6920100
B11: 9월 | C11: ='9월'!H6+'9월'!H7+'9월'!H8+'9월'!H9+'9월'!H10 -> 1440500 | D11: =D10+C11 -> 8360600
B12: 10월 | C12: ='10월'!H6+'10월'!H7+'10월'!H8+'10월'!H9 -> 1281000 | D12: =D11+C12 -> 9641600
B13: 11월 | C13: ='11월'!H6+'11월'!H7+'11월'!H8+'11월'!H9+'11월'!H10+'11월'!H11 -> 940050 | D13: =D12+C13 -> 10581650
B14: 12월 | D14: =D13+C14 -> 10581650
