Workbook

Sheet 1월
A1: 2025년 1월 업무추진비 집행내역
A2: □ 집행자 : E&P/에너지사업본부장
A4: 사용일자 | B4: 집행내역 (목 적) | D4: 사용처(장소) | E4: 집행대상자 | F4: 집행구분 | G4: 인원(명) | H4: 집행금액(원)
B5: 구분 | C5: 내역
B9: 계 | C9: =COUNTA(C6:C8)&"건" -> 0건 | D9: - | F9: 카드 건 | G9: - | H9: =SUM(H6:H8) -> 0

Sheet 2월
A1: 2025년 2월 업무추진비 집행내역
A2: □ 집행자 : E&P/에너지사업본부장
A4: 사용일자 | B4: 집행내역 (목 적) | D4: 사용처(장소) | E4: 집행대상자 | F4: 집행구분 | G4: 인원(명) | H4: 집행금액(원)
B5: 구분 | C5: 내역
A6: 45700 | B6: 내부회의(협의)및 직원격려 | C6: E&P/에너지사업본부 현안업무 협의 | D6: 미강식당 | E6: 내부임직원 | F6: 카드 | G6: 4명 | H6: 166000
A7: 45707 | B7: 내부회의(협의)및 직원격려 | C7: E&P/에너지사업본부 현안업무 협의 | D7: 예향정 우정혁신점 | E7: 내부임직원 | F7: 카드 | G7: 3명 | H7: 60000
A8: 45712 | B8: 내부회의(협의)및 직원격려 | C8: E&P/에너지사업본부 현안업무 협의 | D8: 산 | E8: 내부임직원 | F8: 카드 | G8: 4명 | H8: 133500
B9: 계 | C9: =COUNTA(C6:C8)&"건" -> 3건 | D9: - | F9: 카드 건 | G9: - | H9: =SUM(H6:H8) -> 359500

Sheet 3월
A1: 2025년 3월 업무추진비 집행내역
A2: □ 집행자 : E&P/에너지사업본부장
A4: 사용일자 | B4: 집행내역 (목 적) | D4: 사용처(장소) | E4: 집행대상자 | F4: 집행구분 | G4: 인원(명) | H4: 집행금액(원)
B5: 구분 | C5: 내역
A6: 45726 | B6: 내부회의(협의)및 직원격려 | C6: E&P/에너지사업본부 현안업무 협의 | D6: 가리명가 본점 | E6: 내부임직원 | F6: 카드 | G6: 3명 | H6: 84000
A7: 45729 | B7: 내부회의(협의)및 직원격려 | C7: E&P/에너지사업본부 현안업무 협의 | D7: 어멍 | E7: 내부임직원 | F7: 카드 | G7: 5명 | H7: 133000
A8: 45734 | B8: 내부회의(협의)및 직원격려 | C8: E&P/에너지사업본부 현안업무 협의 | D8: M산업통상자원부13동 | E8: 내부임직원 | F8: 카드 | G8: 5명 | H8: 80000
A9: 45735 | B9: 내부회의(협의)및 직원격려 | C9: E&P/에너지사업본부 현안업무 협의 | D9: 이디야커피울산우정혁신점 | E9: 내부임직원 | F9: 카드 | G9: 2명 | H9: 12300
A10: 45735 | B10: 내부회의(협의)및 직원격려 | C10: E&P/에너지사업본부 현안업무 협의 | D10: 홍익궁중전통육개장울산우정혁신점 | E10: 내부임직원 | F10: 카드 | G10: 2명 | H10: 40000
A11: 45741 | B11: 내부회의(협의)및 직원격려 | C11: E&P/에너지사업본부 현안업무 협의 | D11: 어멍 | E11: 내부임직원 | F11: 카드 | G11: 7명 | H11: 300000
A12: 45741 | B12: 내부회의(협의)및 직원격려 | C12: E&P/에너지사업본부 현안업무 협의 | D12: 일성복집 | E12: 내부임직원 | F12: 카드 | G12: 3명 | H12: 75000
A13: 45743 | B13: 내부회의(협의)및 직원격려 | C13: E&P/에너지사업본부 현안업무 협의 | D13: 돼지영농후계자우정점 | E13: 내부임직원 | F13: 카드 | G13: 9명 | H13: 400000
A14: 45747 | B14: 내부회의(협의)및 직원격려 | C14: E&P/에너지사업본부 현안업무 협의 | D14: 대한축산(한우마루) | E14: 내부임직원 | F14: 카드 | G14: 6명 | H14: 120000
B15: 계 | C15: =COUNTA(C6:C14)&"건" -> 9건 | D15: - | F15: 카드 9건 | G15: - | H15: =SUM(H6:H14) -> 1244300

Sheet 4월
A1: 2025년 4월 업무추진비 집행내역
A2: □ 집행자 : E&P/에너지사업본부장
A4: 사용일자 | B4: 집행내역 (목 적) | D4: 사용처(장소) | E4: 집행대상자 | F4: 집행구분 | G4: 인원(명) | H4: 집행금액(원)
B5: 구분 | C5: 내역
A6: 45749 | B6: 내부회의(협의)및 직원격려 | C6: E&P/에너지사업본부 현안업무 협의 | D6: 일성복집 | E6: 내부임직원 | F6: 카드 | G6: 3명 | H6: 100000
A7: 45755 | B7: 내부회의(협의)및 직원격려 | C7: E&P/에너지사업본부 현안업무 협의 | D7: 서강 | E7: 내부임직원 | F7: 카드 | G7: 3명 | H7: 70000
A8: 45756 | B8: 내부회의(협의)및 직원격려 | C8: E&P/에너지사업본부 현안업무 협의 | D8: 머스트커피 | E8: 내부임직원 | F8: 카드 | G8: 4명 | H8: 26500
A9: 45769 | B9: 내부회의(협의)및 직원격려 | C9: E&P/에너지사업본부 현안업무 협의 | D9: 굴촌풍경채 | E9: 내부임직원 | F9: 카드 | G9: 4명 | H9: 74000
A10: 45770 | B10: 내부회의(협의)및 직원격려 | C10: E&P/에너지사업본부 현안업무 협의 | D10: 교동국수 | E10: 내부임직원 | F10: 카드 | G10: 5명 | H10: 51000
A11: 45771 | B11: 내부회의(협의)및 직원격려 | C11: E&P/에너지사업본부 현안업무 협의 | D11: (주)커피빈코리아 서울스퀘어점 | E11: 내부임직원 | F11: 카드 | G11: 4명 | H11: 23200
A12: 45777 | B12: 내부회의(협의)및 직원격려 | C12: E&P/에너지사업본부 현안업무 협의 | D12: 서강 | E12: 내부임직원 | F12: 카드 | G12: 5명 | H12: 83000
B13: 계 | C13: =COUNTA(C6:C12)&"건" -> 7건 | D13: - | F13: 카드 7건 | G13: - | H13: =SUM(H6:H12) -> 427700

Sheet 5월
A1: 2025년 5월 업무추진비 집행내역
A2: □ 집행자 : E&P/에너지사업본부장
A4: 사용일자 | B4: 집행내역 (목 적) | D4: 사용처(장소) | E4: 집행대상자 | F4: 집행구분 | G4: 인원(명) | H4: 집행금액(원)
B5: 구분 | C5: 내역
A6: 45779 | B6: 내부회의(협의)및 직원격려 | C6: E&P/에너지사업본부 현안업무 협의 | D6: 일성복집 | E6: 내부임직원 | F6: 카드 | G6: 3명 | H6: 80000
A7: 45785 | B7: 내부회의(협의)및 직원격려 | C7: E&P/에너지사업본부 현안업무 협의 | D7: 일성복집 | E7: 내부임직원 | F7: 카드 | G7: 3명 | H7: 75000
A8: 45790 | B8: 내부회의(협의)및 직원격려 | C8: E&P/에너지사업본부 현안업무 협의 | D8: 행복쌀국수 | E8: 내부임직원 | F8: 카드 | G8: 4명 | H8: 94000
A9: 45790 | B9: 내부회의(협의)및 직원격려 | C9: E&P/에너지사업본부 현안업무 협의 | D9: 아지야 | E9: 내부임직원 | F9: 카드 | G9: 4명 | H9: 165000
A10: 45793 | B10: 내부회의(협의)및 직원격려 | C10: E&P/에너지사업본부 현안업무 협의 | D10: 일성복집 | E10: 내부임직원 | F10: 카드 | G10: 5명 | H10: 90000
B11: 계 | C11: =COUNTA(C6:C10)&"건" -> 5건 | D11: - | F11: 카드 5건 | G11: - | H11: =SUM(H6:H10) -> 504000

Sheet 6월
A1: 2025년 6월 업무추진비 집행내역
A2: □ 집행자 : E&P/에너지사업본부장
A4: 사용일자 | B4: 집행내역 (목 적) | D4: 사용처(장소) | E4: 집행대상자 | F4: 집행구분 | G4: 인원(명) | H4: 집행금액(원)
B5: 구분 | C5: 내역
A6: 45810 | B6: 내부회의(협의)및 직원격려 | C6: E&P/에너지사업본부 현안업무 협의 | D6: 미가현영천한우 | E6: 내부임직원 | F6: 카드 | G6: 6명 | H6: 300000
A7: 45813 | B7: 내부회의(협의)및 직원격려 | C7: E&P/에너지사업본부 현안업무 협의 | D7: 밀양시골밥상 | E7: 내부임직원 | F7: 카드 | G7: 3명 | H7: 37000
A8: 45817 | B8: 내부회의(협의)및 직원격려 | C8: E&P/에너지사업본부 현안업무 협의 | D8: 59참숯구이 혁신직영점 | E8: 내부임직원 | F8: 카드 | G8: 8명 | H8: 300000
A9: 45819 | B9: 내부회의(협의)및 직원격려 | C9: E&P/에너지사업본부 현안업무 협의 | D9: 서강 | E9: 내부임직원 | F9: 카드 | G9: 3명 | H9: 70000
A10: 45821 | B10: 내부회의(협의)및 직원격려 | C10: E&P/에너지사업본부 현안업무 협의 | D10: 카페함월 | E10: 내부임직원 | F10: 카드 | G10: 2명 | H10: 9800
A11: 45821 | B11: 내부회의(협의)및 직원격려 | C11: E&P/에너지사업본부 현안업무 협의 | D11: 일성복집 | E11: 내부임직원 | F11: 카드 | G11: 4명 | H11: 40000
A12: 45825 | B12: 내부회의(협의)및 직원격려 | C12: E&P/에너지사업본부 현안업무 협의 | D12: 애프터룸스 | E12: 내부임직원 | F12: 카드 | G12: 3명 | H12: 17500
A13: 45825 | B13: 내부회의(협의)및 직원격려 | C13: E&P/에너지사업본부 현안업무 협의 | D13: 미가현영천한우 | E13: 내부임직원 | F13: 카드 | G13: 6명 | H13: 290000
A14: 45825 | B14: 내부회의(협의)및 직원격려 | C14: E&P/에너지사업본부 현안업무 협의 | D14: 미스사이공 | E14: 내부임직원 | F14: 카드 | G14: 4명 | H14: 36800
A15: 45827 | B15: 내부회의(협의)및 직원격려 | C15: E&P/에너지사업본부 현안업무 협의 | D15: 엘스로스터리 | E15: 내부임직원 | F15: 카드 | G15: 4명 | H15: 15000
A16: 45834 | B16: 내부회의(협의)및 직원격려 | C16: E&P/에너지사업본부 현안업무 협의 | D16: 용문 | E16: 내부임직원 | F16: 카드 | G16: 7명 | H16: 190000
A17: 45838 | B17: 내부회의(협의)및 직원격려 | C17: E&P/에너지사업본부 현안업무 협의 | D17: 미가현영천한우 | E17: 내부임직원 | F17: 카드 | G17: 7명 | H17: 350000
B18: 계 | C18: =COUNTA(C6:C17)&"건" -> 12건 | D18: - | F18: 카드 12건 | G18: - | H18: =SUM(H6:H17) -> 1656100

Sheet 7월
A1: 2025년 7월 업무추진비 집행내역
A2: □ 집행자 : E&P/에너지사업본부장
A4: 사용일자 | B4: 집행내역 (목 적) | D4: 사용처(장소) | E4: 집행대상자 | F4: 집행구분 | G4: 인원(명) | H4: 집행금액(원)
B5: 구분 | C5: 내역
A6: 45840 | B6: 내부회의(협의)및 직원격려 | C6: E&P/에너지사업본부 현안업무 협의 | D6: 애프터룸스 | E6: 내부임직원 | F6: 카드 | G6: 2명 | H6: 20000
A7: 45840 | B7: 내부회의(협의)및 직원격려 | C7: E&P/에너지사업본부 현안업무 협의 | D7: 서강 | E7: 내부임직원 | F7: 카드 | G7: 4명 | H7: 83000
A8: 45845 | B8: 내부회의(협의)및 직원격려 | C8: E&P/에너지사업본부 현안업무 협의 | D8: 도쿄참치 | E8: 내부임직원 | F8: 카드 | G8: 6명 | H8: 190000
A9: 45846 | B9: 내부회의(협의)및 직원격려 | C9: E&P/에너지사업본부 현안업무 협의 | D9: 가야밀면갈비탕 | E9: 내부임직원 | F9: 카드 | G9: 5명 | H9: 78000
A10: 45867 | B10: 내부회의(협의)및 직원격려 | C10: E&P/에너지사업본부 현안업무 협의 | D10: 엘스로스터리 | E10: 내부임직원 | F10: 카드 | G10: 2명 | H10: 10500
A11: 45867 | B11: 내부회의(협의)및 직원격려 | C11: E&P/에너지사업본부 현안업무 협의 | D11: 달삼로72번길바닷집 | E11: 내부임직원 | F11: 카드 | G11: 7명 | H11: 300000
A12: 45868 | B12: 내부회의(협의)및 직원격려 | C12: E&P/에너지사업본부 현안업무 협의 | D12: 투썸플레이스 울산성안달빛점 | E12: 내부임직원 | F12: 카드 | G12: 3명 | H12: 32700
A13: 45868 | B13: 내부회의(협의)및 직원격려 | C13: E&P/에너지사업본부 현안업무 협의 | D13: 가리명가 본점 | E13: 내부임직원 | F13: 카드 | G13: 4명 | H13: 48000
B14: 계 | C14: =COUNTA(C6:C13)&"건" -> 8건 | D14: - | F14: 카드 8건 | G14: - | H14: =SUM(H6:H13) -> 762200

Sheet 8월
A1: 2025년 8월 업무추진비 집행내역
A2: □ 집행자 : E&P/에너지사업본부장
A4: 사용일자 | B4: 집행내역 (목 적) | D4: 사용처(장소) | E4: 집행대상자 | F4: 집행구분 | G4: 인원(명) | H4: 집행금액(원)
B5: 구분 | C5: 내역
A6: 45870 | B6: 내부회의(협의)및 직원격려 | C6: E&P/에너지사업본부 현안업무 협의 | D6: 던킨서울역트윈시티점 | E6: 내부임직원 | F6: 카드 | G6: 5명 | H6: 24600
A7: 45870 | B7: 내부회의(협의)및 직원격려 | C7: E&P/에너지사업본부 현안업무 협의 | D7: 던킨서울역트윈시티점 | E7: 내부임직원 | F7: 카드 | G7: 3명 | H7: 7800
A8: 45874 | B8: 내부회의(협의)및 직원격려 | C8: E&P/에너지사업본부 현안업무 협의 | D8: 영광횟집 | E8: 내부임직원 | F8: 카드 | G8: 3명 | H8: 60000
A9: 45874 | B9: 내부회의(협의)및 직원격려 | C9: E&P/에너지사업본부 현안업무 협의 | D9: 이디야커피울산우정중앙점 | E9: 내부임직원 | F9: 카드 | G9: 2명 | H9: 9600
A10: 45876 | B10: 내부회의(협의)및 직원격려 | C10: E&P/에너지사업본부 현안업무 협의 | D10: 디디스본점 | E10: 내부임직원 | F10: 카드 | G10: 5명 | H10: 91600
A11: 45877 | B11: 내부회의(협의)및 직원격려 | C11: E&P/에너지사업본부 현안업무 협의 | D11: 엘스로스터리 | E11: 내부임직원 | F11: 카드 | G11: 3명 | H11: 21000
A12: 45877 | B12: 내부회의(협의)및 직원격려 | C12: E&P/에너지사업본부 현안업무 협의 | D12: 가야밀면갈비탕 | E12: 내부임직원 | F12: 카드 | G12: 5명 | H12: 60000
A13: 45890 | B13: 내부회의(협의)및 직원격려 | C13: E&P/에너지사업본부 현안업무 협의 | D13: 돼지영농후계자우정점 | E13: 내부임직원 | F13: 카드 | G13: 8명 | H13: 290000
A14: 45896 | B14: 내부회의(협의)및 직원격려 | C14: E&P/에너지사업본부 현안업무 협의 | D14: 손가 | E14: 내부임직원 | F14: 카드 | G14: 4명 | H14: 75000
B15: 계 | C15: =COUNTA(C6:C14)&"건" -> 9건 | D15: - | F15: 카드 8건 | G15: - | H15: =SUM(H6:H14) -> 639600

Sheet 9월
A1: 2025년 9월 업무추진비 집행내역
A2: □ 집행자 : E&P/에너지사업본부장
A4: 사용일자 | B4: 집행내역 (목 적) | D4: 사용처(장소) | E4: 집행대상자 | F4: 집행구분 | G4: 인원(명) | H4: 집행금액(원)
B5: 구분 | C5: 내역
A6: 45903 | B6: 내부회의(협의)및 직원격려 | C6: E&P/에너지사업본부 현안업무 협의 | D6: 대한축산(한우마루) | E6: 내부임직원 | F6: 카드 | G6: 4명 | H6: 135800
A7: 45903 | B7: 내부회의(협의)및 직원격려 | C7: E&P/에너지사업본부 현안업무 협의 | D7: 카페함월 | E7: 내부임직원 | F7: 카드 | G7: 3명 | H7: 30300
A8: 45903 | B8: 내부회의(협의)및 직원격려 | C8: E&P/에너지사업본부 현안업무 협의 | D8: 가리명가 본점 | E8: 내부임직원 | F8: 카드 | G8: 5명 | H8: 48000
A9: 45905 | B9: 내부회의(협의)및 직원격려 | C9: E&P/에너지사업본부 현안업무 협의 | D9: 던킨서울역트윈시티점 | E9: 내부임직원 | F9: 카드 | G9: 4명 | H9: 19600
A10: 45910 | B10: 내부회의(협의)및 직원격려 | C10: E&P/에너지사업본부 현안업무 협의 | D10: 마시코태화강국가정원점 | E10: 내부임직원 | F10: 카드 | G10: 6명 | H10: 60000
A11: 45916 | B11: 내부회의(협의)및 직원격려 | C11: E&P/에너지사업본부 현안업무 협의 | D11: 교촌치킨우정점 | E11: 내부임직원 | F11: 카드 | G11: 8명 | H11: 220000
A12: 45918 | B12: 내부회의(협의)및 직원격려 | C12: E&P/에너지사업본부 현안업무 협의 | D12: 미가현영천한우 | E12: 내부임직원 | F12: 카드 | G12: 8명 | H12: 395000
B13: 계 | C13: =COUNTA(C6:C12)&"건" -> 7건 | D13: - | F13: 카드 7건 | G13: - | H13: =SUM(H6:H12) -> 908700

Sheet 10월
A1: 2025년 10월 업무추진비 집행내역
A2: □ 집행자 : E&P/에너지사업본부장
A4: 사용일자 | B4: 집행내역 (목 적) | D4: 사용처(장소) | E4: 집행대상자 | F4: 집행구분 | G4: 인원(명) | H4: 집행금액(원)
B5: 구분 | C5: 내역
A6: 45940 | B6: 내부회의(협의)및 직원격려 | C6: E&P/에너지사업본부 현안업무 협의 | D6: 카페함월 | E6: 내부임직원 | F6: 카드 | G6: 4명 | H6: 16300
A7: 45940 | B7: 내부회의(협의)및 직원격려 | C7: E&P/에너지사업본부 현안업무 협의 | D7: 가리명가 본점 | E7: 내부임직원 | F7: 카드 | G7: 4명 | H7: 36000
A8: 45940 | B8: 내부회의(협의)및 직원격려 | C8: E&P/에너지사업본부 현안업무 협의 | D8: 돼지영농후계자우정점 | E8: 내부임직원 | F8: 카드 | G8: 5명 | H8: 95000
A9: 45944 | B9: 내부회의(협의)및 직원격려 | C9: E&P/에너지사업본부 현안업무 협의 | D9: 돼지영농후계자우정점 | E9: 내부임직원 | F9: 카드 | G9: 12명 | H9: 170000
A10: 45946 | B10: 내부회의(협의)및 직원격려 | C10: E&P/에너지사업본부 현안업무 협의 | D10: 홍익궁중전통육개장울산우정혁신점 | E10: 내부임직원 | F10: 카드 | G10: 5명 | H10: 51000
A11: 45946 | B11: 내부회의(협의)및 직원격려 | C11: E&P/에너지사업본부 현안업무 협의 | D11: 다우너커피 본점(DOWNER COFFEE) | E11: 내부임직원 | F11: 카드 | G11: 4명 | H11: 16600
A12: 45947 | B12: 내부회의(협의)및 직원격려 | C12: E&P/에너지사업본부 현안업무 협의 | D12: 미가현영천한우 | E12: 내부임직원 | F12: 카드 | G12: 5명 | H12: 290000
A13: 45949 | B13: 내부회의(협의)및 직원격려 | C13: E&P/에너지사업본부 현안업무 협의 | D13: 주)강원랜드 | E13: 내부임직원 | F13: 카드 | G13: 4명 | H13: 28000
A14: 45951 | B14: 내부회의(협의)및 직원격려 | C14: E&P/에너지사업본부 현안업무 협의 | D14: 찬이네가마솥감자탕 | E14: 내부임직원 | F14: 카드 | G14: 5명 | H14: 46000
A15: 45951 | B15: 내부회의(협의)및 직원격려 | C15: E&P/에너지사업본부 현안업무 협의 | D15: 돼지영농후계자우정점 | E15: 내부임직원 | F15: 카드 | G15: 12명 | H15: 277000
A16: 45953 | B16: 내부회의(협의)및 직원격려 | C16: E&P/에너지사업본부 현안업무 협의 | D16: 홍익궁중전통육개장울산우정혁신점 | E16: 내부임직원 | F16: 카드 | G16: 5명 | H16: 51000
A17: 45953 | B17: 내부회의(협의)및 직원격려 | C17: E&P/에너지사업본부 현안업무 협의 | D17: 마시코태화강국가정원점 | E17: 내부임직원 | F17: 카드 | G17: 9명 | H17: 90000
... A19: 45958 | B19: 내부회의(협의)및 직원격려 | C19: E&P/에너지사업본부 현안업무 협의 | D19: 명사촌 | E19: 내부임직원 | F19: 카드 | G19: 8명 | H19: 460000
B20: 계 | C20: =COUNTA(C6:C19)&"건" -> 14건 | D20: - | F20: 카드 14건 | G20: - | H20: =SUM(H6:H19) -> 1642100

Sheet 11월
A1: 2025년 11월 업무추진비 집행내역
A2: □ 집행자 : E&P/에너지사업본부장
A4: 사용일자 | B4: 집행내역 (목 적) | D4: 사용처(장소) | E4: 집행대상자 | F4: 집행구분 | G4: 인원(명) | H4: 집행금액(원)
B5: 구분 | C5: 내역
A6: 45972 | B6: 내부회의(협의)및 직원격려 | C6: E&P/에너지사업본부 현안업무 협의 | D6: 명사촌 | E6: 내부임직원 | F6: 카드 | G6: 4명 | H6: 255000
A7: 45980 | B7: 내부회의(협의)및 직원격려 | C7: E&P/에너지사업본부 현안업무 협의 | D7: 애프터룸스 | E7: 내부임직원 | F7: 카드 | G7: 4명 | H7: 18000
A8: 45981 | B8: 내부회의(협의)및 직원격려 | C8: E&P/에너지사업본부 현안업무 협의 | D8: 미강식당 | E8: 내부임직원 | F8: 카드 | G8: 5명 | H8: 39000
B9: 계 | C9: =COUNTA(C6:C8)&"건" -> 3건 | D9: - | F9: 카드 3건 | G9: - | H9: =SUM(H6:H8) -> 312000

Sheet 12월
A1: 2025년 12월 업무추진비 집행내역
A2: □ 집행자 : E&P/에너지사업본부장
A4: 사용일자 | B4: 집행내역 (목 적) | D4: 사용처(장소) | E4: 집행대상자 | F4: 집행구분 | G4: 인원(명) | H4: 집행금액(원)
B5: 구분 | C5: 내역
A6: 45994 | B6: 내부회의(협의)및 직원격려 | C6: E&P/에너지사업본부 현안업무 협의 | D6: 마시코태화강국가정원점 | E6: 내부임직원 | F6: 카드 | G6: 4명 | H6: 60000
A7: 45999 | B7: 내부회의(협의)및 직원격려 | C7: E&P/에너지사업본부 현안업무 협의 | D7: 울산몽블랑커피 | E7: 내부임직원 | F7: 카드 | G7: 4명 | H7: 19600
A8: 46002 | B8: 내부회의(협의)및 직원격려 | C8: E&P/에너지사업본부 현안업무 협의 | D8: 미가현영천한우 | E8: 내부임직원 | F8: 카드 | G8: 8명 | H8: 398000
A9: 46006 | B9: 내부회의(협의)및 직원격려 | C9: E&P/에너지사업본부 현안업무 협의 | D9: 대한축산(한우마루) | E9: 내부임직원 | F9: 카드 | G9: 4명 | H9: 215000
A10: 46006 | B10: 내부회의(협의)및 직원격려 | C10: E&P/에너지사업본부 현안업무 협의 | D10: 굴촌풍경채 | E10: 내부임직원 | F10: 카드 | G10: 3명 | H10: 51000
B11: 계 | C11: =COUNTA(C6:C10)&"건" -> 5건 | D11: - | F11: 카드 5건 | G11: - | H11: =SUM(H6:H10) -> 743600 | O11: `

Sheet 총괄
B2: 구분 | C2: 금액 | D2: 누적합계
B3: 1월 | C3: 0
B4: 2월 | C4: ='2월'!H6+'2월'!H7+'2월'!H8 -> 359500 | D4: =C3+C4 -> 359500
B5: 3월 | C5: ='3월'!H6+'3월'!H7+'3월'!H8+'3월'!H9+'3월'!H10+'3월'!H11+'3월'!H12+'3월'!H13+'3월'!H14 -> 1244300 | D5: =D4+C5 -> 1603800
B6: 4월 | C6: 427700 | D6: =D5+C6 -> 2031500
B7: 5월 | C7: ='5월'!H6+'5월'!H7+'5월'!H8+'5월'!H9+'5월'!H10 -> 504000 | D7: =D6+C7 -> 2535500
B8: 6월 | C8: ='6월'!H6+'6월'!H7+'6월'!H8+'6월'!H9+'6월'!H10+'6월'!H11+'6월'!H12+'6월'!H13+'6월'!H14+'6월'!H15+'6월'!H16+'6월'!H17 -> 1656100 | D8: =D7+C8 -> 4191600
B9: 7월 | C9: ='7월'!H6+'7월'!H7+'7월'!H8+'7월'!H9+'7월'!H10+'7월'!H11+'7월'!H12+'7월'!H13 -> 762200 | D9: =D8+C9 -> 4953800
B10: 8월 | C10: ='8월'!H6+'8월'!H7+'8월'!H8+'8월'!H9+'8월'!H10+'8월'!H11+'8월'!H12+'8월'!H13+'8월'!H14 -> 639600 | D10: =D9+C10 -> 5593400
B11: 9월 | C11: ='9월'!H6+'9월'!H7+'9월'!H8+'9월'!H9+'9월'!H10+'9월'!H11+'9월'!H12 -> 908700 | D11: =D10+C11 -> 6502100
B12: 10월 | C12: ='10월'!H6+'10월'!H7+'10월'!H8+'10월'!H9+'10월'!H10+'10월'!H12+'10월'!H11+'10월'!H13+'10월'!H14+'10월'!H15+'10월'!H16+'10월'!H17+'10월'!H18+'10월'!H19 -> 1642100 | D12: =D11+C12 -> 8144200
B13: 11월 | C13: ='11월'!H6+'11월'!H7+'11월'!H8 -> 312000 | D13: =D12+C13 -> 8456200
B14: 12월 | C14: ='12월'!H6+'12월'!H7+'12월'!H8+'12월'!H9+'12월'!H10 -> 743600 | D14: =D13+C14 -> 9199800
